BEGIN:VCALENDAR
VERSION:2.0
PRODID:-//The Ardmore Family YMCA - ECPv6.3.0//NONSGML v1.0//EN
CALSCALE:GREGORIAN
METHOD:PUBLISH
X-ORIGINAL-URL:https://www.ardmorefamilyymca.org
X-WR-CALDESC:Events for The Ardmore Family YMCA
REFRESH-INTERVAL;VALUE=DURATION:PT1H
X-Robots-Tag:noindex
X-PUBLISHED-TTL:PT1H
BEGIN:VTIMEZONE
TZID:UTC
BEGIN:STANDARD
TZOFFSETFROM:+0000
TZOFFSETTO:+0000
TZNAME:UTC
DTSTART:20220101T000000
END:STANDARD
END:VTIMEZONE
BEGIN:VEVENT
DTSTART;VALUE=DATE:20220926
DTEND;VALUE=DATE:20221003
DTSTAMP:20260419T211911
CREATED:20220913T024058Z
LAST-MODIFIED:20220913T024058Z
UID:15641-1664150400-1664755199@www.ardmorefamilyymca.org
SUMMARY:MYZONE ON THE MOVE - Studio 2
DESCRIPTION:Try myzone in studio 2
URL:https://www.ardmorefamilyymca.org/event/myzone-on-the-move-studio-2/
ATTACH;FMTTYPE=image/jpeg:https://www.ardmorefamilyymca.org/wp-content/uploads/2022/09/Myzone-on-the-move-title.jpg
END:VEVENT
BEGIN:VEVENT
DTSTART;VALUE=DATE:20221003
DTEND;VALUE=DATE:20221010
DTSTAMP:20260419T211911
CREATED:20220913T024151Z
LAST-MODIFIED:20220913T024151Z
UID:15643-1664755200-1665359999@www.ardmorefamilyymca.org
SUMMARY:MYZONE ON THE MOVE - Pools
DESCRIPTION:Try myzone in the pool
URL:https://www.ardmorefamilyymca.org/event/myzone-on-the-move-pools/
ATTACH;FMTTYPE=image/jpeg:https://www.ardmorefamilyymca.org/wp-content/uploads/2022/09/Myzone-on-the-move-title.jpg
END:VEVENT
BEGIN:VEVENT
DTSTART;TZID=UTC:20221017T153000
DTEND;TZID=UTC:20221017T180000
DTSTAMP:20260419T211911
CREATED:20220913T024852Z
LAST-MODIFIED:20220913T024852Z
UID:15647-1666020600-1666029600@www.ardmorefamilyymca.org
SUMMARY:Winter Swim Team 2022/2023 Begins
DESCRIPTION:Practice times TBA
URL:https://www.ardmorefamilyymca.org/event/winter-swim-team-2022-2023-begins/
ATTACH;FMTTYPE=image/jpeg:https://www.ardmorefamilyymca.org/wp-content/uploads/2022/09/swim-team-2022-scaled.jpg
END:VEVENT
BEGIN:VEVENT
DTSTART;TZID=UTC:20221023T080000
DTEND;TZID=UTC:20221107T200000
DTSTAMP:20260419T211911
CREATED:20221023T195026Z
LAST-MODIFIED:20221023T195026Z
UID:15749-1666512000-1667851200@www.ardmorefamilyymca.org
SUMMARY:Rookie Basketball Signups
DESCRIPTION:Rookie Basketball is for boys and girls preschool to kindergarten (must be 4 by December 31st to play). \nFees:  $35 for members | $55 for nonmembers \nScholarships are available (income verification will be required).  Scholarship deadline is Thursday\, November 3. \nSeason will begin after Thanksgiving.
URL:https://www.ardmorefamilyymca.org/event/rookie-basketball-signups-2/
ATTACH;FMTTYPE=image/png:https://www.ardmorefamilyymca.org/wp-content/uploads/2022/10/Tague-Basketball-1.png
END:VEVENT
BEGIN:VEVENT
DTSTART;TZID=UTC:20221027T173000
DTEND;TZID=UTC:20221027T183000
DTSTAMP:20260419T211911
CREATED:20221025T105511Z
LAST-MODIFIED:20221025T105511Z
UID:15792-1666891800-1666895400@www.ardmorefamilyymca.org
SUMMARY:Zumba Blackout
DESCRIPTION:Join the party on Thursday @ 5:30 PM as we don’t just sweat but GLOW!
URL:https://www.ardmorefamilyymca.org/event/zumba-blackout/
ATTACH;FMTTYPE=image/jpeg:https://www.ardmorefamilyymca.org/wp-content/uploads/2022/10/zumba.jpg
END:VEVENT
BEGIN:VEVENT
DTSTART;TZID=UTC:20221029T081500
DTEND;TZID=UTC:20221029T113000
DTSTAMP:20260419T211911
CREATED:20221021T010640Z
LAST-MODIFIED:20221021T010640Z
UID:15740-1667031300-1667043000@www.ardmorefamilyymca.org
SUMMARY:Fall Fitness Festival
DESCRIPTION:
URL:https://www.ardmorefamilyymca.org/event/fall-fitness-festival/
ATTACH;FMTTYPE=image/jpeg:https://www.ardmorefamilyymca.org/wp-content/uploads/2022/10/i-can-reds.jpg
END:VEVENT
END:VCALENDAR