BEGIN:VCALENDAR
VERSION:2.0
PRODID:-//The Ardmore Family YMCA - ECPv6.3.0//NONSGML v1.0//EN
CALSCALE:GREGORIAN
METHOD:PUBLISH
X-ORIGINAL-URL:https://www.ardmorefamilyymca.org
X-WR-CALDESC:Events for The Ardmore Family YMCA
REFRESH-INTERVAL;VALUE=DURATION:PT1H
X-Robots-Tag:noindex
X-PUBLISHED-TTL:PT1H
BEGIN:VTIMEZONE
TZID:UTC
BEGIN:STANDARD
TZOFFSETFROM:+0000
TZOFFSETTO:+0000
TZNAME:UTC
DTSTART:20220101T000000
END:STANDARD
END:VTIMEZONE
BEGIN:VEVENT
DTSTART;TZID=UTC:20220429T160000
DTEND;TZID=UTC:20220501T160000
DTSTAMP:20260420T120854
CREATED:20220325T200923Z
LAST-MODIFIED:20220325T212034Z
UID:14364-1651248000-1651420800@www.ardmorefamilyymca.org
SUMMARY:Lifeguard Certification
DESCRIPTION:Three day certification.  Must complete prerequisite home study and attend all days to receive certification. \nRegistration deadline is Monday\, April 25th \nClass room dates: \nFriday\, April 29th 4:00 PM -8:00 PM | Saturday\, April 30th 1:00 PM – 4:00 PM | Sunday\, May 1st 9:00 AM – 4:00 PM \nCost is $250 with a $100 reimbursement if you are hired by the Ardmore Family YMCA and employment is maintained for a minimum of 3 months. \nQuestions:  Contact Chelsea Radley @ 580-223-3990 X106 \n 
URL:https://www.ardmorefamilyymca.org/event/lifeguard-certification-2/
ATTACH;FMTTYPE=image/jpeg:https://www.ardmorefamilyymca.org/wp-content/uploads/2022/03/lifeguard-ethnic-2.jpg
END:VEVENT
BEGIN:VEVENT
DTSTART;TZID=UTC:20220509T180000
DTEND;TZID=UTC:20220509T193000
DTSTAMP:20260420T120854
CREATED:20220505T174751Z
LAST-MODIFIED:20220505T174751Z
UID:14595-1652119200-1652124600@www.ardmorefamilyymca.org
SUMMARY:Group Swim Lessons
DESCRIPTION:May 9th – May 19th \nMonday – Thursday Only \n$35 for members \n$55 for nonmembers
URL:https://www.ardmorefamilyymca.org/event/group-swim-lessons/2022-05-09/
ATTACH;FMTTYPE=image/jpeg:https://www.ardmorefamilyymca.org/wp-content/uploads/2021/04/preschool-swim.jpg
END:VEVENT
BEGIN:VEVENT
DTSTART;TZID=UTC:20220516T153000
DTEND;TZID=UTC:20220516T180000
DTSTAMP:20260420T120854
CREATED:20220426T131411Z
LAST-MODIFIED:20220426T131411Z
UID:14562-1652715000-1652724000@www.ardmorefamilyymca.org
SUMMARY:Summer Swim Team Begins
DESCRIPTION:Swim team schedule and levels to be announced after registration is complete.
URL:https://www.ardmorefamilyymca.org/event/summer-swim-team-begins/
ATTACH;FMTTYPE=image/jpeg:https://www.ardmorefamilyymca.org/wp-content/uploads/2022/04/swim-team-2022-scaled.jpg
END:VEVENT
BEGIN:VEVENT
DTSTART;TZID=UTC:20220523T160000
DTEND;TZID=UTC:20220523T193000
DTSTAMP:20260420T120854
CREATED:20220505T175214Z
LAST-MODIFIED:20220505T175214Z
UID:14605-1653321600-1653334200@www.ardmorefamilyymca.org
SUMMARY:Private Swim Lessons
DESCRIPTION:May 23rd – May 27th \nMonday – Friday \n$125 for members \n$150 for nonmembers \nLessons are 30 minutes in length \nLessons begin 4:00 pm.  Last lesson will be at 8:00 PM
URL:https://www.ardmorefamilyymca.org/event/private-swim-lessons-3/2022-05-23/
ATTACH;FMTTYPE=image/webp:https://www.ardmorefamilyymca.org/wp-content/uploads/2022/03/private-swim-lessons.webp
END:VEVENT
END:VCALENDAR