BEGIN:VCALENDAR
VERSION:2.0
PRODID:-//The Ardmore Family YMCA - ECPv6.3.0//NONSGML v1.0//EN
CALSCALE:GREGORIAN
METHOD:PUBLISH
X-ORIGINAL-URL:https://www.ardmorefamilyymca.org
X-WR-CALDESC:Events for The Ardmore Family YMCA
REFRESH-INTERVAL;VALUE=DURATION:PT1H
X-Robots-Tag:noindex
X-PUBLISHED-TTL:PT1H
BEGIN:VTIMEZONE
TZID:UTC
BEGIN:STANDARD
TZOFFSETFROM:+0000
TZOFFSETTO:+0000
TZNAME:UTC
DTSTART:20220101T000000
END:STANDARD
END:VTIMEZONE
BEGIN:VEVENT
DTSTART;TZID=UTC:20220303T050000
DTEND;TZID=UTC:20220407T200000
DTSTAMP:20260420T174952
CREATED:20220228T051734Z
LAST-MODIFIED:20220228T051734Z
UID:14147-1646283600-1649361600@www.ardmorefamilyymca.org
SUMMARY:Blastball\, T-ball\, Fast Pitch & Baseball signups
DESCRIPTION:For ages 3 to 13 ( must turn 3 by May 2022) \n$40 members | $70 nonmembers \nScholarships are due by Monday\, April 4th.
URL:https://www.ardmorefamilyymca.org/event/blastball-t-ball-fast-pitch-baseball-signups/
ATTACH;FMTTYPE=image/png:https://www.ardmorefamilyymca.org/wp-content/uploads/2021/03/1200018411573588.gLBbG5qADYnKXw5dhDPY_height640-1.png
END:VEVENT
BEGIN:VEVENT
DTSTART;TZID=UTC:20220404T154500
DTEND;TZID=UTC:20220404T161500
DTSTAMP:20260420T174952
CREATED:20220330T025117Z
LAST-MODIFIED:20220731T160356Z
UID:14381-1649087100-1649088900@www.ardmorefamilyymca.org
SUMMARY:Teen Weight Room Workout
DESCRIPTION:3:45 PM – 4:15 PM Monday/Thursday \nFor teens 10-14 years of age. \nMust be a Y member \nRegistration required. \n  \n 
URL:https://www.ardmorefamilyymca.org/event/teen-weight-room-workout/2022-04-04/
ATTACH;FMTTYPE=image/png:https://www.ardmorefamilyymca.org/wp-content/uploads/2022/03/teen-training.png
END:VEVENT
BEGIN:VEVENT
DTSTART;TZID=UTC:20220404T160000
DTEND;TZID=UTC:20220404T200000
DTSTAMP:20260420T174952
CREATED:20220322T180716Z
LAST-MODIFIED:20220322T180716Z
UID:14342-1649088000-1649102400@www.ardmorefamilyymca.org
SUMMARY:Private Swim Lessons
DESCRIPTION:Private Swim Lesson \nMonday\, April 4th – Friday\, April 8th \nFive lessons\, 30 minutes in length\, beginning at 4:00 PM with the last lesson at 7:30 – 8:00 PM. \n$125 for members | $150 for nonmembers
URL:https://www.ardmorefamilyymca.org/event/private-swim-lessons-2/2022-04-04/
ATTACH;FMTTYPE=image/jpeg:https://www.ardmorefamilyymca.org/wp-content/uploads/2022/03/swim-lessons-1-scaled.jpg
END:VEVENT
BEGIN:VEVENT
DTSTART;TZID=UTC:20220408T160000
DTEND;TZID=UTC:20220410T160000
DTSTAMP:20260420T174952
CREATED:20220325T195915Z
LAST-MODIFIED:20220325T200221Z
UID:14356-1649433600-1649606400@www.ardmorefamilyymca.org
SUMMARY:Lifeguard Certification
DESCRIPTION:Three day certification.  Must complete prerequisite home study and attend all days to receive certification. \nRegistration deadline is Monday\, April 4th \nClass room dates: \nFriday\, April 8th 4:00 PM -8:00 PM | Saturday\, April 9th 9:00 AM – 4:00 PM | Sunday\, April 10th 1:00 PM – 4:00 PM \nCost is $250 with a $100 reimbursement if you are hired by the Ardmore Family YMCA and employment is maintained for a minimum of 3 months. \nQuestions:  Contact Chelsea Radley @ 580-223-3990 X106 \n 
URL:https://www.ardmorefamilyymca.org/event/lifeguard-certification/
END:VEVENT
BEGIN:VEVENT
DTSTART;TZID=UTC:20220420T100000
DTEND;TZID=UTC:20220420T120000
DTSTAMP:20260420T174952
CREATED:20220325T020226Z
LAST-MODIFIED:20220325T020226Z
UID:14352-1650448800-1650456000@www.ardmorefamilyymca.org
SUMMARY:CPR TRAINING
DESCRIPTION:The Ardmore Family YMCA’s CPR and AED course is designed for individuals who desire\, or are required\, to be certified in CPR training and the use of an AED.  Participants will learn through class discussions\, videos and hands on training.  This is an American Safety & Health Institute approved class and is not intended for healthcare providers or professional rescuers.  Certification is valid for one year. \nThis class is free of charge. \n  \n 
URL:https://www.ardmorefamilyymca.org/event/cpr-training/
ATTACH;FMTTYPE=image/png:https://www.ardmorefamilyymca.org/wp-content/uploads/2021/08/cpr-training-minus-first-aid.png
END:VEVENT
BEGIN:VEVENT
DTSTART;TZID=UTC:20220420T160000
DTEND;TZID=UTC:20220420T180000
DTSTAMP:20260420T174952
CREATED:20220325T222119Z
LAST-MODIFIED:20220325T222119Z
UID:14368-1650470400-1650477600@www.ardmorefamilyymca.org
SUMMARY:Babysitting Certification
DESCRIPTION:AMERICAN SAFETY & HEALTH INSTITUTE (ASHI)   \nCHILD AND BABYSITTING SAFETY COURSE—A BLENEDED E-LEARNING COURSE \n A fun\, fast-paced babysitter’s training course for teens 12 and up.  Learn how to be the best babysitter through engaging activities\, videos and discussions.  Receive a course manual and 2-year ASHI certification card upon completion of the full course.   \nCourse Highlights \n\nBabysitting as a business\nSafety and injury prevention\nLeadership\nPlay time\nBasic caregiving skills\nCPR and first aid techniques\nBest practices for safe and successful babysitting\n\nFEE:  $10  Registration required
URL:https://www.ardmorefamilyymca.org/event/babysitting-certification/
ATTACH;FMTTYPE=image/jpeg:https://www.ardmorefamilyymca.org/wp-content/uploads/2022/03/babysitting-sidebar_01.jpg
END:VEVENT
BEGIN:VEVENT
DTSTART;TZID=UTC:20220428T163000
DTEND;TZID=UTC:20220428T173000
DTSTAMP:20260420T174952
CREATED:20220426T131157Z
LAST-MODIFIED:20220426T131157Z
UID:14559-1651163400-1651167000@www.ardmorefamilyymca.org
SUMMARY:Summer Swim Team Tryouts
DESCRIPTION:Thursday\, April 28th 4:30 – 5:30 PM. \nNew swimmers to the Ardmore Family YMCA only.  Previous swim team members are not required to tryout. \nAges 5-18.  Summer fee = $90
URL:https://www.ardmorefamilyymca.org/event/summer-swim-team-tryouts/
ATTACH;FMTTYPE=image/jpeg:https://www.ardmorefamilyymca.org/wp-content/uploads/2022/04/Swim-3-underwater-scaled-2.jpg
END:VEVENT
BEGIN:VEVENT
DTSTART;TZID=UTC:20220429T160000
DTEND;TZID=UTC:20220501T160000
DTSTAMP:20260420T174952
CREATED:20220325T200923Z
LAST-MODIFIED:20220325T212034Z
UID:14364-1651248000-1651420800@www.ardmorefamilyymca.org
SUMMARY:Lifeguard Certification
DESCRIPTION:Three day certification.  Must complete prerequisite home study and attend all days to receive certification. \nRegistration deadline is Monday\, April 25th \nClass room dates: \nFriday\, April 29th 4:00 PM -8:00 PM | Saturday\, April 30th 1:00 PM – 4:00 PM | Sunday\, May 1st 9:00 AM – 4:00 PM \nCost is $250 with a $100 reimbursement if you are hired by the Ardmore Family YMCA and employment is maintained for a minimum of 3 months. \nQuestions:  Contact Chelsea Radley @ 580-223-3990 X106 \n 
URL:https://www.ardmorefamilyymca.org/event/lifeguard-certification-2/
ATTACH;FMTTYPE=image/jpeg:https://www.ardmorefamilyymca.org/wp-content/uploads/2022/03/lifeguard-ethnic-2.jpg
END:VEVENT
BEGIN:VEVENT
DTSTART;TZID=UTC:20220430T090000
DTEND;TZID=UTC:20220430T120000
DTSTAMP:20260420T174952
CREATED:20220413T022925Z
LAST-MODIFIED:20220424T174359Z
UID:14496-1651309200-1651320000@www.ardmorefamilyymca.org
SUMMARY:Healthy Kids Day!
DESCRIPTION:For 30 years\, Healthy Kids Day has been where fun and play become lifelong memories. Join us April 30 for a day of healthy\, fun activities that celebrate kids being kids! \n\nKids Triathlon (See times below)\nObstacle Course\nBounce House\nPool Treasure Dive\nJump Rope Contests\nPlank Stations\nFun Run\nFamily Yoga (11 AM)\nFireman Photos\nPickleball\nFree Snow Cones (9-11:30 AM)\nBusiness Giveaways\nRaffle Prizes\nSuperheroes\nAND MORE!\n\nKids Triathlon Times \nSwim Times    \n9:15 AM—Ages 6-8 \n9:30 AM-Ages 9-12 \n Obstacle Course \n9:45 AM-Ages 6-8 \n10:00 AM-Ages 9-12 \n Run \n10:15 AM-Ages 6-8 \n10:30 AM-Ages 9-12 \n  \n 
URL:https://www.ardmorefamilyymca.org/event/healthy-kids-day/
ATTACH;FMTTYPE=image/jpeg:https://www.ardmorefamilyymca.org/wp-content/uploads/2022/04/30-years-of-friendship.jpg
END:VEVENT
END:VCALENDAR