BEGIN:VCALENDAR
VERSION:2.0
PRODID:-//The Ardmore Family YMCA - ECPv6.3.0//NONSGML v1.0//EN
CALSCALE:GREGORIAN
METHOD:PUBLISH
X-ORIGINAL-URL:https://www.ardmorefamilyymca.org
X-WR-CALDESC:Events for The Ardmore Family YMCA
REFRESH-INTERVAL;VALUE=DURATION:PT1H
X-Robots-Tag:noindex
X-PUBLISHED-TTL:PT1H
BEGIN:VTIMEZONE
TZID:UTC
BEGIN:STANDARD
TZOFFSETFROM:+0000
TZOFFSETTO:+0000
TZNAME:UTC
DTSTART:20220101T000000
END:STANDARD
END:VTIMEZONE
BEGIN:VEVENT
DTSTART;TZID=UTC:20220303T050000
DTEND;TZID=UTC:20220407T200000
DTSTAMP:20260420T224420
CREATED:20220228T051734Z
LAST-MODIFIED:20220228T051734Z
UID:14147-1646283600-1649361600@www.ardmorefamilyymca.org
SUMMARY:Blastball\, T-ball\, Fast Pitch & Baseball signups
DESCRIPTION:For ages 3 to 13 ( must turn 3 by May 2022) \n$40 members | $70 nonmembers \nScholarships are due by Monday\, April 4th.
URL:https://www.ardmorefamilyymca.org/event/blastball-t-ball-fast-pitch-baseball-signups/
ATTACH;FMTTYPE=image/png:https://www.ardmorefamilyymca.org/wp-content/uploads/2021/03/1200018411573588.gLBbG5qADYnKXw5dhDPY_height640-1.png
END:VEVENT
BEGIN:VEVENT
DTSTART;TZID=UTC:20220314T160000
DTEND;TZID=UTC:20220318T200000
DTSTAMP:20260420T224420
CREATED:20220302T132047Z
LAST-MODIFIED:20220302T132613Z
UID:14227-1647273600-1647633600@www.ardmorefamilyymca.org
SUMMARY:Private Swim Lessons
DESCRIPTION:MONDAY—FRIDAY | MARCH 14th—18th \nLessons will be 30 minutes in length \nPrivate lessons will be held between 4:00 – 8:00 PM \nMembers Fee : $35 for (1) lesson    |    $125 for (5) lessons \nNonmembers Fee:  $55 for (1) lesson  |  $150 for (5) lessons \n  \n  \n 
URL:https://www.ardmorefamilyymca.org/event/private-swim-lessons/2022-03-14/
ATTACH;FMTTYPE=image/webp:https://www.ardmorefamilyymca.org/wp-content/uploads/2022/03/private-swim-lessons.webp
END:VEVENT
BEGIN:VEVENT
DTSTART;TZID=UTC:20220316T100000
DTEND;TZID=UTC:20220316T120000
DTSTAMP:20260420T224420
CREATED:20220223T162111Z
LAST-MODIFIED:20220223T162311Z
UID:14100-1647424800-1647432000@www.ardmorefamilyymca.org
SUMMARY:CPR and AED training
DESCRIPTION:The Ardmore Family YMCA’s CPR and AED course is designed for individuals who desire\, or are required\, to be certified in CPR training and the use of an AED.  Participants will learn through class discussions\, videos and hands on training.  This is an American Safety & Health Institute approved class and is not intended for healthcare providers or professional rescuers.  Certification is valid for one year. \nClass is FREE for members and nonmembers. \nRegistration is required.  Space is limited. \n 
URL:https://www.ardmorefamilyymca.org/event/cpr-and-aed-training-4/
ATTACH;FMTTYPE=image/png:https://www.ardmorefamilyymca.org/wp-content/uploads/2021/08/CPR-Training-graphic-2.png
END:VEVENT
BEGIN:VEVENT
DTSTART;TZID=UTC:20220316T140000
DTEND;TZID=UTC:20220316T160000
DTSTAMP:20260420T224420
CREATED:20220223T064111Z
LAST-MODIFIED:20220223T064344Z
UID:14074-1647439200-1647446400@www.ardmorefamilyymca.org
SUMMARY:Babysitting Training
DESCRIPTION:AMERICAN SAFETY & HEALTH INSTITUTE (ASHI)   \nCHILD AND BABYSITTING SAFETY COURSE—A BLENEDED E-LEARNING COURSE \n A fun\, fast-paced babysitter’s training course for teens 12 and up.  Learn how to be the best babysitter through engaging activities\, videos and discussions.  Receive a course manual and 2-year ASHI certification card upon completion of the full course.   \nCourse Highlights \n\nBabysitting as a business\nSafety and injury prevention\nLeadership\nPlay time\nBasic caregiving skills\nCPR and first aid techniques\nBest practices for safe and successful babysitting\n\nFEE:  $10 \nRegistration required. \n 
URL:https://www.ardmorefamilyymca.org/event/babysitting-training/
ATTACH;FMTTYPE=image/jpeg:https://www.ardmorefamilyymca.org/wp-content/uploads/2022/02/213831-2121x1414-Baby-Sitter-with-Toddler.jpg
END:VEVENT
END:VCALENDAR