BEGIN:VCALENDAR
VERSION:2.0
PRODID:-//The Ardmore Family YMCA - ECPv6.3.0//NONSGML v1.0//EN
CALSCALE:GREGORIAN
METHOD:PUBLISH
X-ORIGINAL-URL:https://www.ardmorefamilyymca.org
X-WR-CALDESC:Events for The Ardmore Family YMCA
REFRESH-INTERVAL;VALUE=DURATION:PT1H
X-Robots-Tag:noindex
X-PUBLISHED-TTL:PT1H
BEGIN:VTIMEZONE
TZID:UTC
BEGIN:STANDARD
TZOFFSETFROM:+0000
TZOFFSETTO:+0000
TZNAME:UTC
DTSTART:20240101T000000
END:STANDARD
END:VTIMEZONE
BEGIN:VEVENT
DTSTART;TZID=UTC:20240430T173000
DTEND;TZID=UTC:20240430T180000
DTSTAMP:20260421T041222
CREATED:20240328T030749Z
LAST-MODIFIED:20240328T030749Z
UID:18453-1714498200-1714500000@www.ardmorefamilyymca.org
SUMMARY:Safety Around Water Swim Lessons (ages 3-5)
DESCRIPTION:For ages 3 year to 5 years\, these lessons are designed to teach children to be secure and confident around the water\, preparing the swimmer in basic water safety to help reduce the risk of drowning.  Skills include safe water habits\, underwater exploration\, and how to swim to safety and exit in the event of falling into a body of water. \nTuesdays and Thursdays 5:30 PM – 6:00 PM \nRegister online by going to the purple banner at the top of our website\, scanning the QR code below\, or registering at the Y front desk. \nMembers:  $40 | Nonmembers:  $60
URL:https://www.ardmorefamilyymca.org/event/safety-around-water-swim-lessons-ages-3-5/2024-04-30/
ATTACH;FMTTYPE=image/jpeg:https://www.ardmorefamilyymca.org/wp-content/uploads/2022/03/swim-lessons-1-scaled.jpg
END:VEVENT
BEGIN:VEVENT
DTSTART;TZID=UTC:20240430T173000
DTEND;TZID=UTC:20240430T190000
DTSTAMP:20260421T041222
CREATED:20240328T025200Z
LAST-MODIFIED:20240328T025200Z
UID:18412-1714498200-1714503600@www.ardmorefamilyymca.org
SUMMARY:Taekwondo
DESCRIPTION:Ages 4-6 @ 5:30 PM \n\nAges 7-12 @ 6:15 PM \n\nInstructor Jason Lee VI degree Black Belt \n\nMember: $35/month Non-member: $50/month
URL:https://www.ardmorefamilyymca.org/event/taekwondo/2024-04-30/
ATTACH;FMTTYPE=image/jpeg:https://www.ardmorefamilyymca.org/wp-content/uploads/2024/03/teakwondo-7.jpg
END:VEVENT
BEGIN:VEVENT
DTSTART;TZID=UTC:20240502T173000
DTEND;TZID=UTC:20240502T180000
DTSTAMP:20260421T041222
CREATED:20240328T015449Z
LAST-MODIFIED:20240328T024039Z
UID:18394-1714671000-1714672800@www.ardmorefamilyymca.org
SUMMARY:Swim Team Prep
DESCRIPTION:Swim Team is a great way to stay active and help your child build self-confidence and team camaraderie. Join our Swim Team Prep Class and help your child develop and refine their swim strokes for the summer swim season. \nTwo sessions and opportunities to join swim team prep: \nApril 16th – April 25th 5:30 – 6:00 PM \nApril 30th – May 9th 5:30-6:00 PM \nTuesday and Thursdays only \n$40 for members | $65 for nonmembers
URL:https://www.ardmorefamilyymca.org/event/swim-team-prep/2024-05-02/
ATTACH;FMTTYPE=image/jpeg:https://www.ardmorefamilyymca.org/wp-content/uploads/2022/09/swim-lessons-5-scaled.jpg
END:VEVENT
BEGIN:VEVENT
DTSTART;TZID=UTC:20240502T173000
DTEND;TZID=UTC:20240502T180000
DTSTAMP:20260421T041222
CREATED:20240328T030749Z
LAST-MODIFIED:20240328T030749Z
UID:18454-1714671000-1714672800@www.ardmorefamilyymca.org
SUMMARY:Safety Around Water Swim Lessons (ages 3-5)
DESCRIPTION:For ages 3 year to 5 years\, these lessons are designed to teach children to be secure and confident around the water\, preparing the swimmer in basic water safety to help reduce the risk of drowning.  Skills include safe water habits\, underwater exploration\, and how to swim to safety and exit in the event of falling into a body of water. \nTuesdays and Thursdays 5:30 PM – 6:00 PM \nRegister online by going to the purple banner at the top of our website\, scanning the QR code below\, or registering at the Y front desk. \nMembers:  $40 | Nonmembers:  $60
URL:https://www.ardmorefamilyymca.org/event/safety-around-water-swim-lessons-ages-3-5/2024-05-02/
ATTACH;FMTTYPE=image/jpeg:https://www.ardmorefamilyymca.org/wp-content/uploads/2022/03/swim-lessons-1-scaled.jpg
END:VEVENT
BEGIN:VEVENT
DTSTART;TZID=UTC:20240503T160000
DTEND;TZID=UTC:20240503T200000
DTSTAMP:20260421T041222
CREATED:20240411T000016Z
LAST-MODIFIED:20240411T001532Z
UID:18549-1714752000-1714766400@www.ardmorefamilyymca.org
SUMMARY:CLASS 2:  Lifeguard Certification
DESCRIPTION:Must be 16 to apply. \nClass fee $150.  $75 reimbursement if hired by Ardmore Family YMCA and employment is maintained for a minimum of 3 months. \nMust attend entire training to certify. \nFor more details contact Brooklynn McKenzie\, Ardmore Y Aquatics Director at 580-223-3990. \nTraining does not guarantee employment at the Y. \nCLASS 2:  Friday\, May 3rd 4:00 – 8:00 PM | Saturday\, May 4th  8:00 -5:00 PM | Sunday\, May 5th  8:00 – 5:00 PM | Monday\, May 6th  4:00 – 8:00 PM
URL:https://www.ardmorefamilyymca.org/event/class-2-lifeguard-certification/2024-05-03/
ATTACH;FMTTYPE=image/jpeg:https://www.ardmorefamilyymca.org/wp-content/uploads/2024/04/lifeguard-ethnic-e1712793402222.jpg
END:VEVENT
BEGIN:VEVENT
DTSTART;TZID=UTC:20240504T080000
DTEND;TZID=UTC:20240504T170000
DTSTAMP:20260421T041222
CREATED:20240411T000016Z
LAST-MODIFIED:20240411T001533Z
UID:18551-1714809600-1714842000@www.ardmorefamilyymca.org
SUMMARY:CLASS 2:  Lifeguard Certification
DESCRIPTION:Must be 16 to apply. \nClass fee $150.  $75 reimbursement if hired by Ardmore Family YMCA and employment is maintained for a minimum of 3 months. \nMust attend entire training to certify. \nFor more details contact Brooklynn McKenzie\, Ardmore Y Aquatics Director at 580-223-3990. \nTraining does not guarantee employment at the Y. \nCLASS 2:  Friday\, May 3rd 4:00 – 8:00 PM | Saturday\, May 4th  8:00 -5:00 PM | Sunday\, May 5th  8:00 – 5:00 PM | Monday\, May 6th  4:00 – 8:00 PM
URL:https://www.ardmorefamilyymca.org/event/class-2-lifeguard-certification/2024-05-04/
ATTACH;FMTTYPE=image/jpeg:https://www.ardmorefamilyymca.org/wp-content/uploads/2024/04/lifeguard-ethnic-e1712793402222.jpg
END:VEVENT
BEGIN:VEVENT
DTSTART;TZID=UTC:20240505T080000
DTEND;TZID=UTC:20240505T170000
DTSTAMP:20260421T041222
CREATED:20240411T000016Z
LAST-MODIFIED:20240411T001533Z
UID:18552-1714896000-1714928400@www.ardmorefamilyymca.org
SUMMARY:CLASS 2:  Lifeguard Certification
DESCRIPTION:Must be 16 to apply. \nClass fee $150.  $75 reimbursement if hired by Ardmore Family YMCA and employment is maintained for a minimum of 3 months. \nMust attend entire training to certify. \nFor more details contact Brooklynn McKenzie\, Ardmore Y Aquatics Director at 580-223-3990. \nTraining does not guarantee employment at the Y. \nCLASS 2:  Friday\, May 3rd 4:00 – 8:00 PM | Saturday\, May 4th  8:00 -5:00 PM | Sunday\, May 5th  8:00 – 5:00 PM | Monday\, May 6th  4:00 – 8:00 PM
URL:https://www.ardmorefamilyymca.org/event/class-2-lifeguard-certification/2024-05-05/
ATTACH;FMTTYPE=image/jpeg:https://www.ardmorefamilyymca.org/wp-content/uploads/2024/04/lifeguard-ethnic-e1712793402222.jpg
END:VEVENT
BEGIN:VEVENT
DTSTART;TZID=UTC:20240506T160000
DTEND;TZID=UTC:20240506T200000
DTSTAMP:20260421T041222
CREATED:20240411T000016Z
LAST-MODIFIED:20240411T001534Z
UID:18553-1715011200-1715025600@www.ardmorefamilyymca.org
SUMMARY:CLASS 2:  Lifeguard Certification
DESCRIPTION:Must be 16 to apply. \nClass fee $150.  $75 reimbursement if hired by Ardmore Family YMCA and employment is maintained for a minimum of 3 months. \nMust attend entire training to certify. \nFor more details contact Brooklynn McKenzie\, Ardmore Y Aquatics Director at 580-223-3990. \nTraining does not guarantee employment at the Y. \nCLASS 2:  Friday\, May 3rd 4:00 – 8:00 PM | Saturday\, May 4th  8:00 -5:00 PM | Sunday\, May 5th  8:00 – 5:00 PM | Monday\, May 6th  4:00 – 8:00 PM
URL:https://www.ardmorefamilyymca.org/event/class-2-lifeguard-certification/2024-05-06/
ATTACH;FMTTYPE=image/jpeg:https://www.ardmorefamilyymca.org/wp-content/uploads/2024/04/lifeguard-ethnic-e1712793402222.jpg
END:VEVENT
BEGIN:VEVENT
DTSTART;TZID=UTC:20240507T173000
DTEND;TZID=UTC:20240507T180000
DTSTAMP:20260421T041222
CREATED:20240328T015449Z
LAST-MODIFIED:20240328T024039Z
UID:18395-1715103000-1715104800@www.ardmorefamilyymca.org
SUMMARY:Swim Team Prep
DESCRIPTION:Swim Team is a great way to stay active and help your child build self-confidence and team camaraderie. Join our Swim Team Prep Class and help your child develop and refine their swim strokes for the summer swim season. \nTwo sessions and opportunities to join swim team prep: \nApril 16th – April 25th 5:30 – 6:00 PM \nApril 30th – May 9th 5:30-6:00 PM \nTuesday and Thursdays only \n$40 for members | $65 for nonmembers
URL:https://www.ardmorefamilyymca.org/event/swim-team-prep/2024-05-07/
ATTACH;FMTTYPE=image/jpeg:https://www.ardmorefamilyymca.org/wp-content/uploads/2022/09/swim-lessons-5-scaled.jpg
END:VEVENT
BEGIN:VEVENT
DTSTART;TZID=UTC:20240507T173000
DTEND;TZID=UTC:20240507T184000
DTSTAMP:20260421T041222
CREATED:20240422T193535Z
LAST-MODIFIED:20240430T012333Z
UID:18655-1715103000-1715107200@www.ardmorefamilyymca.org
SUMMARY:May Swim Lessons:  Session One
DESCRIPTION:May 7-16th Tuesdays and Thursdays only \nAges 3 -5 years old \nSafety Around Water:  5:30 – 6:00 PM or 6:10 – 6:40 PM \n  \nAges 6+ \nLevel 1 & 2:  Water Basics:  5:00 – 5:30 PM \nLevel 3:  6:10-6:40 PM \nRegister at the Y front desk or online at https://operations.daxko.com/Online/2013/ProgramsV2/Home.mvc . \nNot sure which level to choose for your child?  Refer to the chart below: \nLesson-Selector
URL:https://www.ardmorefamilyymca.org/event/may-swim-lessons-session-one/2024-05-07/
ATTACH;FMTTYPE=image/jpeg:https://www.ardmorefamilyymca.org/wp-content/uploads/2024/04/438914256_978142317646410_1966405713414259063_n.jpg
END:VEVENT
BEGIN:VEVENT
DTSTART;TZID=UTC:20240507T173000
DTEND;TZID=UTC:20240507T190000
DTSTAMP:20260421T041222
CREATED:20240328T025200Z
LAST-MODIFIED:20240328T025200Z
UID:18413-1715103000-1715108400@www.ardmorefamilyymca.org
SUMMARY:Taekwondo
DESCRIPTION:Ages 4-6 @ 5:30 PM \n\nAges 7-12 @ 6:15 PM \n\nInstructor Jason Lee VI degree Black Belt \n\nMember: $35/month Non-member: $50/month
URL:https://www.ardmorefamilyymca.org/event/taekwondo/2024-05-07/
ATTACH;FMTTYPE=image/jpeg:https://www.ardmorefamilyymca.org/wp-content/uploads/2024/03/teakwondo-7.jpg
END:VEVENT
BEGIN:VEVENT
DTSTART;VALUE=DATE:20240508
DTEND;VALUE=DATE:20240604
DTSTAMP:20260421T041222
CREATED:20240508T044147Z
LAST-MODIFIED:20240508T044147Z
UID:18747-1715126400-1717459199@www.ardmorefamilyymca.org
SUMMARY:Summer Day Camp Registration
DESCRIPTION:Welcome to the Ardmore Family YMCA Summer Day Camp. Our aim for Y summer camp is to create a safe and positive space where your child can continue to learn over the summer break.  Kids will acquire new skills\, form new friendships\, and have tons of fun. They will have the chance to showcase their unique talents in a well-supervised environment\, alongside peers of the same age group.  YMCA summer camp gives children experiences and memories that last a lifetime. \nCAMP DATES: \nMonday\, June 3rd—Friday\, July 26th \nCAMPER AGES: \nBoys and girls 4—11 years of age.  Children are divided into age appropriate activities. \nSTAFF: \nThe staff is chosen based on their good judgment\, maturity\, experience\, and demonstrated ability to interact with children. The YMCA adheres to a 1 to 8 ratio for children aged 4-6 and a 1 to 12 ratio for children aged 7 and above. \nWHAT TO BRING: \n\nSack lunch and a snack\nSwimsuit and towel\nFloaties or a lifejacket (non-swimmers)\nBIG SMILE\n\nACTIVITIES: \n\nThemed week\nObstacle courses\nGym games\nSwimming\nLesMills “Born to Move” Exercise\nArts and crafts\nKids yoga class\nField trips\nTaekwondo\nScavenger hunts\nBowling\nAnd more!\n\n\n\n\n Registration\nMembers\nNonmembers\n\n\nPer Child\n$25\n$35\n\n\nPer Family\n$35\n$45\n\n\n Summer Camp Fees\n\n\nDaily\n$25\n$35\n\n\nWeekly\n$100\n$130
URL:https://www.ardmorefamilyymca.org/event/summer-day-camp-registration/
ATTACH;FMTTYPE=image/jpeg:https://www.ardmorefamilyymca.org/wp-content/uploads/2024/05/DAY-CAMP-FLYER-e1715143271634.jpg
END:VEVENT
BEGIN:VEVENT
DTSTART;TZID=UTC:20240509T173000
DTEND;TZID=UTC:20240509T180000
DTSTAMP:20260421T041222
CREATED:20240328T015449Z
LAST-MODIFIED:20240328T024040Z
UID:18396-1715275800-1715277600@www.ardmorefamilyymca.org
SUMMARY:Swim Team Prep
DESCRIPTION:Swim Team is a great way to stay active and help your child build self-confidence and team camaraderie. Join our Swim Team Prep Class and help your child develop and refine their swim strokes for the summer swim season. \nTwo sessions and opportunities to join swim team prep: \nApril 16th – April 25th 5:30 – 6:00 PM \nApril 30th – May 9th 5:30-6:00 PM \nTuesday and Thursdays only \n$40 for members | $65 for nonmembers
URL:https://www.ardmorefamilyymca.org/event/swim-team-prep/2024-05-09/
ATTACH;FMTTYPE=image/jpeg:https://www.ardmorefamilyymca.org/wp-content/uploads/2022/09/swim-lessons-5-scaled.jpg
END:VEVENT
BEGIN:VEVENT
DTSTART;TZID=UTC:20240509T173000
DTEND;TZID=UTC:20240509T184000
DTSTAMP:20260421T041222
CREATED:20240422T193535Z
LAST-MODIFIED:20240430T012334Z
UID:18656-1715275800-1715280000@www.ardmorefamilyymca.org
SUMMARY:May Swim Lessons:  Session One
DESCRIPTION:May 7-16th Tuesdays and Thursdays only \nAges 3 -5 years old \nSafety Around Water:  5:30 – 6:00 PM or 6:10 – 6:40 PM \n  \nAges 6+ \nLevel 1 & 2:  Water Basics:  5:00 – 5:30 PM \nLevel 3:  6:10-6:40 PM \nRegister at the Y front desk or online at https://operations.daxko.com/Online/2013/ProgramsV2/Home.mvc . \nNot sure which level to choose for your child?  Refer to the chart below: \nLesson-Selector
URL:https://www.ardmorefamilyymca.org/event/may-swim-lessons-session-one/2024-05-09/
ATTACH;FMTTYPE=image/jpeg:https://www.ardmorefamilyymca.org/wp-content/uploads/2024/04/438914256_978142317646410_1966405713414259063_n.jpg
END:VEVENT
BEGIN:VEVENT
DTSTART;TZID=UTC:20240509T180000
DTEND;TZID=UTC:20240509T183000
DTSTAMP:20260421T041222
CREATED:20240328T235356Z
LAST-MODIFIED:20240328T235356Z
UID:18488-1715277600-1715279400@www.ardmorefamilyymca.org
SUMMARY:Swim Team Tryouts
DESCRIPTION:Swim team tryouts are required for swimmers who have never participated in the Ardmore Family YMCA swim team program or have taken a few season off.  This is a quick swim test to see if your swimmer is ready for the team\, or if then need a few more swim lesson or swim team prep to get ready. \n 
URL:https://www.ardmorefamilyymca.org/event/swim-team-tryouts-6/
ATTACH;FMTTYPE=image/jpeg:https://www.ardmorefamilyymca.org/wp-content/uploads/2024/03/Water-Safety-Month-1-scaled.jpg
END:VEVENT
BEGIN:VEVENT
DTSTART;TZID=UTC:20240510T160000
DTEND;TZID=UTC:20240510T200000
DTSTAMP:20260421T041222
CREATED:20240411T000645Z
LAST-MODIFIED:20240411T000959Z
UID:18555-1715356800-1715371200@www.ardmorefamilyymca.org
SUMMARY:CLASS 3:  Lifeguard Certification
DESCRIPTION:Must be 16 to apply. \nClass fee $150.  $75 reimbursement if hired by Ardmore Family YMCA and employment is maintained for a minimum of 3 months. \nMust attend entire training to certify. \nFor more details contact Brooklynn McKenzie\, Ardmore Y Aquatics Director at 580-223-3990. \nTraining does not guarantee employment at the Y. \nCLASS 3:  Friday\, May 10th 4:00 – 8:00 PM | Saturday\, May 11th  8:00 -5:00 PM | Sunday\, May 12th  8:00 – 5:00 PM | Monday\, May 13th 4:00 – 8:00 PM
URL:https://www.ardmorefamilyymca.org/event/class-3-lifeguard-certification/2024-05-10/
ATTACH;FMTTYPE=image/jpeg:https://www.ardmorefamilyymca.org/wp-content/uploads/2024/04/lifeguards-e1712793990126.jpg
END:VEVENT
BEGIN:VEVENT
DTSTART;TZID=UTC:20240510T173000
DTEND;TZID=UTC:20240510T193000
DTSTAMP:20260421T041222
CREATED:20240422T190048Z
LAST-MODIFIED:20240422T190737Z
UID:18649-1715362200-1715369400@www.ardmorefamilyymca.org
SUMMARY:END OF SCHOOL POOL BASH
DESCRIPTION:AGES 8 – 12 YEARS OLD \nPRE-REGISTRATION: Free for members | $5 nonmembers \n(At the door: $5 members | $10 nonmembers) \nGAMES | free PIZZA and ICE CREAM \nBring a towel and dry clothes.- \nFor more information\, contact Brooklynn McKenzie\, Aquatics Director  – 580-223-3990
URL:https://www.ardmorefamilyymca.org/event/end-of-school-pool-bash/
ATTACH;FMTTYPE=image/jpeg:https://www.ardmorefamilyymca.org/wp-content/uploads/2024/04/Instagram-pool-party-bash.jpg
END:VEVENT
BEGIN:VEVENT
DTSTART;TZID=UTC:20240511T080000
DTEND;TZID=UTC:20240511T170000
DTSTAMP:20260421T041222
CREATED:20240411T000645Z
LAST-MODIFIED:20240411T001000Z
UID:18556-1715414400-1715446800@www.ardmorefamilyymca.org
SUMMARY:CLASS 3:  Lifeguard Certification
DESCRIPTION:Must be 16 to apply. \nClass fee $150.  $75 reimbursement if hired by Ardmore Family YMCA and employment is maintained for a minimum of 3 months. \nMust attend entire training to certify. \nFor more details contact Brooklynn McKenzie\, Ardmore Y Aquatics Director at 580-223-3990. \nTraining does not guarantee employment at the Y. \nCLASS 3:  Friday\, May 10th 4:00 – 8:00 PM | Saturday\, May 11th  8:00 -5:00 PM | Sunday\, May 12th  8:00 – 5:00 PM | Monday\, May 13th 4:00 – 8:00 PM
URL:https://www.ardmorefamilyymca.org/event/class-3-lifeguard-certification/2024-05-11/
ATTACH;FMTTYPE=image/jpeg:https://www.ardmorefamilyymca.org/wp-content/uploads/2024/04/lifeguards-e1712793990126.jpg
END:VEVENT
BEGIN:VEVENT
DTSTART;TZID=UTC:20240512T080000
DTEND;TZID=UTC:20240512T170000
DTSTAMP:20260421T041222
CREATED:20240411T000645Z
LAST-MODIFIED:20240411T001000Z
UID:18557-1715500800-1715533200@www.ardmorefamilyymca.org
SUMMARY:CLASS 3:  Lifeguard Certification
DESCRIPTION:Must be 16 to apply. \nClass fee $150.  $75 reimbursement if hired by Ardmore Family YMCA and employment is maintained for a minimum of 3 months. \nMust attend entire training to certify. \nFor more details contact Brooklynn McKenzie\, Ardmore Y Aquatics Director at 580-223-3990. \nTraining does not guarantee employment at the Y. \nCLASS 3:  Friday\, May 10th 4:00 – 8:00 PM | Saturday\, May 11th  8:00 -5:00 PM | Sunday\, May 12th  8:00 – 5:00 PM | Monday\, May 13th 4:00 – 8:00 PM
URL:https://www.ardmorefamilyymca.org/event/class-3-lifeguard-certification/2024-05-12/
ATTACH;FMTTYPE=image/jpeg:https://www.ardmorefamilyymca.org/wp-content/uploads/2024/04/lifeguards-e1712793990126.jpg
END:VEVENT
BEGIN:VEVENT
DTSTART;TZID=UTC:20240513T104500
DTEND;TZID=UTC:20240513T111500
DTSTAMP:20260421T041222
CREATED:20240504T193838Z
LAST-MODIFIED:20240504T193838Z
UID:18723-1715597100-1715598900@www.ardmorefamilyymca.org
SUMMARY:Mommy/Daddy and Me
DESCRIPTION:Accompanied by a parent\, infants and toddlers learn to be comfortable in the water and develop swim readiness skills through fun and confidence-building experiences\, while parents learn about water safety\, drowning prevention\, and the importance of supervision. \nMondays and Wednesdays 10:45 -11:15 AM in the warm water pool \nAges 6 month – 3 years \n$40 members | $60 nonmembers \nRegister at the Y front desk or online at \nhttps://operations.daxko.com/Online/2013/ProgramsV2/Home.mvc
URL:https://www.ardmorefamilyymca.org/event/mommy-daddy-and-me-3/2024-05-13/
ATTACH;FMTTYPE=image/jpeg:https://www.ardmorefamilyymca.org/wp-content/uploads/2023/05/IMG_9497-scaled.jpg
END:VEVENT
BEGIN:VEVENT
DTSTART;TZID=UTC:20240513T160000
DTEND;TZID=UTC:20240513T200000
DTSTAMP:20260421T041222
CREATED:20240411T000645Z
LAST-MODIFIED:20240411T001001Z
UID:18558-1715616000-1715630400@www.ardmorefamilyymca.org
SUMMARY:CLASS 3:  Lifeguard Certification
DESCRIPTION:Must be 16 to apply. \nClass fee $150.  $75 reimbursement if hired by Ardmore Family YMCA and employment is maintained for a minimum of 3 months. \nMust attend entire training to certify. \nFor more details contact Brooklynn McKenzie\, Ardmore Y Aquatics Director at 580-223-3990. \nTraining does not guarantee employment at the Y. \nCLASS 3:  Friday\, May 10th 4:00 – 8:00 PM | Saturday\, May 11th  8:00 -5:00 PM | Sunday\, May 12th  8:00 – 5:00 PM | Monday\, May 13th 4:00 – 8:00 PM
URL:https://www.ardmorefamilyymca.org/event/class-3-lifeguard-certification/2024-05-13/
ATTACH;FMTTYPE=image/jpeg:https://www.ardmorefamilyymca.org/wp-content/uploads/2024/04/lifeguards-e1712793990126.jpg
END:VEVENT
BEGIN:VEVENT
DTSTART;TZID=UTC:20240514T173000
DTEND;TZID=UTC:20240514T184000
DTSTAMP:20260421T041222
CREATED:20240422T193535Z
LAST-MODIFIED:20240430T012334Z
UID:18657-1715707800-1715712000@www.ardmorefamilyymca.org
SUMMARY:May Swim Lessons:  Session One
DESCRIPTION:May 7-16th Tuesdays and Thursdays only \nAges 3 -5 years old \nSafety Around Water:  5:30 – 6:00 PM or 6:10 – 6:40 PM \n  \nAges 6+ \nLevel 1 & 2:  Water Basics:  5:00 – 5:30 PM \nLevel 3:  6:10-6:40 PM \nRegister at the Y front desk or online at https://operations.daxko.com/Online/2013/ProgramsV2/Home.mvc . \nNot sure which level to choose for your child?  Refer to the chart below: \nLesson-Selector
URL:https://www.ardmorefamilyymca.org/event/may-swim-lessons-session-one/2024-05-14/
ATTACH;FMTTYPE=image/jpeg:https://www.ardmorefamilyymca.org/wp-content/uploads/2024/04/438914256_978142317646410_1966405713414259063_n.jpg
END:VEVENT
BEGIN:VEVENT
DTSTART;TZID=UTC:20240514T173000
DTEND;TZID=UTC:20240514T190000
DTSTAMP:20260421T041222
CREATED:20240328T025200Z
LAST-MODIFIED:20240328T025200Z
UID:18414-1715707800-1715713200@www.ardmorefamilyymca.org
SUMMARY:Taekwondo
DESCRIPTION:Ages 4-6 @ 5:30 PM \n\nAges 7-12 @ 6:15 PM \n\nInstructor Jason Lee VI degree Black Belt \n\nMember: $35/month Non-member: $50/month
URL:https://www.ardmorefamilyymca.org/event/taekwondo/2024-05-14/
ATTACH;FMTTYPE=image/jpeg:https://www.ardmorefamilyymca.org/wp-content/uploads/2024/03/teakwondo-7.jpg
END:VEVENT
BEGIN:VEVENT
DTSTART;TZID=UTC:20240515T104500
DTEND;TZID=UTC:20240515T111500
DTSTAMP:20260421T041222
CREATED:20240504T193838Z
LAST-MODIFIED:20240504T193838Z
UID:18725-1715769900-1715771700@www.ardmorefamilyymca.org
SUMMARY:Mommy/Daddy and Me
DESCRIPTION:Accompanied by a parent\, infants and toddlers learn to be comfortable in the water and develop swim readiness skills through fun and confidence-building experiences\, while parents learn about water safety\, drowning prevention\, and the importance of supervision. \nMondays and Wednesdays 10:45 -11:15 AM in the warm water pool \nAges 6 month – 3 years \n$40 members | $60 nonmembers \nRegister at the Y front desk or online at \nhttps://operations.daxko.com/Online/2013/ProgramsV2/Home.mvc
URL:https://www.ardmorefamilyymca.org/event/mommy-daddy-and-me-3/2024-05-15/
ATTACH;FMTTYPE=image/jpeg:https://www.ardmorefamilyymca.org/wp-content/uploads/2023/05/IMG_9497-scaled.jpg
END:VEVENT
BEGIN:VEVENT
DTSTART;TZID=UTC:20240516T173000
DTEND;TZID=UTC:20240516T184000
DTSTAMP:20260421T041222
CREATED:20240422T193535Z
LAST-MODIFIED:20240430T012335Z
UID:18658-1715880600-1715884800@www.ardmorefamilyymca.org
SUMMARY:May Swim Lessons:  Session One
DESCRIPTION:May 7-16th Tuesdays and Thursdays only \nAges 3 -5 years old \nSafety Around Water:  5:30 – 6:00 PM or 6:10 – 6:40 PM \n  \nAges 6+ \nLevel 1 & 2:  Water Basics:  5:00 – 5:30 PM \nLevel 3:  6:10-6:40 PM \nRegister at the Y front desk or online at https://operations.daxko.com/Online/2013/ProgramsV2/Home.mvc . \nNot sure which level to choose for your child?  Refer to the chart below: \nLesson-Selector
URL:https://www.ardmorefamilyymca.org/event/may-swim-lessons-session-one/2024-05-16/
ATTACH;FMTTYPE=image/jpeg:https://www.ardmorefamilyymca.org/wp-content/uploads/2024/04/438914256_978142317646410_1966405713414259063_n.jpg
END:VEVENT
BEGIN:VEVENT
DTSTART;TZID=UTC:20240520T104500
DTEND;TZID=UTC:20240520T111500
DTSTAMP:20260421T041222
CREATED:20240504T193838Z
LAST-MODIFIED:20240504T193838Z
UID:18726-1716201900-1716203700@www.ardmorefamilyymca.org
SUMMARY:Mommy/Daddy and Me
DESCRIPTION:Accompanied by a parent\, infants and toddlers learn to be comfortable in the water and develop swim readiness skills through fun and confidence-building experiences\, while parents learn about water safety\, drowning prevention\, and the importance of supervision. \nMondays and Wednesdays 10:45 -11:15 AM in the warm water pool \nAges 6 month – 3 years \n$40 members | $60 nonmembers \nRegister at the Y front desk or online at \nhttps://operations.daxko.com/Online/2013/ProgramsV2/Home.mvc
URL:https://www.ardmorefamilyymca.org/event/mommy-daddy-and-me-3/2024-05-20/
ATTACH;FMTTYPE=image/jpeg:https://www.ardmorefamilyymca.org/wp-content/uploads/2023/05/IMG_9497-scaled.jpg
END:VEVENT
BEGIN:VEVENT
DTSTART;TZID=UTC:20240521T173000
DTEND;TZID=UTC:20240521T190000
DTSTAMP:20260421T041222
CREATED:20240328T025200Z
LAST-MODIFIED:20240328T025200Z
UID:18415-1716312600-1716318000@www.ardmorefamilyymca.org
SUMMARY:Taekwondo
DESCRIPTION:Ages 4-6 @ 5:30 PM \n\nAges 7-12 @ 6:15 PM \n\nInstructor Jason Lee VI degree Black Belt \n\nMember: $35/month Non-member: $50/month
URL:https://www.ardmorefamilyymca.org/event/taekwondo/2024-05-21/
ATTACH;FMTTYPE=image/jpeg:https://www.ardmorefamilyymca.org/wp-content/uploads/2024/03/teakwondo-7.jpg
END:VEVENT
BEGIN:VEVENT
DTSTART;TZID=UTC:20240522T104500
DTEND;TZID=UTC:20240522T111500
DTSTAMP:20260421T041222
CREATED:20240504T193838Z
LAST-MODIFIED:20240504T193838Z
UID:18727-1716374700-1716376500@www.ardmorefamilyymca.org
SUMMARY:Mommy/Daddy and Me
DESCRIPTION:Accompanied by a parent\, infants and toddlers learn to be comfortable in the water and develop swim readiness skills through fun and confidence-building experiences\, while parents learn about water safety\, drowning prevention\, and the importance of supervision. \nMondays and Wednesdays 10:45 -11:15 AM in the warm water pool \nAges 6 month – 3 years \n$40 members | $60 nonmembers \nRegister at the Y front desk or online at \nhttps://operations.daxko.com/Online/2013/ProgramsV2/Home.mvc
URL:https://www.ardmorefamilyymca.org/event/mommy-daddy-and-me-3/2024-05-22/
ATTACH;FMTTYPE=image/jpeg:https://www.ardmorefamilyymca.org/wp-content/uploads/2023/05/IMG_9497-scaled.jpg
END:VEVENT
BEGIN:VEVENT
DTSTART;TZID=UTC:20240528T173000
DTEND;TZID=UTC:20240528T184000
DTSTAMP:20260421T041222
CREATED:20240422T195643Z
LAST-MODIFIED:20240516T175241Z
UID:18660-1716917400-1716921600@www.ardmorefamilyymca.org
SUMMARY:MAY SWIM LESSONS:  SESSION 2
DESCRIPTION:May 28th – June 6th.   Tuesdays and Thursdays only \nAges 3 -5 years old \nSafety Around Water:  5:30 – 6:00 PM \n  \nAges 6+ \nLevel 1 & 2:  Water Basics:  5:00 – 5:30 PM \nLevel 3:  6:10-6:40 PM \nLevel 4-6:  6:10 – 6:40 PM \nRegister at the Y front desk or online at https://operations.daxko.com/Online/2013/ProgramsV2/Home.mvc . \nNot sure which level to choose for your child?  Refer to the chart below: \nLesson-Selector
URL:https://www.ardmorefamilyymca.org/event/may-swim-lessons-session-2/2024-05-28/
ATTACH;FMTTYPE=image/jpeg:https://www.ardmorefamilyymca.org/wp-content/uploads/2024/04/Water-Safety-Month-1-scaled.jpg
END:VEVENT
BEGIN:VEVENT
DTSTART;TZID=UTC:20240528T173000
DTEND;TZID=UTC:20240528T190000
DTSTAMP:20260421T041222
CREATED:20240328T025200Z
LAST-MODIFIED:20240328T025200Z
UID:18416-1716917400-1716922800@www.ardmorefamilyymca.org
SUMMARY:Taekwondo
DESCRIPTION:Ages 4-6 @ 5:30 PM \n\nAges 7-12 @ 6:15 PM \n\nInstructor Jason Lee VI degree Black Belt \n\nMember: $35/month Non-member: $50/month
URL:https://www.ardmorefamilyymca.org/event/taekwondo/2024-05-28/
ATTACH;FMTTYPE=image/jpeg:https://www.ardmorefamilyymca.org/wp-content/uploads/2024/03/teakwondo-7.jpg
END:VEVENT
END:VCALENDAR