BEGIN:VCALENDAR
VERSION:2.0
PRODID:-//The Ardmore Family YMCA - ECPv6.3.0//NONSGML v1.0//EN
CALSCALE:GREGORIAN
METHOD:PUBLISH
X-ORIGINAL-URL:https://www.ardmorefamilyymca.org
X-WR-CALDESC:Events for The Ardmore Family YMCA
REFRESH-INTERVAL;VALUE=DURATION:PT1H
X-Robots-Tag:noindex
X-PUBLISHED-TTL:PT1H
BEGIN:VTIMEZONE
TZID:UTC
BEGIN:STANDARD
TZOFFSETFROM:+0000
TZOFFSETTO:+0000
TZNAME:UTC
DTSTART:20240101T000000
END:STANDARD
END:VTIMEZONE
BEGIN:VEVENT
DTSTART;TZID=UTC:20240919T170000
DTEND;TZID=UTC:20240919T180000
DTSTAMP:20260421T040818
CREATED:20240912T044059Z
LAST-MODIFIED:20240912T044059Z
UID:19464-1726765200-1726768800@www.ardmorefamilyymca.org
SUMMARY:Teen Weight Room and Conditioning
DESCRIPTION:FOR TEENS 10 TO 14 YEARS OLD \nTUESDAYS & THURSDAYS FROM 5:00 –6:00 PM \nFREE FOR MEMBERS | $30 FOR NONMEMBERS \n  \n 
URL:https://www.ardmorefamilyymca.org/event/teen-weight-room-and-conditioning/2024-09-19/
ATTACH;FMTTYPE=image/jpeg:https://www.ardmorefamilyymca.org/wp-content/uploads/2024/09/2024-Teen-Bootcamp-SEP.jpg
END:VEVENT
BEGIN:VEVENT
DTSTART;TZID=UTC:20240924T170000
DTEND;TZID=UTC:20240924T180000
DTSTAMP:20260421T040818
CREATED:20240912T044059Z
LAST-MODIFIED:20240912T044059Z
UID:19465-1727197200-1727200800@www.ardmorefamilyymca.org
SUMMARY:Teen Weight Room and Conditioning
DESCRIPTION:FOR TEENS 10 TO 14 YEARS OLD \nTUESDAYS & THURSDAYS FROM 5:00 –6:00 PM \nFREE FOR MEMBERS | $30 FOR NONMEMBERS \n  \n 
URL:https://www.ardmorefamilyymca.org/event/teen-weight-room-and-conditioning/2024-09-24/
ATTACH;FMTTYPE=image/jpeg:https://www.ardmorefamilyymca.org/wp-content/uploads/2024/09/2024-Teen-Bootcamp-SEP.jpg
END:VEVENT
BEGIN:VEVENT
DTSTART;TZID=UTC:20240924T173000
DTEND;TZID=UTC:20240924T180000
DTSTAMP:20260421T040818
CREATED:20240912T044944Z
LAST-MODIFIED:20240912T044944Z
UID:19471-1727199000-1727200800@www.ardmorefamilyymca.org
SUMMARY:Swim Team Prep
DESCRIPTION:Perfect class for those interested in trying out for the swim team or for those who want to improve on their stroke abilities. \nages 7+ \nSept 24th – Oct 3rd \nTuesdays & Thursdays \n5:30 -6:00 PM \n$40 Members \n$65 Nonmembers
URL:https://www.ardmorefamilyymca.org/event/swim-team-prep-2/2024-09-24/
ATTACH;FMTTYPE=image/jpeg:https://www.ardmorefamilyymca.org/wp-content/uploads/2024/07/fall-swim-team-prepInstagram-Post-3.jpg
END:VEVENT
BEGIN:VEVENT
DTSTART;TZID=UTC:20240924T173000
DTEND;TZID=UTC:20240924T190000
DTSTAMP:20260421T040818
CREATED:20240328T025200Z
LAST-MODIFIED:20240328T025200Z
UID:18434-1727199000-1727204400@www.ardmorefamilyymca.org
SUMMARY:Taekwondo
DESCRIPTION:Ages 4-6 @ 5:30 PM \n\nAges 7-12 @ 6:15 PM \n\nInstructor Jason Lee VI degree Black Belt \n\nMember: $35/month Non-member: $50/month
URL:https://www.ardmorefamilyymca.org/event/taekwondo/2024-09-24/
ATTACH;FMTTYPE=image/jpeg:https://www.ardmorefamilyymca.org/wp-content/uploads/2024/03/teakwondo-7.jpg
END:VEVENT
BEGIN:VEVENT
DTSTART;TZID=UTC:20240925T101500
DTEND;TZID=UTC:20240925T111500
DTSTAMP:20260421T040818
CREATED:20240912T043533Z
LAST-MODIFIED:20240912T043533Z
UID:19454-1727259300-1727262900@www.ardmorefamilyymca.org
SUMMARY:FIT FOR LIFE 101
DESCRIPTION:
URL:https://www.ardmorefamilyymca.org/event/fit-for-life-101/2024-09-25/
END:VEVENT
BEGIN:VEVENT
DTSTART;TZID=UTC:20240925T111500
DTEND;TZID=UTC:20240925T170000
DTSTAMP:20260421T040818
CREATED:20240912T042617Z
LAST-MODIFIED:20240912T042617Z
UID:19446-1727262900-1727283600@www.ardmorefamilyymca.org
SUMMARY:Pilates Reformer Drop-in Classes
DESCRIPTION:
URL:https://www.ardmorefamilyymca.org/event/pilates-reformer-drop-in-classes/2024-09-25/
END:VEVENT
BEGIN:VEVENT
DTSTART;TZID=UTC:20240926T081500
DTEND;TZID=UTC:20240926T120000
DTSTAMP:20260421T040818
CREATED:20240912T042617Z
LAST-MODIFIED:20240912T042617Z
UID:19447-1727338500-1727352000@www.ardmorefamilyymca.org
SUMMARY:Pilates Reformer Drop-in Classes
DESCRIPTION:
URL:https://www.ardmorefamilyymca.org/event/pilates-reformer-drop-in-classes/2024-09-26/
END:VEVENT
BEGIN:VEVENT
DTSTART;TZID=UTC:20240926T101500
DTEND;TZID=UTC:20240926T110000
DTSTAMP:20260421T040818
CREATED:20240912T042617Z
LAST-MODIFIED:20240912T042617Z
UID:19448-1727345700-1727348400@www.ardmorefamilyymca.org
SUMMARY:Pilates Reformer Drop-in Classes
DESCRIPTION:
URL:https://www.ardmorefamilyymca.org/event/pilates-reformer-drop-in-classes/2024-09-26/3/
END:VEVENT
BEGIN:VEVENT
DTSTART;TZID=UTC:20240926T170000
DTEND;TZID=UTC:20240926T180000
DTSTAMP:20260421T040818
CREATED:20240912T044059Z
LAST-MODIFIED:20240912T044059Z
UID:19466-1727370000-1727373600@www.ardmorefamilyymca.org
SUMMARY:Teen Weight Room and Conditioning
DESCRIPTION:FOR TEENS 10 TO 14 YEARS OLD \nTUESDAYS & THURSDAYS FROM 5:00 –6:00 PM \nFREE FOR MEMBERS | $30 FOR NONMEMBERS \n  \n 
URL:https://www.ardmorefamilyymca.org/event/teen-weight-room-and-conditioning/2024-09-26/
ATTACH;FMTTYPE=image/jpeg:https://www.ardmorefamilyymca.org/wp-content/uploads/2024/09/2024-Teen-Bootcamp-SEP.jpg
END:VEVENT
BEGIN:VEVENT
DTSTART;TZID=UTC:20240926T173000
DTEND;TZID=UTC:20240926T180000
DTSTAMP:20260421T040818
CREATED:20240912T044944Z
LAST-MODIFIED:20240912T044944Z
UID:19472-1727371800-1727373600@www.ardmorefamilyymca.org
SUMMARY:Swim Team Prep
DESCRIPTION:Perfect class for those interested in trying out for the swim team or for those who want to improve on their stroke abilities. \nages 7+ \nSept 24th – Oct 3rd \nTuesdays & Thursdays \n5:30 -6:00 PM \n$40 Members \n$65 Nonmembers
URL:https://www.ardmorefamilyymca.org/event/swim-team-prep-2/2024-09-26/
ATTACH;FMTTYPE=image/jpeg:https://www.ardmorefamilyymca.org/wp-content/uploads/2024/07/fall-swim-team-prepInstagram-Post-3.jpg
END:VEVENT
BEGIN:VEVENT
DTSTART;TZID=UTC:20241001T073000
DTEND;TZID=UTC:20241001T113000
DTSTAMP:20260421T040818
CREATED:20240912T044341Z
LAST-MODIFIED:20240912T044341Z
UID:19468-1727767800-1727782200@www.ardmorefamilyymca.org
SUMMARY:Flu Shots
DESCRIPTION:Flu shots with Mercy Pharmacy Team.  Bring your insurance card\, Medicare\, or Medicaid card.
URL:https://www.ardmorefamilyymca.org/event/flu-shots/
ATTACH;FMTTYPE=image/jpeg:https://www.ardmorefamilyymca.org/wp-content/uploads/2024/09/Flu-Shot-Instagram-Post-1.jpg
END:VEVENT
BEGIN:VEVENT
DTSTART;TZID=UTC:20241001T173000
DTEND;TZID=UTC:20241001T180000
DTSTAMP:20260421T040818
CREATED:20240912T044944Z
LAST-MODIFIED:20240912T044944Z
UID:19473-1727803800-1727805600@www.ardmorefamilyymca.org
SUMMARY:Swim Team Prep
DESCRIPTION:Perfect class for those interested in trying out for the swim team or for those who want to improve on their stroke abilities. \nages 7+ \nSept 24th – Oct 3rd \nTuesdays & Thursdays \n5:30 -6:00 PM \n$40 Members \n$65 Nonmembers
URL:https://www.ardmorefamilyymca.org/event/swim-team-prep-2/2024-10-01/
ATTACH;FMTTYPE=image/jpeg:https://www.ardmorefamilyymca.org/wp-content/uploads/2024/07/fall-swim-team-prepInstagram-Post-3.jpg
END:VEVENT
BEGIN:VEVENT
DTSTART;TZID=UTC:20241001T173000
DTEND;TZID=UTC:20241001T190000
DTSTAMP:20260421T040818
CREATED:20240328T025200Z
LAST-MODIFIED:20240328T025200Z
UID:18436-1727803800-1727809200@www.ardmorefamilyymca.org
SUMMARY:Taekwondo
DESCRIPTION:Ages 4-6 @ 5:30 PM \n\nAges 7-12 @ 6:15 PM \n\nInstructor Jason Lee VI degree Black Belt \n\nMember: $35/month Non-member: $50/month
URL:https://www.ardmorefamilyymca.org/event/taekwondo/2024-10-01/
ATTACH;FMTTYPE=image/jpeg:https://www.ardmorefamilyymca.org/wp-content/uploads/2024/03/teakwondo-7.jpg
END:VEVENT
BEGIN:VEVENT
DTSTART;TZID=UTC:20241002T101500
DTEND;TZID=UTC:20241002T111500
DTSTAMP:20260421T040818
CREATED:20240912T043533Z
LAST-MODIFIED:20240912T043533Z
UID:19455-1727864100-1727867700@www.ardmorefamilyymca.org
SUMMARY:FIT FOR LIFE 101
DESCRIPTION:
URL:https://www.ardmorefamilyymca.org/event/fit-for-life-101/2024-10-02/
END:VEVENT
BEGIN:VEVENT
DTSTART;TZID=UTC:20241002T111500
DTEND;TZID=UTC:20241002T120000
DTSTAMP:20260421T040818
CREATED:20240929T153752Z
LAST-MODIFIED:20241118T052023Z
UID:19502-1727867700-1727870400@www.ardmorefamilyymca.org
SUMMARY:Reformer Drop-In Classes
DESCRIPTION:Register for these drop-in classes each week to enjoy group training with a Certified Professional trainer. \nWednesday Drop-ins \n11:15 – 12:00 PM with Valarie \nThursday Drop-ins \n8:15 -9:00 AM with Valarie \n10:15-11:00 AM with Kelsey \n$10 per class for members \n$15 per class for nonmembers (day pass included in drop-in fee) \nRegister online or at the Y front desk.  https://operations.daxko.com/online/2013/programsv2/home.mvc
URL:https://www.ardmorefamilyymca.org/event/reformer-drop-in-classes/2024-10-02/
ATTACH;FMTTYPE=image/jpeg:https://www.ardmorefamilyymca.org/wp-content/uploads/2024/09/Reformer-Amy-scaled.jpg
END:VEVENT
BEGIN:VEVENT
DTSTART;TZID=UTC:20241003T081500
DTEND;TZID=UTC:20241003T090000
DTSTAMP:20260421T040818
CREATED:20240929T153752Z
LAST-MODIFIED:20241118T052031Z
UID:19504-1727943300-1727946000@www.ardmorefamilyymca.org
SUMMARY:Reformer Drop-In Classes
DESCRIPTION:Register for these drop-in classes each week to enjoy group training with a Certified Professional trainer. \nWednesday Drop-ins \n11:15 – 12:00 PM with Valarie \nThursday Drop-ins \n8:15 -9:00 AM with Valarie \n10:15-11:00 AM with Kelsey \n$10 per class for members \n$15 per class for nonmembers (day pass included in drop-in fee) \nRegister online or at the Y front desk.  https://operations.daxko.com/online/2013/programsv2/home.mvc
URL:https://www.ardmorefamilyymca.org/event/reformer-drop-in-classes/2024-10-03/
ATTACH;FMTTYPE=image/jpeg:https://www.ardmorefamilyymca.org/wp-content/uploads/2024/09/Reformer-Amy-scaled.jpg
END:VEVENT
BEGIN:VEVENT
DTSTART;TZID=UTC:20241003T101500
DTEND;TZID=UTC:20241003T110000
DTSTAMP:20260421T040818
CREATED:20240929T153752Z
LAST-MODIFIED:20241118T052031Z
UID:19505-1727950500-1727953200@www.ardmorefamilyymca.org
SUMMARY:Reformer Drop-In Classes
DESCRIPTION:Register for these drop-in classes each week to enjoy group training with a Certified Professional trainer. \nWednesday Drop-ins \n11:15 – 12:00 PM with Valarie \nThursday Drop-ins \n8:15 -9:00 AM with Valarie \n10:15-11:00 AM with Kelsey \n$10 per class for members \n$15 per class for nonmembers (day pass included in drop-in fee) \nRegister online or at the Y front desk.  https://operations.daxko.com/online/2013/programsv2/home.mvc
URL:https://www.ardmorefamilyymca.org/event/reformer-drop-in-classes/2024-10-03/2/
ATTACH;FMTTYPE=image/jpeg:https://www.ardmorefamilyymca.org/wp-content/uploads/2024/09/Reformer-Amy-scaled.jpg
END:VEVENT
BEGIN:VEVENT
DTSTART;TZID=UTC:20241003T173000
DTEND;TZID=UTC:20241003T180000
DTSTAMP:20260421T040818
CREATED:20240912T044944Z
LAST-MODIFIED:20240912T044944Z
UID:19474-1727976600-1727978400@www.ardmorefamilyymca.org
SUMMARY:Swim Team Prep
DESCRIPTION:Perfect class for those interested in trying out for the swim team or for those who want to improve on their stroke abilities. \nages 7+ \nSept 24th – Oct 3rd \nTuesdays & Thursdays \n5:30 -6:00 PM \n$40 Members \n$65 Nonmembers
URL:https://www.ardmorefamilyymca.org/event/swim-team-prep-2/2024-10-03/
ATTACH;FMTTYPE=image/jpeg:https://www.ardmorefamilyymca.org/wp-content/uploads/2024/07/fall-swim-team-prepInstagram-Post-3.jpg
END:VEVENT
BEGIN:VEVENT
DTSTART;TZID=UTC:20241008T173000
DTEND;TZID=UTC:20241008T190000
DTSTAMP:20260421T040818
CREATED:20240328T025200Z
LAST-MODIFIED:20240328T025200Z
UID:18437-1728408600-1728414000@www.ardmorefamilyymca.org
SUMMARY:Taekwondo
DESCRIPTION:Ages 4-6 @ 5:30 PM \n\nAges 7-12 @ 6:15 PM \n\nInstructor Jason Lee VI degree Black Belt \n\nMember: $35/month Non-member: $50/month
URL:https://www.ardmorefamilyymca.org/event/taekwondo/2024-10-08/
ATTACH;FMTTYPE=image/jpeg:https://www.ardmorefamilyymca.org/wp-content/uploads/2024/03/teakwondo-7.jpg
END:VEVENT
BEGIN:VEVENT
DTSTART;TZID=UTC:20241009T101500
DTEND;TZID=UTC:20241009T111500
DTSTAMP:20260421T040818
CREATED:20240912T043533Z
LAST-MODIFIED:20240912T043533Z
UID:19456-1728468900-1728472500@www.ardmorefamilyymca.org
SUMMARY:FIT FOR LIFE 101
DESCRIPTION:
URL:https://www.ardmorefamilyymca.org/event/fit-for-life-101/2024-10-09/
END:VEVENT
BEGIN:VEVENT
DTSTART;TZID=UTC:20241009T111500
DTEND;TZID=UTC:20241009T120000
DTSTAMP:20260421T040818
CREATED:20240929T153752Z
LAST-MODIFIED:20241118T052032Z
UID:19506-1728472500-1728475200@www.ardmorefamilyymca.org
SUMMARY:Reformer Drop-In Classes
DESCRIPTION:Register for these drop-in classes each week to enjoy group training with a Certified Professional trainer. \nWednesday Drop-ins \n11:15 – 12:00 PM with Valarie \nThursday Drop-ins \n8:15 -9:00 AM with Valarie \n10:15-11:00 AM with Kelsey \n$10 per class for members \n$15 per class for nonmembers (day pass included in drop-in fee) \nRegister online or at the Y front desk.  https://operations.daxko.com/online/2013/programsv2/home.mvc
URL:https://www.ardmorefamilyymca.org/event/reformer-drop-in-classes/2024-10-09/
ATTACH;FMTTYPE=image/jpeg:https://www.ardmorefamilyymca.org/wp-content/uploads/2024/09/Reformer-Amy-scaled.jpg
END:VEVENT
BEGIN:VEVENT
DTSTART;TZID=UTC:20241010T081500
DTEND;TZID=UTC:20241010T090000
DTSTAMP:20260421T040818
CREATED:20240929T153752Z
LAST-MODIFIED:20241118T052032Z
UID:19507-1728548100-1728550800@www.ardmorefamilyymca.org
SUMMARY:Reformer Drop-In Classes
DESCRIPTION:Register for these drop-in classes each week to enjoy group training with a Certified Professional trainer. \nWednesday Drop-ins \n11:15 – 12:00 PM with Valarie \nThursday Drop-ins \n8:15 -9:00 AM with Valarie \n10:15-11:00 AM with Kelsey \n$10 per class for members \n$15 per class for nonmembers (day pass included in drop-in fee) \nRegister online or at the Y front desk.  https://operations.daxko.com/online/2013/programsv2/home.mvc
URL:https://www.ardmorefamilyymca.org/event/reformer-drop-in-classes/2024-10-10/
ATTACH;FMTTYPE=image/jpeg:https://www.ardmorefamilyymca.org/wp-content/uploads/2024/09/Reformer-Amy-scaled.jpg
END:VEVENT
BEGIN:VEVENT
DTSTART;TZID=UTC:20241010T101500
DTEND;TZID=UTC:20241010T110000
DTSTAMP:20260421T040818
CREATED:20240929T153752Z
LAST-MODIFIED:20241118T052032Z
UID:19508-1728555300-1728558000@www.ardmorefamilyymca.org
SUMMARY:Reformer Drop-In Classes
DESCRIPTION:Register for these drop-in classes each week to enjoy group training with a Certified Professional trainer. \nWednesday Drop-ins \n11:15 – 12:00 PM with Valarie \nThursday Drop-ins \n8:15 -9:00 AM with Valarie \n10:15-11:00 AM with Kelsey \n$10 per class for members \n$15 per class for nonmembers (day pass included in drop-in fee) \nRegister online or at the Y front desk.  https://operations.daxko.com/online/2013/programsv2/home.mvc
URL:https://www.ardmorefamilyymca.org/event/reformer-drop-in-classes/2024-10-10/3/
ATTACH;FMTTYPE=image/jpeg:https://www.ardmorefamilyymca.org/wp-content/uploads/2024/09/Reformer-Amy-scaled.jpg
END:VEVENT
BEGIN:VEVENT
DTSTART;TZID=UTC:20241012T103000
DTEND;TZID=UTC:20241012T130000
DTSTAMP:20260421T040818
CREATED:20241007T214100Z
LAST-MODIFIED:20241007T214100Z
UID:19589-1728729000-1728738000@www.ardmorefamilyymca.org
SUMMARY:TaeKwon-Do Belt Testing and Seminar
DESCRIPTION:Free observation event on Saturday\, October 12th 10:30 – 1:00 PM \nColor belt test:  10:30 AM \nBlack belt test:  11:30 AM \nFree TaeKwon-Do and Self Defense seminar will begin after Black Belt Testing.  Seminar is for adult only (18+)
URL:https://www.ardmorefamilyymca.org/event/taekwon-do-belt-testing-and-seminar/
ATTACH;FMTTYPE=image/jpeg:https://www.ardmorefamilyymca.org/wp-content/uploads/2023/12/martial-arts.jpg
END:VEVENT
BEGIN:VEVENT
DTSTART;TZID=UTC:20241015T173000
DTEND;TZID=UTC:20241015T190000
DTSTAMP:20260421T040818
CREATED:20240328T025200Z
LAST-MODIFIED:20240328T025200Z
UID:18438-1729013400-1729018800@www.ardmorefamilyymca.org
SUMMARY:Taekwondo
DESCRIPTION:Ages 4-6 @ 5:30 PM \n\nAges 7-12 @ 6:15 PM \n\nInstructor Jason Lee VI degree Black Belt \n\nMember: $35/month Non-member: $50/month
URL:https://www.ardmorefamilyymca.org/event/taekwondo/2024-10-15/
ATTACH;FMTTYPE=image/jpeg:https://www.ardmorefamilyymca.org/wp-content/uploads/2024/03/teakwondo-7.jpg
END:VEVENT
BEGIN:VEVENT
DTSTART;TZID=UTC:20241016T101500
DTEND;TZID=UTC:20241016T111500
DTSTAMP:20260421T040818
CREATED:20240912T043533Z
LAST-MODIFIED:20240912T043533Z
UID:19457-1729073700-1729077300@www.ardmorefamilyymca.org
SUMMARY:FIT FOR LIFE 101
DESCRIPTION:
URL:https://www.ardmorefamilyymca.org/event/fit-for-life-101/2024-10-16/
END:VEVENT
BEGIN:VEVENT
DTSTART;TZID=UTC:20241016T111500
DTEND;TZID=UTC:20241016T120000
DTSTAMP:20260421T040818
CREATED:20240929T153752Z
LAST-MODIFIED:20241118T052032Z
UID:19509-1729077300-1729080000@www.ardmorefamilyymca.org
SUMMARY:Reformer Drop-In Classes
DESCRIPTION:Register for these drop-in classes each week to enjoy group training with a Certified Professional trainer. \nWednesday Drop-ins \n11:15 – 12:00 PM with Valarie \nThursday Drop-ins \n8:15 -9:00 AM with Valarie \n10:15-11:00 AM with Kelsey \n$10 per class for members \n$15 per class for nonmembers (day pass included in drop-in fee) \nRegister online or at the Y front desk.  https://operations.daxko.com/online/2013/programsv2/home.mvc
URL:https://www.ardmorefamilyymca.org/event/reformer-drop-in-classes/2024-10-16/
ATTACH;FMTTYPE=image/jpeg:https://www.ardmorefamilyymca.org/wp-content/uploads/2024/09/Reformer-Amy-scaled.jpg
END:VEVENT
BEGIN:VEVENT
DTSTART;TZID=UTC:20241017T050000
DTEND;TZID=UTC:20241111T203000
DTSTAMP:20260421T040818
CREATED:20241014T133534Z
LAST-MODIFIED:20241023T231642Z
UID:19611-1729141200-1731357000@www.ardmorefamilyymca.org
SUMMARY:Rookie Basketball Registration
DESCRIPTION:TAKE YOUR SHOT : ROOKIE BASKETBALL   \nGirls & Boys | Pre-school & Kindergarten \n(child must be 4 years old by December 31\, 2024 to play) \nRegistration:  Thursday\, Oct 17th through Monday\, Nov 11th \nSeason Begins:  Late November \nFees:  $40 Member | $70 Nonmember (Thunder jersey included) \nScholarships: Deadline Wednesday\, November 6th (proof of income required for scholarships) \n \n1st thru 4th grade signups will begin Friday\, November 8th
URL:https://www.ardmorefamilyymca.org/event/rookie-basketball-registration/
ATTACH;FMTTYPE=image/jpeg:https://www.ardmorefamilyymca.org/wp-content/uploads/2021/10/basketball2.jpg
END:VEVENT
BEGIN:VEVENT
DTSTART;TZID=UTC:20241017T081500
DTEND;TZID=UTC:20241017T090000
DTSTAMP:20260421T040818
CREATED:20240929T153752Z
LAST-MODIFIED:20241118T052034Z
UID:19510-1729152900-1729155600@www.ardmorefamilyymca.org
SUMMARY:Reformer Drop-In Classes
DESCRIPTION:Register for these drop-in classes each week to enjoy group training with a Certified Professional trainer. \nWednesday Drop-ins \n11:15 – 12:00 PM with Valarie \nThursday Drop-ins \n8:15 -9:00 AM with Valarie \n10:15-11:00 AM with Kelsey \n$10 per class for members \n$15 per class for nonmembers (day pass included in drop-in fee) \nRegister online or at the Y front desk.  https://operations.daxko.com/online/2013/programsv2/home.mvc
URL:https://www.ardmorefamilyymca.org/event/reformer-drop-in-classes/2024-10-17/
ATTACH;FMTTYPE=image/jpeg:https://www.ardmorefamilyymca.org/wp-content/uploads/2024/09/Reformer-Amy-scaled.jpg
END:VEVENT
BEGIN:VEVENT
DTSTART;TZID=UTC:20241017T101500
DTEND;TZID=UTC:20241017T110000
DTSTAMP:20260421T040818
CREATED:20240929T153752Z
LAST-MODIFIED:20241118T052034Z
UID:19511-1729160100-1729162800@www.ardmorefamilyymca.org
SUMMARY:Reformer Drop-In Classes
DESCRIPTION:Register for these drop-in classes each week to enjoy group training with a Certified Professional trainer. \nWednesday Drop-ins \n11:15 – 12:00 PM with Valarie \nThursday Drop-ins \n8:15 -9:00 AM with Valarie \n10:15-11:00 AM with Kelsey \n$10 per class for members \n$15 per class for nonmembers (day pass included in drop-in fee) \nRegister online or at the Y front desk.  https://operations.daxko.com/online/2013/programsv2/home.mvc
URL:https://www.ardmorefamilyymca.org/event/reformer-drop-in-classes/2024-10-17/4/
ATTACH;FMTTYPE=image/jpeg:https://www.ardmorefamilyymca.org/wp-content/uploads/2024/09/Reformer-Amy-scaled.jpg
END:VEVENT
END:VCALENDAR