BEGIN:VCALENDAR
VERSION:2.0
PRODID:-//The Ardmore Family YMCA - ECPv6.3.0//NONSGML v1.0//EN
CALSCALE:GREGORIAN
METHOD:PUBLISH
X-ORIGINAL-URL:https://www.ardmorefamilyymca.org
X-WR-CALDESC:Events for The Ardmore Family YMCA
REFRESH-INTERVAL;VALUE=DURATION:PT1H
X-Robots-Tag:noindex
X-PUBLISHED-TTL:PT1H
BEGIN:VTIMEZONE
TZID:UTC
BEGIN:STANDARD
TZOFFSETFROM:+0000
TZOFFSETTO:+0000
TZNAME:UTC
DTSTART:20230101T000000
END:STANDARD
END:VTIMEZONE
BEGIN:VEVENT
DTSTART;TZID=UTC:20230911T121500
DTEND;TZID=UTC:20230911T124500
DTSTAMP:20260420T074242
CREATED:20230915T200657Z
LAST-MODIFIED:20230918T041049Z
UID:17310-1694434500-1694436300@www.ardmorefamilyymca.org
SUMMARY:GRIT September
DESCRIPTION:LES MILLS GRIT™ Strength is a 30-minute high-intensity interval training (HIIT) workout\, designed to improve strength\, cardiovascular fitness and build lean muscle. This workout uses barbell\, weight plate and bodyweight exercises to blast all major muscle groups. LES MILLS GRIT Strength takes cutting-edge HIIT and combines it with powerful music and inspirational coaches who will be down on the floor with you\, motivating you to go harder to get fit\, fast. \n$120 for the 6 week session \n$15 drop in per class
URL:https://www.ardmorefamilyymca.org/event/grit-september/2023-09-11/
ATTACH;FMTTYPE=image/jpeg:https://www.ardmorefamilyymca.org/wp-content/uploads/2023/09/Grit-3.jpg
END:VEVENT
BEGIN:VEVENT
DTSTART;TZID=UTC:20230912T040000
DTEND;TZID=UTC:20230912T170000
DTSTAMP:20260420T074242
CREATED:20230914T154937Z
LAST-MODIFIED:20230914T154937Z
UID:17275-1694491200-1694538000@www.ardmorefamilyymca.org
SUMMARY:Swim Team Prep - Stroke Refinement
DESCRIPTION:Join the Y Swim Team Prep – Stroke Refinement class and help your child improve their skills in the water.  This class is designed for kids 7 and up to improve their strokes and prepare them\, if the chose\, to join the swim team this fall. \nTuesdays and Thursdays 4:00 – 5:00 PM \n$40 for members | $65 for nonmembers \nRegister at the Y front desk. \n  \n  \n 
URL:https://www.ardmorefamilyymca.org/event/swim-team-prep-stroke-refinement/2023-09-12/
ATTACH;FMTTYPE=image/jpeg:https://www.ardmorefamilyymca.org/wp-content/uploads/2023/09/swim-lessons-5-scaled.jpg
END:VEVENT
BEGIN:VEVENT
DTSTART;TZID=UTC:20230915T080000
DTEND;TZID=UTC:20230915T170000
DTSTAMP:20260420T074242
CREATED:20230915T220728Z
LAST-MODIFIED:20230915T222825Z
UID:17363-1694764800-1694797200@www.ardmorefamilyymca.org
SUMMARY:Swim Team Tryouts
DESCRIPTION:Tryout for the Y Fall/Winter Swim Team on Monday\, September 18th from 4:30 – 5:30 PM. \nREQUIREMENTS \n\nFor children 5 years old to 18 years old.\nMust have a family membership/single parent membership.\nSwimmers will be placed in workouts according to age\, strength\, and experience per coach’s discretion.\nSwimmer must be able to swim one length of the pool unassisted.\nCost to participate is $200.\nParent responsible for swimsuit (black competitive suit) and goggles.\n\n  \n  \n 
URL:https://www.ardmorefamilyymca.org/event/swim-team-tryouts-4/
ATTACH;FMTTYPE=image/jpeg:https://www.ardmorefamilyymca.org/wp-content/uploads/2021/08/swimmer.jpg
END:VEVENT
BEGIN:VEVENT
DTSTART;TZID=UTC:20230918T161500
DTEND;TZID=UTC:20230918T170000
DTSTAMP:20260420T074242
CREATED:20230914T190232Z
LAST-MODIFIED:20230914T190232Z
UID:17285-1695053700-1695056400@www.ardmorefamilyymca.org
SUMMARY:Kids Bootcamp and Conditioning Class
DESCRIPTION:Teen bootcamp and conditioning is designed for kids 10-14.  With Personal Trainer Jake Norton and Sports Conditioning Specialist Lethabo Kedijang\, your teen will be introduced to weight room workouts and active movement programs in the gym.  This 6 week program is FREE for members and just $30 for nonmembers. \n 
URL:https://www.ardmorefamilyymca.org/event/kids-bootcamp-and-conditioning-class/2023-09-18/
ATTACH;FMTTYPE=image/jpeg:https://www.ardmorefamilyymca.org/wp-content/uploads/2022/02/Teen-ONE-AWARD.jpg
END:VEVENT
BEGIN:VEVENT
DTSTART;TZID=UTC:20230920T150000
DTEND;TZID=UTC:20230920T170000
DTSTAMP:20260420T074242
CREATED:20230827T194817Z
LAST-MODIFIED:20230827T194817Z
UID:17245-1695222000-1695229200@www.ardmorefamilyymca.org
SUMMARY:FREE CPR & AED training
DESCRIPTION:Wednesday\, September 20th  3:00—5:00 PM  \nArdmore Family YMCA Social Hall \nThe Ardmore Family YMCA’s CPR and AED course is designed for individuals who desire\, or are required\, to be certified in CPR training and the use of an AED.  Participants will learn through class discussions\, videos and hands on training.  This is an American Safety & Health Institute approved class and is not intended for healthcare providers or professional rescuers.  Certification is valid for one year.  Register at the Y front desk. \nFor more information\, please contact Michaela Craven at 580-223-3990 ext. 106 or email ardmoreyaquatics@gmail.com. \n  \n  \n  \n  \n  \n  \n  \n  \n  \n 
URL:https://www.ardmorefamilyymca.org/event/free-cpr-aed-training/
ATTACH;FMTTYPE=image/jpeg:https://www.ardmorefamilyymca.org/wp-content/uploads/2023/08/CPR-2-scaled.jpg
END:VEVENT
BEGIN:VEVENT
DTSTART;TZID=UTC:20230920T170000
DTEND;TZID=UTC:20230920T190000
DTSTAMP:20260420T074242
CREATED:20230915T223357Z
LAST-MODIFIED:20230915T223357Z
UID:17365-1695229200-1695236400@www.ardmorefamilyymca.org
SUMMARY:CPR & AED Training 5:00 - 7:00 PM
DESCRIPTION:The Ardmore Family YMCA’s CPR and AED course is designed for individuals who desire\, or are required\, to be certified in CPR training and the use of an AED.  Participants will learn through class discussions\, videos and hands on training.  This is an American Safety & Health Institute approved class and is not intended for healthcare providers or professional rescuers.  Certification is valid for one year.  Register at the Y front desk. \nFor more information\, please contact Michaela Craven at 580-223-3990 ext. 106 or email ardmoreyaquatics@gmail.com.
URL:https://www.ardmorefamilyymca.org/event/cpr-aed-training-500-700-pm/
ATTACH;FMTTYPE=image/jpeg:https://www.ardmorefamilyymca.org/wp-content/uploads/2023/09/CPR-Training-graphic.jpg
END:VEVENT
BEGIN:VEVENT
DTSTART;TZID=UTC:20230921T113000
DTEND;TZID=UTC:20230921T130000
DTSTAMP:20260420T074242
CREATED:20230914T190828Z
LAST-MODIFIED:20230914T190828Z
UID:17298-1695295800-1695301200@www.ardmorefamilyymca.org
SUMMARY:Lunch and Learn - Fall Prevention
DESCRIPTION:September is Fall Prevention Awareness and in recognition the Ardmore Family YMCA has invited Amy Thompson\, Physical Therapist and Owner of Excel Therapy to address our group regarding the importance of good form and staying active to prevent falling. \nPotluck lunch begins at 11:30 am and Ms. Thompson will address the group at Noon. \nFree to the public. \n 
URL:https://www.ardmorefamilyymca.org/event/lunch-and-learn-fall-prevention/
ATTACH;FMTTYPE=image/png:https://www.ardmorefamilyymca.org/wp-content/uploads/2023/09/2b.-Falls-Prevention-Awareness-Week-FB-TW.png
END:VEVENT
BEGIN:VEVENT
DTSTART;TZID=UTC:20230921T171500
DTEND;TZID=UTC:20230921T184500
DTSTAMP:20260420T074242
CREATED:20230915T214823Z
LAST-MODIFIED:20230915T214923Z
UID:17357-1695316500-1695321900@www.ardmorefamilyymca.org
SUMMARY:Kids Cooking Class
DESCRIPTION:In recognition of Childhood Obesity Awareness Month\, the Ardmore Family YMCA will be offering a Kid’s Cooking Class on Thursday\, September 21st @ 5:15 PM with guest cooking Guru\, Gratiela Sabangan. This FREE class is for Y members AND nonmembers ages 8-12 years. Registration is required and space is limited!
URL:https://www.ardmorefamilyymca.org/event/kids-cooking-class/
ATTACH;FMTTYPE=image/jpeg:https://www.ardmorefamilyymca.org/wp-content/uploads/2023/09/Copy-of-Cooking-Class-for-Kids-Instagram-Story.jpg
END:VEVENT
BEGIN:VEVENT
DTSTART;TZID=UTC:20231022T160000
DTEND;TZID=UTC:20231022T170000
DTSTAMP:20260420T074242
CREATED:20231013T225632Z
LAST-MODIFIED:20231013T225632Z
UID:17542-1697990400-1697994000@www.ardmorefamilyymca.org
SUMMARY:Train for the CHiGGER CHASE
DESCRIPTION:Train for the CHiGGER CHASE with the Ardmore Family YMCA. \nSundays at 4:00 PM starting October 22nd.  Meet at the Pavilion at Regional Park and run with the BEST  Amy Heller and Lethabo Kedijang. \nFor more information contact Amy or Lethabo at 580-223-3990 \n 
URL:https://www.ardmorefamilyymca.org/event/train-for-the-chigger-chase/2023-10-22/
ATTACH;FMTTYPE=image/png:https://www.ardmorefamilyymca.org/wp-content/uploads/2023/10/Chigger-Chase-5K-training-title.png
END:VEVENT
BEGIN:VEVENT
DTSTART;VALUE=DATE:20231025
DTEND;VALUE=DATE:20231026
DTSTAMP:20260420T074242
CREATED:20231019T004808Z
LAST-MODIFIED:20231019T004808Z
UID:17553-1698192000-1698278399@www.ardmorefamilyymca.org
SUMMARY:Rookie Thunder Basketball Signups
DESCRIPTION:Members $40 \nNonmembers $60 \nThunder Jersey included
URL:https://www.ardmorefamilyymca.org/event/rookie-thunder-basketball-signups/2023-10-25/
ATTACH;FMTTYPE=image/png:https://www.ardmorefamilyymca.org/wp-content/uploads/2023/10/2.png
END:VEVENT
BEGIN:VEVENT
DTSTART;TZID=UTC:20231027T120000
DTEND;TZID=UTC:20231027T170000
DTSTAMP:20260420T074242
CREATED:20230716T124205Z
LAST-MODIFIED:20231009T143155Z
UID:17135-1698408000-1698426000@www.ardmorefamilyymca.org
SUMMARY:On Course for a Cause - Golf Tournament
DESCRIPTION:Ardmore Family YMCA’s 1st Annual Golf Tournament \n4 Person Scramble at Lakeview Golf Club \nCheck-in 12 pm \nShotgun starts 1 pm \nPrizes\, Raffles\, and More!!! \n$240 Per Team | $100 Hole Sponsorship \nRegister your team by texting Jerry at 580-504-1066 or calling Baylie at 580-222-3704 \nTeam registration fee or hole sponsorship may be paid at the Y front desk or on the cash QR code below.  Please add a name and phone number in the comment section when using cash app. \n \nhttps://www.ardmorefamilyymca.org/wp-content/uploads/2023/10/registration-and-sponsor-form-Golf-Tournament.pdf \nhttps://cash.app/$ArdmoreFamilyYMCA \n 
URL:https://www.ardmorefamilyymca.org/event/on-course-for-a-cause-golf-tournament/
ATTACH;FMTTYPE=image/png:https://www.ardmorefamilyymca.org/wp-content/uploads/2023/07/Golf-Tournament-2023-e1692068838105.png
END:VEVENT
BEGIN:VEVENT
DTSTART;VALUE=DATE:20231113
DTEND;VALUE=DATE:20231114
DTSTAMP:20260420T074242
CREATED:20231019T005336Z
LAST-MODIFIED:20231111T223342Z
UID:17570-1699833600-1699919999@www.ardmorefamilyymca.org
SUMMARY:1st - 4th Grade Thunder Basketball Signups
DESCRIPTION:Members $50 \nNonmembers $80 \nBOYS registration \nGIRLS registration \n  \n 
URL:https://www.ardmorefamilyymca.org/event/1st-4th-grade-thunder-basketball-signups/2023-11-13/
ATTACH;FMTTYPE=image/png:https://www.ardmorefamilyymca.org/wp-content/uploads/2023/10/5.png
END:VEVENT
BEGIN:VEVENT
DTSTART;TZID=UTC:20231202T170000
DTEND;TZID=UTC:20231202T210000
DTSTAMP:20260420T074242
CREATED:20231031T051506Z
LAST-MODIFIED:20231112T163541Z
UID:17689-1701536400-1701550800@www.ardmorefamilyymca.org
SUMMARY:PARENTS' NIGHT OUT
DESCRIPTION:Parents’ Night Out is an evening of fun for kids and parents alike!  Children  ages 5 to 12 will enjoy a dance party with Barbie and Superheroes\, run through the obstacle course and jump in the bounce house\, play games in the gym\, watch movies in the social hall\, eat pizza and popcorn\, all while parents have an evening out by themselves. (children under 5 may attend event with a parent or guardian). \nTICKETS ON SALE NOVEMBER 1ST \nPrices with pre-registration  \nChild 5-12 years:  $30 per child \nSiblings 5-12 years: $50 for 2 kids | $60 for 3 kids \nChildren under 5: $10 with parent/guardian (adult is free) \nPrices at the Door \nChild 5-12 years:  $40 per child \nChildren under 5: $15 with parent/guardian (adult is free) \nSPACE IS LIMITED \nREGISTER HERE \n \n  \n  \n 
URL:https://www.ardmorefamilyymca.org/event/parents-night-out/
LOCATION:Ardmore Family YMCA\, 920 15th Ave NW\, Ardmore\, OK\, 73401\, United States
ATTACH;FMTTYPE=image/jpeg:https://www.ardmorefamilyymca.org/wp-content/uploads/2023/10/parents-night-out-graphic.jpg
END:VEVENT
BEGIN:VEVENT
DTSTART;TZID=UTC:20231229T140000
DTEND;TZID=UTC:20231229T161500
DTSTAMP:20260420T074242
CREATED:20231204T045742Z
LAST-MODIFIED:20231204T045742Z
UID:17834-1703858400-1703866500@www.ardmorefamilyymca.org
SUMMARY:Blood Drive
DESCRIPTION:Friday\, December 29 2:00-4:15 PM in the Social Hall \nReceive a free long sleeved t-shirt with every donation. \nRegister here
URL:https://www.ardmorefamilyymca.org/event/blood-drive-5/
ATTACH;FMTTYPE=image/jpeg:https://www.ardmorefamilyymca.org/wp-content/uploads/2023/12/Dec-29-Blood-Drive-Insta.jpg
END:VEVENT
BEGIN:VEVENT
DTSTART;TZID=UTC:20240109T173000
DTEND;TZID=UTC:20240109T200000
DTSTAMP:20260420T074242
CREATED:20231230T183823Z
LAST-MODIFIED:20231230T183823Z
UID:17885-1704821400-1704830400@www.ardmorefamilyymca.org
SUMMARY:Taekwondo - Youth and Adult Classes
DESCRIPTION:Taught by VI degree black belt\, Instructor Jason Lee\, the Y’s new Taekwondo class is for both kids and adults. \nTuesday evenings \nAges 4-6:  5:30 PM \nAges 7-12:  6:15 Pm \nAges 13+:   7:15 Pm \nFREE on Tuesday\, January 9th and Tuesday\, January 16th \nRegistration begins mid-January \nMembers:  $35/month \nNonmembers:  $50/month
URL:https://www.ardmorefamilyymca.org/event/taekwondo-youth-and-adult-classes/2024-01-09/
ATTACH;FMTTYPE=image/jpeg:https://www.ardmorefamilyymca.org/wp-content/uploads/2023/12/martial-arts.jpg
END:VEVENT
BEGIN:VEVENT
DTSTART;TZID=UTC:20240115T161500
DTEND;TZID=UTC:20240115T170000
DTSTAMP:20260420T074242
CREATED:20231227T041416Z
LAST-MODIFIED:20231227T041416Z
UID:17858-1705335300-1705338000@www.ardmorefamilyymca.org
SUMMARY:Teen Bootcamp and Conditioning
DESCRIPTION:Jake and Lethabo make physical fitness fun.  This class is perfect for every fitness level from beginner to advance. \nFOR TEENS 10 TO 14 YEARS OLD \nMON & WED STARTING JANUARY 15TH @ 4:15-5:00 PM \nFREE FOR MEMBERS | $30 FOR NONMEMBERS \n 
URL:https://www.ardmorefamilyymca.org/event/teen-bootcamp-and-conditioning/2024-01-15/
ATTACH;FMTTYPE=image/jpeg:https://www.ardmorefamilyymca.org/wp-content/uploads/2023/12/IMG_0862-scaled.jpg
END:VEVENT
BEGIN:VEVENT
DTSTART;TZID=UTC:20240117T170000
DTEND;TZID=UTC:20240117T190000
DTSTAMP:20260420T074242
CREATED:20231227T140853Z
LAST-MODIFIED:20231227T140853Z
UID:17873-1705510800-1705518000@www.ardmorefamilyymca.org
SUMMARY:FREE CPR AND AED TRAINING
DESCRIPTION:
URL:https://www.ardmorefamilyymca.org/event/free-cpr-and-aed-training/
ATTACH;FMTTYPE=image/jpeg:https://www.ardmorefamilyymca.org/wp-content/uploads/2023/12/CPR-JANUARY.jpg
END:VEVENT
BEGIN:VEVENT
DTSTART;TZID=UTC:20240127T083000
DTEND;TZID=UTC:20240127T120000
DTSTAMP:20260420T074242
CREATED:20240119T183046Z
LAST-MODIFIED:20240119T183250Z
UID:17978-1706344200-1706356800@www.ardmorefamilyymca.org
SUMMARY:Les Mills Launch - Stop Crying\, You're Fine
DESCRIPTION:Free classes for members and nonmembers. \nAll in Studio 1 \n8:30 AM BODY PUMP (45 min.) \n9:30 AM COMBAT (45 min.) \n10:30 AM CORE (30 min.) \n11:00 AM ATTACK (30 min.) \n11:30 AM BODY BALANCE (30 min.) \n  \n  \n 
URL:https://www.ardmorefamilyymca.org/event/les-mills-launch-stop-crying-youre-fine/
ATTACH;FMTTYPE=image/jpeg:https://www.ardmorefamilyymca.org/wp-content/uploads/2024/01/Stop-crying-youre-fine-les-mills-launch.jpg
END:VEVENT
BEGIN:VEVENT
DTSTART;VALUE=DATE:20240212
DTEND;VALUE=DATE:20240213
DTSTAMP:20260420T074242
CREATED:20240212T232724Z
LAST-MODIFIED:20240212T232724Z
UID:18134-1707696000-1707782399@www.ardmorefamilyymca.org
SUMMARY:Spring Competitive Baseball League Registration
DESCRIPTION:Coaches register teams \nUSSSA rules:  8U coach pitch\, 10U and 12U \nGames will be played on Mondays\, Tuesdays\, and Thursdays evenings. \nRegister online by going to the purple banner at the top of our website\, scanning the QR code below\, or registering at the Y front desk.
URL:https://www.ardmorefamilyymca.org/event/spring-competitive-baseball-league-registration/2024-02-12/
ATTACH;FMTTYPE=image/png:https://www.ardmorefamilyymca.org/wp-content/uploads/2024/02/baseball-swing.png
END:VEVENT
BEGIN:VEVENT
DTSTART;VALUE=DATE:20240212
DTEND;VALUE=DATE:20240213
DTSTAMP:20260420T074242
CREATED:20240212T233926Z
LAST-MODIFIED:20240212T233950Z
UID:18172-1707696000-1707782399@www.ardmorefamilyymca.org
SUMMARY:Fast Pitch Spring Competitive League Registration
DESCRIPTION:Coaches register teams for competitive league.  T-ball\, 8U coach pitch\, 10U\, 12U\, and 14U.  FASA rules \nGames to be played on Monday and Tuesday nights. \nRegistration deadline March 15\, 2024 \nRegister online by going to the purple banner at the top of our website\, scanning the QR code below\, or registering at the Y front desk.
URL:https://www.ardmorefamilyymca.org/event/fast-pitch-spring-competitive-league-registration/2024-02-12/
ATTACH;FMTTYPE=image/jpeg:https://www.ardmorefamilyymca.org/wp-content/uploads/2024/02/Softball-e1707781111937.jpg
END:VEVENT
BEGIN:VEVENT
DTSTART;TZID=UTC:20240226T104500
DTEND;TZID=UTC:20240226T111500
DTSTAMP:20260420T074242
CREATED:20240210T182144Z
LAST-MODIFIED:20240212T224250Z
UID:18077-1708944300-1708946100@www.ardmorefamilyymca.org
SUMMARY:Swim Lessons - Mommy/Daddy and me
DESCRIPTION:Accompanied by a parent\, infants and toddlers learn to be comfortable in the water and develop swim readiness skills through fun and confidence-building experiences\, while parents learn about water safety\, drowning preventions\, and the importance of supervision. \nAges 6 months to 3 years. \n$40 for members | $6o for nonmembers \nRegister online by going to the purple banner at the top of our website\, scanning the QR code below\, or registering at the Y front desk.
URL:https://www.ardmorefamilyymca.org/event/swim-lessons-mommy-daddy-and-me/2024-02-26/
ATTACH;FMTTYPE=image/jpeg:https://www.ardmorefamilyymca.org/wp-content/uploads/2023/05/IMG_9497-scaled.jpg
END:VEVENT
BEGIN:VEVENT
DTSTART;TZID=UTC:20240227T173000
DTEND;TZID=UTC:20240227T180000
DTSTAMP:20260420T074242
CREATED:20240210T182655Z
LAST-MODIFIED:20240212T224209Z
UID:18082-1709055000-1709056800@www.ardmorefamilyymca.org
SUMMARY:Swim Lessons - Safety Around Water
DESCRIPTION:For ages 3 year to 5 years\, these lessons are designed to teach children to be secure and confident around the water\, preparing the swimmer in basic water safety to help reduce the risk of drowning.  Skills include safe water habits\, underwater exploration\, and how to swim to safety and exit in the event of falling into a body of water. \nTuesdays and Thursdays 5:30 PM – 6:00 PM \nRegister online by going to the purple banner at the top of our website\, scanning the QR code below\, or registering at the Y front desk. \nMembers:  $40 | Nonmembers:  $60
URL:https://www.ardmorefamilyymca.org/event/swim-lessons-safety-around-water/2024-02-27/
ATTACH;FMTTYPE=image/jpeg:https://www.ardmorefamilyymca.org/wp-content/uploads/2023/04/Maddy-Swim-Lesson-scaled.jpeg
END:VEVENT
BEGIN:VEVENT
DTSTART;TZID=UTC:20240227T181000
DTEND;TZID=UTC:20240227T184000
DTSTAMP:20260420T074242
CREATED:20240210T183422Z
LAST-MODIFIED:20240212T224105Z
UID:18087-1709057400-1709059200@www.ardmorefamilyymca.org
SUMMARY:Swim Lessons:  Level 2-3
DESCRIPTION:Level 2-3 is Water movement and stamina.  In these levels students will be taught safe water habits\, underwater exploration\, and how to exit the pool in the event of falling into water.  Activities\, games and drills are utilized as students progress in this skill-based approach to swimming. \nAges 6+ \nMembers:  $40 | Nonmembers:  $60 \nRegister online by going to the purple banner at the top of our website\, scanning the QR code below\, or registering at the Y front desk. \n \n  \n 
URL:https://www.ardmorefamilyymca.org/event/swim-lessons-level-2-3/2024-02-27/
ATTACH;FMTTYPE=image/jpeg:https://www.ardmorefamilyymca.org/wp-content/uploads/2022/04/Swim-3-underwater-scaled-2.jpg
END:VEVENT
BEGIN:VEVENT
DTSTART;TZID=UTC:20240227T181000
DTEND;TZID=UTC:20240227T184000
DTSTAMP:20260420T074242
CREATED:20240210T183852Z
LAST-MODIFIED:20240212T224010Z
UID:18096-1709057400-1709059200@www.ardmorefamilyymca.org
SUMMARY:Swim Lessons - Levels 4-6
DESCRIPTION:Stroke introduction\, stroke development and stroke mechanics:  Swimmers are introduced to the four competitive swimming strokes as well as rescue skills. \nTuesday/Thursday 6:10 PM – 6:40 PM \nMembers:  $40 | Nonmembers: $60 \nRegister online by going to the purple banner at the top of our website\, scanning the QR code below\, or registering at the Y front desk.
URL:https://www.ardmorefamilyymca.org/event/swim-lessons-levels-4-6/2024-02-27/
ATTACH;FMTTYPE=image/jpeg:https://www.ardmorefamilyymca.org/wp-content/uploads/2023/09/swim-lessons-5-scaled.jpg
END:VEVENT
BEGIN:VEVENT
DTSTART;TZID=UTC:20240301T000000
DTEND;TZID=UTC:20240408T210000
DTSTAMP:20260420T074242
CREATED:20240229T041349Z
LAST-MODIFIED:20240229T042130Z
UID:18254-1709251200-1712610000@www.ardmorefamilyymca.org
SUMMARY:Summer League Blastball\, T-ball\, Baseball\, Softball Registration
DESCRIPTION:$45 for members \n$80 for nonmembers \nGames begin end of March \nScholarship applications available at the Y front desk.
URL:https://www.ardmorefamilyymca.org/event/blastball-t-ball-baseball-softball-registration/
ATTACH;FMTTYPE=image/jpeg:https://www.ardmorefamilyymca.org/wp-content/uploads/2024/02/Softball-Find-Y-scaled.jpg
END:VEVENT
BEGIN:VEVENT
DTSTART;TZID=UTC:20240311T104500
DTEND;TZID=UTC:20240311T111500
DTSTAMP:20260420T074242
CREATED:20240301T023102Z
LAST-MODIFIED:20240301T023102Z
UID:18273-1710153900-1710155700@www.ardmorefamilyymca.org
SUMMARY:Mommy/Daddy and Me
DESCRIPTION:Accompanied by a parent\, infants and toddlers learn to be comfortable in the water and develop swim readiness skills through fun and confidence-building experiences\, while parents learn about water safety\, drowning prevention\, and the importance of supervision.  Bring towels and\, if your child is not potty trained\, a swim diaper. \nMondays and Wednesdays.  10:45 – 11:15 AM in the warm water pool. \n$40 for members | $60 for nonmembers \n 
URL:https://www.ardmorefamilyymca.org/event/mommy-daddy-and-me-2/2024-03-11/
ATTACH;FMTTYPE=image/jpeg:https://www.ardmorefamilyymca.org/wp-content/uploads/2021/04/Mommy_Me_Swim_Lessons_YMCA2.jpg
END:VEVENT
BEGIN:VEVENT
DTSTART;TZID=UTC:20240318T110000
DTEND;TZID=UTC:20240318T124000
DTSTAMP:20260420T074242
CREATED:20240301T024125Z
LAST-MODIFIED:20240301T025824Z
UID:18286-1710759600-1710765600@www.ardmorefamilyymca.org
SUMMARY:Swim Basics: Level 1-3 Ages 6+
DESCRIPTION:Swim Basics:  Level 1-3 (ages 6+) \nBasic swimming competency by learning two benchmark skills:  (1)  Swim\, float\, swim—sequencing front glide\, roll\, back float\, roll\, front glide\, and exit.  (2)  Jump\, push\, turn\, grab. \n$40 for members | $60 for nonmembers \nMonday – Thursday during Spring Break in the warm water pool. \nWater Basics:  Level 2-3 @ 11:30 AM – Noon \nWater Basics:  Level 1 @ 12:10 PM – 12:40 PM \n 
URL:https://www.ardmorefamilyymca.org/event/water-safety-swim-lessons/2024-03-18/
END:VEVENT
BEGIN:VEVENT
DTSTART;TZID=UTC:20240318T113000
DTEND;TZID=UTC:20240318T120000
DTSTAMP:20260420T074242
CREATED:20240301T023625Z
LAST-MODIFIED:20240301T025717Z
UID:18278-1710761400-1710763200@www.ardmorefamilyymca.org
SUMMARY:Safety Around Water: Ages 3-5
DESCRIPTION:Safety Around Water is designed for preschool aged children 3 years to 5 years.  Swimmers become comfortable and confident in the water through practicing safe water habits\, engaging in underwater exploration\, and learning how to swim to safety if they fall into a body of water. \nStudents will achieve basic swimming competency by learning two benchmark skills:  1) Swim\, Float\, Swim – sequencing front glide\, roll\, back float\, roll\, front glide\, and exit and\, 2) Jump\, push\, turn\, grab. \n$40 for members and $60 for nonmembers. \nMonday – Thursday during Spring Break in the small\, warm water pool
URL:https://www.ardmorefamilyymca.org/event/spring-break-swim-lessons/2024-03-18/
ATTACH;FMTTYPE=image/jpeg:https://www.ardmorefamilyymca.org/wp-content/uploads/2023/05/IMG_9497-scaled.jpg
END:VEVENT
BEGIN:VEVENT
DTSTART;TZID=UTC:20240318T160000
DTEND;TZID=UTC:20240318T163000
DTSTAMP:20260420T074242
CREATED:20240301T024916Z
LAST-MODIFIED:20240301T024916Z
UID:18298-1710777600-1710779400@www.ardmorefamilyymca.org
SUMMARY:Intro to Strokes: Level 4 -6
DESCRIPTION:Stroke introduction\, stroke development and stroke mechanics:  Swimmers are introduced to the four competitive swimming strokes as well as rescue skills.  Ages 6+ \nMonday – Thursday during Spring Break in the large\, competition pool. \n4:00  PM – 4:30 PM \nMembers:  $40 | Nonmembers: $60
URL:https://www.ardmorefamilyymca.org/event/intro-to-strokes-level-4-6/2024-03-18/
END:VEVENT
BEGIN:VEVENT
DTSTART;TZID=UTC:20240318T161500
DTEND;TZID=UTC:20240318T170000
DTSTAMP:20260420T074242
CREATED:20240328T142951Z
LAST-MODIFIED:20240328T143322Z
UID:18460-1710778500-1710781200@www.ardmorefamilyymca.org
SUMMARY:Teen Bootcamp and Conditioning
DESCRIPTION:Logan and Lethabo make physical fitness fun.  This class if perfect for every fitness level from beginner to advance. \nFOR TEENS 10 to 14 YEARS OLD. \nMondays and Wednesdays 4:15 – 5:00 PM \nFree for Members | $30 for Nonmembers \nTeen bootcamp runs March 18 – April 24th
URL:https://www.ardmorefamilyymca.org/event/teen-bootcamp-and-conditioning-2/2024-03-18/
ATTACH;FMTTYPE=image/jpeg:https://www.ardmorefamilyymca.org/wp-content/uploads/2024/03/RYRX29461.jpg
END:VEVENT
END:VCALENDAR