BEGIN:VCALENDAR
VERSION:2.0
PRODID:-//The Ardmore Family YMCA - ECPv6.3.0//NONSGML v1.0//EN
CALSCALE:GREGORIAN
METHOD:PUBLISH
X-ORIGINAL-URL:https://www.ardmorefamilyymca.org
X-WR-CALDESC:Events for The Ardmore Family YMCA
REFRESH-INTERVAL;VALUE=DURATION:PT1H
X-Robots-Tag:noindex
X-PUBLISHED-TTL:PT1H
BEGIN:VTIMEZONE
TZID:UTC
BEGIN:STANDARD
TZOFFSETFROM:+0000
TZOFFSETTO:+0000
TZNAME:UTC
DTSTART:20250101T000000
END:STANDARD
END:VTIMEZONE
BEGIN:VEVENT
DTSTART;TZID=UTC:20251230T053000
DTEND;TZID=UTC:20251230T063000
DTSTAMP:20260423T014709
CREATED:20250924T221240Z
LAST-MODIFIED:20250924T223032Z
UID:22008-1767072600-1767076200@www.ardmorefamilyymca.org
SUMMARY:CEREMONY in the WELL Tuesday/Thursday 5:30 AM
DESCRIPTION:Les Mills Ceremony is a 45-minute circuit training style class that combines strength\, cardio and agility exercises.  It improves strength and cardiovascular fitness\, increases agility and coordination\, challenges multiple muscle groups\, and provides a fun and motivating workout experience. \n\n\n\n\n\n\nThere are 8 stations\, each featuring a different exercise that targets a specific muscle group or movement pattern.  Exercises may include bodyweight exercises\, resistance band exercises\, plyometric exercises\, and more.\n\n\n\n\n\nCeremony in the WELL is designed to be challenging but adaptable to different fitness levels.\n\nCeremony in the WELL is $5 per class for members and $5 per class for nonmembers plus a day pass.\n\nRegistration is required.  Space is limited.
URL:https://www.ardmorefamilyymca.org/event/ceremony-in-the-well-530-am/2025-12-30/
ATTACH;FMTTYPE=image/jpeg:https://www.ardmorefamilyymca.org/wp-content/uploads/2025/09/CEREMONY-STUDIO-DIGITAL-SCREEN-08-e1758751946540.jpg
END:VEVENT
BEGIN:VEVENT
DTSTART;TZID=UTC:20251230T091500
DTEND;TZID=UTC:20251230T101500
DTSTAMP:20260423T014709
CREATED:20250926T160139Z
LAST-MODIFIED:20250926T160334Z
UID:22068-1767086100-1767089700@www.ardmorefamilyymca.org
SUMMARY:CEREMONY in the WELL Tuesday @ 9:15 AM
DESCRIPTION:Les Mills Ceremony is a 45-minute circuit training style class that combines strength\, cardio and agility exercises.  It improves strength and cardiovascular fitness\, increases agility and coordination\, challenges multiple muscle groups\, and provides a fun and motivating workout experience. \n\n\n\n\n\n\nThere are 8 stations\, each featuring a different exercise that targets a specific muscle group or movement pattern.  Exercises may include bodyweight exercises\, resistance band exercises\, plyometric exercises\, and more.\n\n\n\n\n\nCeremony in the WELL is designed to be challenging but adaptable to different fitness levels.\n\nCeremony in the WELL is $5 per class for members and $5 per class for nonmembers plus a day pass.\n\nRegistration is required.  Space is limited.
URL:https://www.ardmorefamilyymca.org/event/ceremony-in-the-well-tuesday-915-am/2025-12-30/
ATTACH;FMTTYPE=image/jpeg:https://www.ardmorefamilyymca.org/wp-content/uploads/2025/09/LES-MILLS-CEREMONY-IMAGE-HR-04-scaled.jpg
END:VEVENT
BEGIN:VEVENT
DTSTART;TZID=UTC:20251230T103000
DTEND;TZID=UTC:20251230T111500
DTSTAMP:20260423T014709
CREATED:20250220T221614Z
LAST-MODIFIED:20250220T221614Z
UID:22919-1767090600-1767093300@www.ardmorefamilyymca.org
SUMMARY:Toddler Time
DESCRIPTION:Wiggle\, giggle and dance!  Toddlers and their adult(s) enjoy free time and circle time (with a little bit of adult conversations in between). \nAges 6 months – 4 years \nTuesdays at 10:30 AM in Studio 1. \nFree for members | $12 day pass for nonmember adults (toddlers are FREE)
URL:https://www.ardmorefamilyymca.org/event/toddler-time/2025-12-30/
ATTACH;FMTTYPE=image/jpeg:https://www.ardmorefamilyymca.org/wp-content/uploads/2025/03/maverick-scaled.jpg
END:VEVENT
BEGIN:VEVENT
DTSTART;TZID=UTC:20260103T090000
DTEND;TZID=UTC:20260103T130000
DTSTAMP:20260423T014709
CREATED:20251207T171934Z
LAST-MODIFIED:20251207T171934Z
UID:22670-1767430800-1767445200@www.ardmorefamilyymca.org
SUMMARY:Rookie Basketball Games
DESCRIPTION:Our Rookie Basketball Teams will be playing in the 2nd gym (Old Gym).  The 1st gym (New Gym) will be available for pick up games and pickleball.
URL:https://www.ardmorefamilyymca.org/event/rookie-basketball-games-9/2026-01-03/
END:VEVENT
BEGIN:VEVENT
DTSTART;TZID=UTC:20260105T174500
DTEND;TZID=UTC:20260105T200000
DTSTAMP:20260423T014709
CREATED:20251207T172047Z
LAST-MODIFIED:20251207T172047Z
UID:22674-1767635100-1767643200@www.ardmorefamilyymca.org
SUMMARY:Rookie Basketball Games
DESCRIPTION:Our Rookie Basketball Teams will be playing in the 2nd gym (Old Gym).  The 1st gym (New Gym) will be available for pick up games and pickleball.
URL:https://www.ardmorefamilyymca.org/event/rookie-basketball-games-10/2026-01-05/
END:VEVENT
BEGIN:VEVENT
DTSTART;TZID=UTC:20260106T103000
DTEND;TZID=UTC:20260106T111500
DTSTAMP:20260423T014709
CREATED:20250220T221614Z
LAST-MODIFIED:20250220T221614Z
UID:22920-1767695400-1767698100@www.ardmorefamilyymca.org
SUMMARY:Toddler Time
DESCRIPTION:Wiggle\, giggle and dance!  Toddlers and their adult(s) enjoy free time and circle time (with a little bit of adult conversations in between). \nAges 6 months – 4 years \nTuesdays at 10:30 AM in Studio 1. \nFree for members | $12 day pass for nonmember adults (toddlers are FREE)
URL:https://www.ardmorefamilyymca.org/event/toddler-time/2026-01-06/
ATTACH;FMTTYPE=image/jpeg:https://www.ardmorefamilyymca.org/wp-content/uploads/2025/03/maverick-scaled.jpg
END:VEVENT
BEGIN:VEVENT
DTSTART;TZID=UTC:20260106T183000
DTEND;TZID=UTC:20260106T203000
DTSTAMP:20260423T014709
CREATED:20260108T034419Z
LAST-MODIFIED:20260108T034419Z
UID:22735-1767724200-1767731400@www.ardmorefamilyymca.org
SUMMARY:Taekwondo
DESCRIPTION:Taekwondo\, a traditional Korean martial arts\, teaches more than physical fighting skills. It is a discipline that shows ways of enhancing our spirit and life through training our body and mind. It is a way of life that promotes discipline\, respect\, and self-confidence. Tuesday nights\, under the direction of instructor Jason Lee\, children and adults will learn proper technique and form. \nAges 4-10 @ 6:30 – 7:30 PM | 11 to adults 6:30-8:30 PM \n\n\n\n\nMaster Lee\, Instructor\, VII Degree Black Belt \n\n\nAmanda Kramer\, Assistant\, III Degree Black Belt \n\n\nScott Shepard\, Assistant\, III Degree Black Belt \n\n\n\n\nMember: $35/month |Non-member: $50/month \n\n\n\n 
URL:https://www.ardmorefamilyymca.org/event/taekwondo-2/2026-01-06/
ATTACH;FMTTYPE=image/jpeg:https://www.ardmorefamilyymca.org/wp-content/uploads/2026/01/teakwondo-4.jpg
END:VEVENT
BEGIN:VEVENT
DTSTART;TZID=UTC:20260108T174500
DTEND;TZID=UTC:20260108T200000
DTSTAMP:20260423T014709
CREATED:20251207T164327Z
LAST-MODIFIED:20251207T171827Z
UID:22493-1767894300-1767902400@www.ardmorefamilyymca.org
SUMMARY:Rookie Basketball Games
DESCRIPTION:Our Rookie Basketball Teams will be playing in the 2nd gym (Old Gym).  The 1st gym (New Gym) will be available for pick up games and pickleball.
URL:https://www.ardmorefamilyymca.org/event/rookie-basketball-games-11/2026-01-08/
ATTACH;FMTTYPE=image/jpeg:https://www.ardmorefamilyymca.org/wp-content/uploads/2025/10/Thunder-Kids-3-e1761275546760.jpg
END:VEVENT
BEGIN:VEVENT
DTSTART;TZID=UTC:20260110T090000
DTEND;TZID=UTC:20260110T130000
DTSTAMP:20260423T014709
CREATED:20251207T171934Z
LAST-MODIFIED:20251207T171934Z
UID:22671-1768035600-1768050000@www.ardmorefamilyymca.org
SUMMARY:Rookie Basketball Games
DESCRIPTION:Our Rookie Basketball Teams will be playing in the 2nd gym (Old Gym).  The 1st gym (New Gym) will be available for pick up games and pickleball.
URL:https://www.ardmorefamilyymca.org/event/rookie-basketball-games-9/2026-01-10/
END:VEVENT
BEGIN:VEVENT
DTSTART;TZID=UTC:20260112T174500
DTEND;TZID=UTC:20260112T200000
DTSTAMP:20260423T014709
CREATED:20251207T172047Z
LAST-MODIFIED:20251207T172047Z
UID:22675-1768239900-1768248000@www.ardmorefamilyymca.org
SUMMARY:Rookie Basketball Games
DESCRIPTION:Our Rookie Basketball Teams will be playing in the 2nd gym (Old Gym).  The 1st gym (New Gym) will be available for pick up games and pickleball.
URL:https://www.ardmorefamilyymca.org/event/rookie-basketball-games-10/2026-01-12/
END:VEVENT
BEGIN:VEVENT
DTSTART;TZID=UTC:20260113T103000
DTEND;TZID=UTC:20260113T111500
DTSTAMP:20260423T014709
CREATED:20250220T221614Z
LAST-MODIFIED:20250220T221614Z
UID:22921-1768300200-1768302900@www.ardmorefamilyymca.org
SUMMARY:Toddler Time
DESCRIPTION:Wiggle\, giggle and dance!  Toddlers and their adult(s) enjoy free time and circle time (with a little bit of adult conversations in between). \nAges 6 months – 4 years \nTuesdays at 10:30 AM in Studio 1. \nFree for members | $12 day pass for nonmember adults (toddlers are FREE)
URL:https://www.ardmorefamilyymca.org/event/toddler-time/2026-01-13/
ATTACH;FMTTYPE=image/jpeg:https://www.ardmorefamilyymca.org/wp-content/uploads/2025/03/maverick-scaled.jpg
END:VEVENT
BEGIN:VEVENT
DTSTART;TZID=UTC:20260113T161500
DTEND;TZID=UTC:20260113T170000
DTSTAMP:20260423T014709
CREATED:20260108T040819Z
LAST-MODIFIED:20260327T191957Z
UID:22804-1768320900-1768323600@www.ardmorefamilyymca.org
SUMMARY:Teen Boot Camp and Conditioning
DESCRIPTION:A structured\, supervised training program designed for kids 10-14 years old to improve physical capabilities\, build movement literacy\, and prevent injury\, rather than just building muscle mass. It combines resistance training (strength) with cardiovascular and athletic drills (conditioning) to boost performance in daily life and sports \nMari and Jake make physical fitness fun.  This class if perfect for every fitness level from beginner to advance. \nFOR TEENS 10 to 14 YEARS OLD. \nTuesdays and Thursdays 4:15 – 5:00 PM \nFree for Members | $35 for Nonmembers
URL:https://www.ardmorefamilyymca.org/event/teen-boot-camp-with-mari/2026-01-13/
ATTACH;FMTTYPE=image/png:https://www.ardmorefamilyymca.org/wp-content/uploads/2026/01/teen-boot-camp-2025-3.png
END:VEVENT
BEGIN:VEVENT
DTSTART;TZID=UTC:20260113T183000
DTEND;TZID=UTC:20260113T203000
DTSTAMP:20260423T014709
CREATED:20260108T034419Z
LAST-MODIFIED:20260108T034419Z
UID:22737-1768329000-1768336200@www.ardmorefamilyymca.org
SUMMARY:Taekwondo
DESCRIPTION:Taekwondo\, a traditional Korean martial arts\, teaches more than physical fighting skills. It is a discipline that shows ways of enhancing our spirit and life through training our body and mind. It is a way of life that promotes discipline\, respect\, and self-confidence. Tuesday nights\, under the direction of instructor Jason Lee\, children and adults will learn proper technique and form. \nAges 4-10 @ 6:30 – 7:30 PM | 11 to adults 6:30-8:30 PM \n\n\n\n\nMaster Lee\, Instructor\, VII Degree Black Belt \n\n\nAmanda Kramer\, Assistant\, III Degree Black Belt \n\n\nScott Shepard\, Assistant\, III Degree Black Belt \n\n\n\n\nMember: $35/month |Non-member: $50/month \n\n\n\n 
URL:https://www.ardmorefamilyymca.org/event/taekwondo-2/2026-01-13/
ATTACH;FMTTYPE=image/jpeg:https://www.ardmorefamilyymca.org/wp-content/uploads/2026/01/teakwondo-4.jpg
END:VEVENT
BEGIN:VEVENT
DTSTART;TZID=UTC:20260115T161500
DTEND;TZID=UTC:20260115T170000
DTSTAMP:20260423T014709
CREATED:20260108T040819Z
LAST-MODIFIED:20260327T191957Z
UID:22806-1768493700-1768496400@www.ardmorefamilyymca.org
SUMMARY:Teen Boot Camp and Conditioning
DESCRIPTION:A structured\, supervised training program designed for kids 10-14 years old to improve physical capabilities\, build movement literacy\, and prevent injury\, rather than just building muscle mass. It combines resistance training (strength) with cardiovascular and athletic drills (conditioning) to boost performance in daily life and sports \nMari and Jake make physical fitness fun.  This class if perfect for every fitness level from beginner to advance. \nFOR TEENS 10 to 14 YEARS OLD. \nTuesdays and Thursdays 4:15 – 5:00 PM \nFree for Members | $35 for Nonmembers
URL:https://www.ardmorefamilyymca.org/event/teen-boot-camp-with-mari/2026-01-15/
ATTACH;FMTTYPE=image/png:https://www.ardmorefamilyymca.org/wp-content/uploads/2026/01/teen-boot-camp-2025-3.png
END:VEVENT
BEGIN:VEVENT
DTSTART;TZID=UTC:20260115T174500
DTEND;TZID=UTC:20260115T200000
DTSTAMP:20260423T014709
CREATED:20251207T164327Z
LAST-MODIFIED:20251207T164327Z
UID:22669-1768499100-1768507200@www.ardmorefamilyymca.org
SUMMARY:Rookie Basketball Games
DESCRIPTION:Our Rookie Basketball Teams will be playing in the 2nd gym (Old Gym).  The 1st gym (New Gym) will be available for pick up games and pickleball.
URL:https://www.ardmorefamilyymca.org/event/rookie-basketball-games-11/2026-01-15/
ATTACH;FMTTYPE=image/jpeg:https://www.ardmorefamilyymca.org/wp-content/uploads/2025/10/Thunder-Kids-3-e1761275546760.jpg
END:VEVENT
BEGIN:VEVENT
DTSTART;TZID=UTC:20260117T090000
DTEND;TZID=UTC:20260117T130000
DTSTAMP:20260423T014709
CREATED:20251207T171934Z
LAST-MODIFIED:20251207T171934Z
UID:22672-1768640400-1768654800@www.ardmorefamilyymca.org
SUMMARY:Rookie Basketball Games
DESCRIPTION:Our Rookie Basketball Teams will be playing in the 2nd gym (Old Gym).  The 1st gym (New Gym) will be available for pick up games and pickleball.
URL:https://www.ardmorefamilyymca.org/event/rookie-basketball-games-9/2026-01-17/
END:VEVENT
BEGIN:VEVENT
DTSTART;TZID=UTC:20260120T103000
DTEND;TZID=UTC:20260120T111500
DTSTAMP:20260423T014709
CREATED:20250220T221614Z
LAST-MODIFIED:20250220T221614Z
UID:22922-1768905000-1768907700@www.ardmorefamilyymca.org
SUMMARY:Toddler Time
DESCRIPTION:Wiggle\, giggle and dance!  Toddlers and their adult(s) enjoy free time and circle time (with a little bit of adult conversations in between). \nAges 6 months – 4 years \nTuesdays at 10:30 AM in Studio 1. \nFree for members | $12 day pass for nonmember adults (toddlers are FREE)
URL:https://www.ardmorefamilyymca.org/event/toddler-time/2026-01-20/
ATTACH;FMTTYPE=image/jpeg:https://www.ardmorefamilyymca.org/wp-content/uploads/2025/03/maverick-scaled.jpg
END:VEVENT
BEGIN:VEVENT
DTSTART;TZID=UTC:20260120T161500
DTEND;TZID=UTC:20260120T170000
DTSTAMP:20260423T014709
CREATED:20260108T040819Z
LAST-MODIFIED:20260327T191958Z
UID:22807-1768925700-1768928400@www.ardmorefamilyymca.org
SUMMARY:Teen Boot Camp and Conditioning
DESCRIPTION:A structured\, supervised training program designed for kids 10-14 years old to improve physical capabilities\, build movement literacy\, and prevent injury\, rather than just building muscle mass. It combines resistance training (strength) with cardiovascular and athletic drills (conditioning) to boost performance in daily life and sports \nMari and Jake make physical fitness fun.  This class if perfect for every fitness level from beginner to advance. \nFOR TEENS 10 to 14 YEARS OLD. \nTuesdays and Thursdays 4:15 – 5:00 PM \nFree for Members | $35 for Nonmembers
URL:https://www.ardmorefamilyymca.org/event/teen-boot-camp-with-mari/2026-01-20/
ATTACH;FMTTYPE=image/png:https://www.ardmorefamilyymca.org/wp-content/uploads/2026/01/teen-boot-camp-2025-3.png
END:VEVENT
BEGIN:VEVENT
DTSTART;TZID=UTC:20260120T183000
DTEND;TZID=UTC:20260120T203000
DTSTAMP:20260423T014709
CREATED:20260108T034419Z
LAST-MODIFIED:20260108T034419Z
UID:22738-1768933800-1768941000@www.ardmorefamilyymca.org
SUMMARY:Taekwondo
DESCRIPTION:Taekwondo\, a traditional Korean martial arts\, teaches more than physical fighting skills. It is a discipline that shows ways of enhancing our spirit and life through training our body and mind. It is a way of life that promotes discipline\, respect\, and self-confidence. Tuesday nights\, under the direction of instructor Jason Lee\, children and adults will learn proper technique and form. \nAges 4-10 @ 6:30 – 7:30 PM | 11 to adults 6:30-8:30 PM \n\n\n\n\nMaster Lee\, Instructor\, VII Degree Black Belt \n\n\nAmanda Kramer\, Assistant\, III Degree Black Belt \n\n\nScott Shepard\, Assistant\, III Degree Black Belt \n\n\n\n\nMember: $35/month |Non-member: $50/month \n\n\n\n 
URL:https://www.ardmorefamilyymca.org/event/taekwondo-2/2026-01-20/
ATTACH;FMTTYPE=image/jpeg:https://www.ardmorefamilyymca.org/wp-content/uploads/2026/01/teakwondo-4.jpg
END:VEVENT
BEGIN:VEVENT
DTSTART;TZID=UTC:20260121T170000
DTEND;TZID=UTC:20260121T190000
DTSTAMP:20260423T014709
CREATED:20251219T033353Z
LAST-MODIFIED:20251219T033353Z
UID:22705-1769014800-1769022000@www.ardmorefamilyymca.org
SUMMARY:Free CPR and AED Training
DESCRIPTION:Register at the Y front desk.  Space is limited
URL:https://www.ardmorefamilyymca.org/event/free-cpr-and-aed-training-8/
ATTACH;FMTTYPE=image/jpeg:https://www.ardmorefamilyymca.org/wp-content/uploads/2023/09/CPR-Training-graphic.jpg
END:VEVENT
BEGIN:VEVENT
DTSTART;TZID=UTC:20260122T161500
DTEND;TZID=UTC:20260122T170000
DTSTAMP:20260423T014709
CREATED:20260108T040819Z
LAST-MODIFIED:20260327T191958Z
UID:22808-1769098500-1769101200@www.ardmorefamilyymca.org
SUMMARY:Teen Boot Camp and Conditioning
DESCRIPTION:A structured\, supervised training program designed for kids 10-14 years old to improve physical capabilities\, build movement literacy\, and prevent injury\, rather than just building muscle mass. It combines resistance training (strength) with cardiovascular and athletic drills (conditioning) to boost performance in daily life and sports \nMari and Jake make physical fitness fun.  This class if perfect for every fitness level from beginner to advance. \nFOR TEENS 10 to 14 YEARS OLD. \nTuesdays and Thursdays 4:15 – 5:00 PM \nFree for Members | $35 for Nonmembers
URL:https://www.ardmorefamilyymca.org/event/teen-boot-camp-with-mari/2026-01-22/
ATTACH;FMTTYPE=image/png:https://www.ardmorefamilyymca.org/wp-content/uploads/2026/01/teen-boot-camp-2025-3.png
END:VEVENT
BEGIN:VEVENT
DTSTART;TZID=UTC:20260125T050000
DTEND;TZID=UTC:20260302T115900
DTSTAMP:20260423T014709
CREATED:20260125T025704Z
LAST-MODIFIED:20260416T143140Z
UID:23022-1769317200-1772452740@www.ardmorefamilyymca.org
SUMMARY:Jr High Basketball League Registration
DESCRIPTION:Divisions:  5th & 6th and 7th\, 8th\, and 9th \n$60 for members | $85 for nonmembers (Jersey Included) \nSeason begins:  March 21st \nScholarships available until February 24\, 2026 \nRegistration ends March 2\, 2026 \nFor more information contact Jerry Bostic @ 580-504-1066 (text) or 580-223-3990 (call) \nhttps://operations.daxko.com/Online/2013/ProgramsV2/Home.mvc
URL:https://www.ardmorefamilyymca.org/event/jr-high-basketball-league-registration/
ATTACH;FMTTYPE=image/jpeg:https://www.ardmorefamilyymca.org/wp-content/uploads/2026/01/JUNIOR-HIGH-BASKETBALL-photo-only.jpg
END:VEVENT
BEGIN:VEVENT
DTSTART;TZID=UTC:20260127T090000
DTEND;TZID=UTC:20260127T180000
DTSTAMP:20260423T014709
CREATED:20260127T021825Z
LAST-MODIFIED:20260127T022610Z
UID:23039-1769504400-1769536800@www.ardmorefamilyymca.org
SUMMARY:Delayed Opening Tuesday 1/27/26
DESCRIPTION:Touch the link below for class and closure details \nTHE Y IS OPEN \n 
URL:https://www.ardmorefamilyymca.org/event/delayed-opening-tuesday-1-27-26/
ATTACH;FMTTYPE=image/jpeg:https://www.ardmorefamilyymca.org/wp-content/uploads/2026/01/THE-Y-IS-OPEN-e1769480290473.jpg
END:VEVENT
BEGIN:VEVENT
DTSTART;TZID=UTC:20260127T103000
DTEND;TZID=UTC:20260127T111500
DTSTAMP:20260423T014709
CREATED:20250220T221614Z
LAST-MODIFIED:20250220T221614Z
UID:22923-1769509800-1769512500@www.ardmorefamilyymca.org
SUMMARY:Toddler Time
DESCRIPTION:Wiggle\, giggle and dance!  Toddlers and their adult(s) enjoy free time and circle time (with a little bit of adult conversations in between). \nAges 6 months – 4 years \nTuesdays at 10:30 AM in Studio 1. \nFree for members | $12 day pass for nonmember adults (toddlers are FREE)
URL:https://www.ardmorefamilyymca.org/event/toddler-time/2026-01-27/
ATTACH;FMTTYPE=image/jpeg:https://www.ardmorefamilyymca.org/wp-content/uploads/2025/03/maverick-scaled.jpg
END:VEVENT
BEGIN:VEVENT
DTSTART;TZID=UTC:20260127T161500
DTEND;TZID=UTC:20260127T170000
DTSTAMP:20260423T014709
CREATED:20260108T040819Z
LAST-MODIFIED:20260327T191959Z
UID:22809-1769530500-1769533200@www.ardmorefamilyymca.org
SUMMARY:Teen Boot Camp and Conditioning
DESCRIPTION:A structured\, supervised training program designed for kids 10-14 years old to improve physical capabilities\, build movement literacy\, and prevent injury\, rather than just building muscle mass. It combines resistance training (strength) with cardiovascular and athletic drills (conditioning) to boost performance in daily life and sports \nMari and Jake make physical fitness fun.  This class if perfect for every fitness level from beginner to advance. \nFOR TEENS 10 to 14 YEARS OLD. \nTuesdays and Thursdays 4:15 – 5:00 PM \nFree for Members | $35 for Nonmembers
URL:https://www.ardmorefamilyymca.org/event/teen-boot-camp-with-mari/2026-01-27/
ATTACH;FMTTYPE=image/png:https://www.ardmorefamilyymca.org/wp-content/uploads/2026/01/teen-boot-camp-2025-3.png
END:VEVENT
BEGIN:VEVENT
DTSTART;TZID=UTC:20260127T183000
DTEND;TZID=UTC:20260127T203000
DTSTAMP:20260423T014709
CREATED:20260108T034419Z
LAST-MODIFIED:20260108T034419Z
UID:22739-1769538600-1769545800@www.ardmorefamilyymca.org
SUMMARY:Taekwondo
DESCRIPTION:Taekwondo\, a traditional Korean martial arts\, teaches more than physical fighting skills. It is a discipline that shows ways of enhancing our spirit and life through training our body and mind. It is a way of life that promotes discipline\, respect\, and self-confidence. Tuesday nights\, under the direction of instructor Jason Lee\, children and adults will learn proper technique and form. \nAges 4-10 @ 6:30 – 7:30 PM | 11 to adults 6:30-8:30 PM \n\n\n\n\nMaster Lee\, Instructor\, VII Degree Black Belt \n\n\nAmanda Kramer\, Assistant\, III Degree Black Belt \n\n\nScott Shepard\, Assistant\, III Degree Black Belt \n\n\n\n\nMember: $35/month |Non-member: $50/month \n\n\n\n 
URL:https://www.ardmorefamilyymca.org/event/taekwondo-2/2026-01-27/
ATTACH;FMTTYPE=image/jpeg:https://www.ardmorefamilyymca.org/wp-content/uploads/2026/01/teakwondo-4.jpg
END:VEVENT
BEGIN:VEVENT
DTSTART;TZID=UTC:20260128T090000
DTEND;TZID=UTC:20260128T193000
DTSTAMP:20260423T014709
CREATED:20260128T000258Z
LAST-MODIFIED:20260128T000258Z
UID:23051-1769590800-1769628600@www.ardmorefamilyymca.org
SUMMARY:WINTER WEATHER HOURS
DESCRIPTION:Touch the link below for details \nWINTER WEATHER HOURS
URL:https://www.ardmorefamilyymca.org/event/winter-weather-hours/
ATTACH;FMTTYPE=image/jpeg:https://www.ardmorefamilyymca.org/wp-content/uploads/2026/01/THE-Y-IS-OPEN-12826-e1769558535873.jpg
END:VEVENT
BEGIN:VEVENT
DTSTART;TZID=UTC:20260129T161500
DTEND;TZID=UTC:20260129T170000
DTSTAMP:20260423T014709
CREATED:20260108T040819Z
LAST-MODIFIED:20260327T192000Z
UID:22810-1769703300-1769706000@www.ardmorefamilyymca.org
SUMMARY:Teen Boot Camp and Conditioning
DESCRIPTION:A structured\, supervised training program designed for kids 10-14 years old to improve physical capabilities\, build movement literacy\, and prevent injury\, rather than just building muscle mass. It combines resistance training (strength) with cardiovascular and athletic drills (conditioning) to boost performance in daily life and sports \nMari and Jake make physical fitness fun.  This class if perfect for every fitness level from beginner to advance. \nFOR TEENS 10 to 14 YEARS OLD. \nTuesdays and Thursdays 4:15 – 5:00 PM \nFree for Members | $35 for Nonmembers
URL:https://www.ardmorefamilyymca.org/event/teen-boot-camp-with-mari/2026-01-29/
ATTACH;FMTTYPE=image/png:https://www.ardmorefamilyymca.org/wp-content/uploads/2026/01/teen-boot-camp-2025-3.png
END:VEVENT
BEGIN:VEVENT
DTSTART;TZID=UTC:20260203T103000
DTEND;TZID=UTC:20260203T111500
DTSTAMP:20260423T014709
CREATED:20250220T221614Z
LAST-MODIFIED:20250220T221614Z
UID:22924-1770114600-1770117300@www.ardmorefamilyymca.org
SUMMARY:Toddler Time
DESCRIPTION:Wiggle\, giggle and dance!  Toddlers and their adult(s) enjoy free time and circle time (with a little bit of adult conversations in between). \nAges 6 months – 4 years \nTuesdays at 10:30 AM in Studio 1. \nFree for members | $12 day pass for nonmember adults (toddlers are FREE)
URL:https://www.ardmorefamilyymca.org/event/toddler-time/2026-02-03/
ATTACH;FMTTYPE=image/jpeg:https://www.ardmorefamilyymca.org/wp-content/uploads/2025/03/maverick-scaled.jpg
END:VEVENT
BEGIN:VEVENT
DTSTART;TZID=UTC:20260203T161500
DTEND;TZID=UTC:20260203T170000
DTSTAMP:20260423T014709
CREATED:20260108T040819Z
LAST-MODIFIED:20260327T192000Z
UID:22811-1770135300-1770138000@www.ardmorefamilyymca.org
SUMMARY:Teen Boot Camp and Conditioning
DESCRIPTION:A structured\, supervised training program designed for kids 10-14 years old to improve physical capabilities\, build movement literacy\, and prevent injury\, rather than just building muscle mass. It combines resistance training (strength) with cardiovascular and athletic drills (conditioning) to boost performance in daily life and sports \nMari and Jake make physical fitness fun.  This class if perfect for every fitness level from beginner to advance. \nFOR TEENS 10 to 14 YEARS OLD. \nTuesdays and Thursdays 4:15 – 5:00 PM \nFree for Members | $35 for Nonmembers
URL:https://www.ardmorefamilyymca.org/event/teen-boot-camp-with-mari/2026-02-03/
ATTACH;FMTTYPE=image/png:https://www.ardmorefamilyymca.org/wp-content/uploads/2026/01/teen-boot-camp-2025-3.png
END:VEVENT
END:VCALENDAR