BEGIN:VCALENDAR
VERSION:2.0
PRODID:-//The Ardmore Family YMCA - ECPv6.3.0//NONSGML v1.0//EN
CALSCALE:GREGORIAN
METHOD:PUBLISH
X-ORIGINAL-URL:https://www.ardmorefamilyymca.org
X-WR-CALDESC:Events for The Ardmore Family YMCA
REFRESH-INTERVAL;VALUE=DURATION:PT1H
X-Robots-Tag:noindex
X-PUBLISHED-TTL:PT1H
BEGIN:VTIMEZONE
TZID:UTC
BEGIN:STANDARD
TZOFFSETFROM:+0000
TZOFFSETTO:+0000
TZNAME:UTC
DTSTART:20240101T000000
END:STANDARD
END:VTIMEZONE
BEGIN:VEVENT
DTSTART;VALUE=DATE:20240724
DTEND;VALUE=DATE:20240902
DTSTAMP:20260421T025605
CREATED:20240724T222407Z
LAST-MODIFIED:20240724T222407Z
UID:19312-1721779200-1725235199@www.ardmorefamilyymca.org
SUMMARY:Competitive Fall Baseball and Softball Registration
DESCRIPTION:Registration – FALL Competitive 2024
URL:https://www.ardmorefamilyymca.org/event/competitive-fall-baseball-and-softball-registration/
ATTACH;FMTTYPE=image/jpeg:https://www.ardmorefamilyymca.org/wp-content/uploads/2024/07/competitive-Baseball-photo.jpg
END:VEVENT
BEGIN:VEVENT
DTSTART;VALUE=DATE:20240727
DTEND;VALUE=DATE:20240728
DTSTAMP:20260421T025605
CREATED:20240717T185800Z
LAST-MODIFIED:20240717T185800Z
UID:19256-1722038400-1722124799@www.ardmorefamilyymca.org
SUMMARY:FLAG FOOTBALL REGISTRATION
DESCRIPTION:For Boys and Girls 3 years to 5th grade (must turn 4 by October 2024). \nGames are played on Monday\, Tuesday\, and Thursday evenings starting Monday\, September 16th. \nFee:  $50 for members and $75 for nonmembers (t-shirts included).  Pay at the Y front desk\, online at daxko.com/online/2013/programsv2/home.mvc  or scan the QR code below to register.  Scholarships are available for those who qualify.  Scholarship deadline is August 16\, 2024. \n \nContact Jerry Bostic at ardmoreyprograms@gmail.com or text him at 580-504-1066 for more details. \n 
URL:https://www.ardmorefamilyymca.org/event/flag-football-registration-3/2024-07-27/
ATTACH;FMTTYPE=image/jpeg:https://www.ardmorefamilyymca.org/wp-content/uploads/2024/07/20221201-YMCA-Youth-Sports-1020_01-scaled-e1753321094237.jpg
END:VEVENT
BEGIN:VEVENT
DTSTART;VALUE=DATE:20240728
DTEND;VALUE=DATE:20240729
DTSTAMP:20260421T025605
CREATED:20240717T185800Z
LAST-MODIFIED:20240717T185800Z
UID:19257-1722124800-1722211199@www.ardmorefamilyymca.org
SUMMARY:FLAG FOOTBALL REGISTRATION
DESCRIPTION:For Boys and Girls 3 years to 5th grade (must turn 4 by October 2024). \nGames are played on Monday\, Tuesday\, and Thursday evenings starting Monday\, September 16th. \nFee:  $50 for members and $75 for nonmembers (t-shirts included).  Pay at the Y front desk\, online at daxko.com/online/2013/programsv2/home.mvc  or scan the QR code below to register.  Scholarships are available for those who qualify.  Scholarship deadline is August 16\, 2024. \n \nContact Jerry Bostic at ardmoreyprograms@gmail.com or text him at 580-504-1066 for more details. \n 
URL:https://www.ardmorefamilyymca.org/event/flag-football-registration-3/2024-07-28/
ATTACH;FMTTYPE=image/jpeg:https://www.ardmorefamilyymca.org/wp-content/uploads/2024/07/20221201-YMCA-Youth-Sports-1020_01-scaled-e1753321094237.jpg
END:VEVENT
BEGIN:VEVENT
DTSTART;VALUE=DATE:20240729
DTEND;VALUE=DATE:20240730
DTSTAMP:20260421T025605
CREATED:20240717T185800Z
LAST-MODIFIED:20240717T185800Z
UID:19258-1722211200-1722297599@www.ardmorefamilyymca.org
SUMMARY:FLAG FOOTBALL REGISTRATION
DESCRIPTION:For Boys and Girls 3 years to 5th grade (must turn 4 by October 2024). \nGames are played on Monday\, Tuesday\, and Thursday evenings starting Monday\, September 16th. \nFee:  $50 for members and $75 for nonmembers (t-shirts included).  Pay at the Y front desk\, online at daxko.com/online/2013/programsv2/home.mvc  or scan the QR code below to register.  Scholarships are available for those who qualify.  Scholarship deadline is August 16\, 2024. \n \nContact Jerry Bostic at ardmoreyprograms@gmail.com or text him at 580-504-1066 for more details. \n 
URL:https://www.ardmorefamilyymca.org/event/flag-football-registration-3/2024-07-29/
ATTACH;FMTTYPE=image/jpeg:https://www.ardmorefamilyymca.org/wp-content/uploads/2024/07/20221201-YMCA-Youth-Sports-1020_01-scaled-e1753321094237.jpg
END:VEVENT
BEGIN:VEVENT
DTSTART;VALUE=DATE:20240730
DTEND;VALUE=DATE:20240731
DTSTAMP:20260421T025605
CREATED:20240717T185800Z
LAST-MODIFIED:20240717T185800Z
UID:19259-1722297600-1722383999@www.ardmorefamilyymca.org
SUMMARY:FLAG FOOTBALL REGISTRATION
DESCRIPTION:For Boys and Girls 3 years to 5th grade (must turn 4 by October 2024). \nGames are played on Monday\, Tuesday\, and Thursday evenings starting Monday\, September 16th. \nFee:  $50 for members and $75 for nonmembers (t-shirts included).  Pay at the Y front desk\, online at daxko.com/online/2013/programsv2/home.mvc  or scan the QR code below to register.  Scholarships are available for those who qualify.  Scholarship deadline is August 16\, 2024. \n \nContact Jerry Bostic at ardmoreyprograms@gmail.com or text him at 580-504-1066 for more details. \n 
URL:https://www.ardmorefamilyymca.org/event/flag-football-registration-3/2024-07-30/
ATTACH;FMTTYPE=image/jpeg:https://www.ardmorefamilyymca.org/wp-content/uploads/2024/07/20221201-YMCA-Youth-Sports-1020_01-scaled-e1753321094237.jpg
END:VEVENT
BEGIN:VEVENT
DTSTART;TZID=UTC:20240730T173000
DTEND;TZID=UTC:20240730T190000
DTSTAMP:20260421T025605
CREATED:20240328T025200Z
LAST-MODIFIED:20240328T025200Z
UID:18426-1722360600-1722366000@www.ardmorefamilyymca.org
SUMMARY:Taekwondo
DESCRIPTION:Ages 4-6 @ 5:30 PM \n\nAges 7-12 @ 6:15 PM \n\nInstructor Jason Lee VI degree Black Belt \n\nMember: $35/month Non-member: $50/month
URL:https://www.ardmorefamilyymca.org/event/taekwondo/2024-07-30/
ATTACH;FMTTYPE=image/jpeg:https://www.ardmorefamilyymca.org/wp-content/uploads/2024/03/teakwondo-7.jpg
END:VEVENT
BEGIN:VEVENT
DTSTART;VALUE=DATE:20240731
DTEND;VALUE=DATE:20240801
DTSTAMP:20260421T025605
CREATED:20240717T185800Z
LAST-MODIFIED:20240717T185800Z
UID:19260-1722384000-1722470399@www.ardmorefamilyymca.org
SUMMARY:FLAG FOOTBALL REGISTRATION
DESCRIPTION:For Boys and Girls 3 years to 5th grade (must turn 4 by October 2024). \nGames are played on Monday\, Tuesday\, and Thursday evenings starting Monday\, September 16th. \nFee:  $50 for members and $75 for nonmembers (t-shirts included).  Pay at the Y front desk\, online at daxko.com/online/2013/programsv2/home.mvc  or scan the QR code below to register.  Scholarships are available for those who qualify.  Scholarship deadline is August 16\, 2024. \n \nContact Jerry Bostic at ardmoreyprograms@gmail.com or text him at 580-504-1066 for more details. \n 
URL:https://www.ardmorefamilyymca.org/event/flag-football-registration-3/2024-07-31/
ATTACH;FMTTYPE=image/jpeg:https://www.ardmorefamilyymca.org/wp-content/uploads/2024/07/20221201-YMCA-Youth-Sports-1020_01-scaled-e1753321094237.jpg
END:VEVENT
BEGIN:VEVENT
DTSTART;VALUE=DATE:20240801
DTEND;VALUE=DATE:20240802
DTSTAMP:20260421T025605
CREATED:20240717T185800Z
LAST-MODIFIED:20240717T185800Z
UID:19261-1722470400-1722556799@www.ardmorefamilyymca.org
SUMMARY:FLAG FOOTBALL REGISTRATION
DESCRIPTION:For Boys and Girls 3 years to 5th grade (must turn 4 by October 2024). \nGames are played on Monday\, Tuesday\, and Thursday evenings starting Monday\, September 16th. \nFee:  $50 for members and $75 for nonmembers (t-shirts included).  Pay at the Y front desk\, online at daxko.com/online/2013/programsv2/home.mvc  or scan the QR code below to register.  Scholarships are available for those who qualify.  Scholarship deadline is August 16\, 2024. \n \nContact Jerry Bostic at ardmoreyprograms@gmail.com or text him at 580-504-1066 for more details. \n 
URL:https://www.ardmorefamilyymca.org/event/flag-football-registration-3/2024-08-01/
ATTACH;FMTTYPE=image/jpeg:https://www.ardmorefamilyymca.org/wp-content/uploads/2024/07/20221201-YMCA-Youth-Sports-1020_01-scaled-e1753321094237.jpg
END:VEVENT
BEGIN:VEVENT
DTSTART;VALUE=DATE:20240802
DTEND;VALUE=DATE:20240803
DTSTAMP:20260421T025605
CREATED:20240717T185800Z
LAST-MODIFIED:20240717T185800Z
UID:19262-1722556800-1722643199@www.ardmorefamilyymca.org
SUMMARY:FLAG FOOTBALL REGISTRATION
DESCRIPTION:For Boys and Girls 3 years to 5th grade (must turn 4 by October 2024). \nGames are played on Monday\, Tuesday\, and Thursday evenings starting Monday\, September 16th. \nFee:  $50 for members and $75 for nonmembers (t-shirts included).  Pay at the Y front desk\, online at daxko.com/online/2013/programsv2/home.mvc  or scan the QR code below to register.  Scholarships are available for those who qualify.  Scholarship deadline is August 16\, 2024. \n \nContact Jerry Bostic at ardmoreyprograms@gmail.com or text him at 580-504-1066 for more details. \n 
URL:https://www.ardmorefamilyymca.org/event/flag-football-registration-3/2024-08-02/
ATTACH;FMTTYPE=image/jpeg:https://www.ardmorefamilyymca.org/wp-content/uploads/2024/07/20221201-YMCA-Youth-Sports-1020_01-scaled-e1753321094237.jpg
END:VEVENT
BEGIN:VEVENT
DTSTART;VALUE=DATE:20240803
DTEND;VALUE=DATE:20240804
DTSTAMP:20260421T025605
CREATED:20240717T185800Z
LAST-MODIFIED:20240717T185800Z
UID:19263-1722643200-1722729599@www.ardmorefamilyymca.org
SUMMARY:FLAG FOOTBALL REGISTRATION
DESCRIPTION:For Boys and Girls 3 years to 5th grade (must turn 4 by October 2024). \nGames are played on Monday\, Tuesday\, and Thursday evenings starting Monday\, September 16th. \nFee:  $50 for members and $75 for nonmembers (t-shirts included).  Pay at the Y front desk\, online at daxko.com/online/2013/programsv2/home.mvc  or scan the QR code below to register.  Scholarships are available for those who qualify.  Scholarship deadline is August 16\, 2024. \n \nContact Jerry Bostic at ardmoreyprograms@gmail.com or text him at 580-504-1066 for more details. \n 
URL:https://www.ardmorefamilyymca.org/event/flag-football-registration-3/2024-08-03/
ATTACH;FMTTYPE=image/jpeg:https://www.ardmorefamilyymca.org/wp-content/uploads/2024/07/20221201-YMCA-Youth-Sports-1020_01-scaled-e1753321094237.jpg
END:VEVENT
BEGIN:VEVENT
DTSTART;VALUE=DATE:20240804
DTEND;VALUE=DATE:20240805
DTSTAMP:20260421T025605
CREATED:20240717T185800Z
LAST-MODIFIED:20240717T185800Z
UID:19264-1722729600-1722815999@www.ardmorefamilyymca.org
SUMMARY:FLAG FOOTBALL REGISTRATION
DESCRIPTION:For Boys and Girls 3 years to 5th grade (must turn 4 by October 2024). \nGames are played on Monday\, Tuesday\, and Thursday evenings starting Monday\, September 16th. \nFee:  $50 for members and $75 for nonmembers (t-shirts included).  Pay at the Y front desk\, online at daxko.com/online/2013/programsv2/home.mvc  or scan the QR code below to register.  Scholarships are available for those who qualify.  Scholarship deadline is August 16\, 2024. \n \nContact Jerry Bostic at ardmoreyprograms@gmail.com or text him at 580-504-1066 for more details. \n 
URL:https://www.ardmorefamilyymca.org/event/flag-football-registration-3/2024-08-04/
ATTACH;FMTTYPE=image/jpeg:https://www.ardmorefamilyymca.org/wp-content/uploads/2024/07/20221201-YMCA-Youth-Sports-1020_01-scaled-e1753321094237.jpg
END:VEVENT
BEGIN:VEVENT
DTSTART;VALUE=DATE:20240805
DTEND;VALUE=DATE:20240806
DTSTAMP:20260421T025605
CREATED:20240717T185800Z
LAST-MODIFIED:20240717T185800Z
UID:19265-1722816000-1722902399@www.ardmorefamilyymca.org
SUMMARY:FLAG FOOTBALL REGISTRATION
DESCRIPTION:For Boys and Girls 3 years to 5th grade (must turn 4 by October 2024). \nGames are played on Monday\, Tuesday\, and Thursday evenings starting Monday\, September 16th. \nFee:  $50 for members and $75 for nonmembers (t-shirts included).  Pay at the Y front desk\, online at daxko.com/online/2013/programsv2/home.mvc  or scan the QR code below to register.  Scholarships are available for those who qualify.  Scholarship deadline is August 16\, 2024. \n \nContact Jerry Bostic at ardmoreyprograms@gmail.com or text him at 580-504-1066 for more details. \n 
URL:https://www.ardmorefamilyymca.org/event/flag-football-registration-3/2024-08-05/
ATTACH;FMTTYPE=image/jpeg:https://www.ardmorefamilyymca.org/wp-content/uploads/2024/07/20221201-YMCA-Youth-Sports-1020_01-scaled-e1753321094237.jpg
END:VEVENT
BEGIN:VEVENT
DTSTART;VALUE=DATE:20240806
DTEND;VALUE=DATE:20240807
DTSTAMP:20260421T025605
CREATED:20240717T185800Z
LAST-MODIFIED:20240717T185800Z
UID:19266-1722902400-1722988799@www.ardmorefamilyymca.org
SUMMARY:FLAG FOOTBALL REGISTRATION
DESCRIPTION:For Boys and Girls 3 years to 5th grade (must turn 4 by October 2024). \nGames are played on Monday\, Tuesday\, and Thursday evenings starting Monday\, September 16th. \nFee:  $50 for members and $75 for nonmembers (t-shirts included).  Pay at the Y front desk\, online at daxko.com/online/2013/programsv2/home.mvc  or scan the QR code below to register.  Scholarships are available for those who qualify.  Scholarship deadline is August 16\, 2024. \n \nContact Jerry Bostic at ardmoreyprograms@gmail.com or text him at 580-504-1066 for more details. \n 
URL:https://www.ardmorefamilyymca.org/event/flag-football-registration-3/2024-08-06/
ATTACH;FMTTYPE=image/jpeg:https://www.ardmorefamilyymca.org/wp-content/uploads/2024/07/20221201-YMCA-Youth-Sports-1020_01-scaled-e1753321094237.jpg
END:VEVENT
BEGIN:VEVENT
DTSTART;TZID=UTC:20240806T173000
DTEND;TZID=UTC:20240806T190000
DTSTAMP:20260421T025605
CREATED:20240328T025200Z
LAST-MODIFIED:20240328T025200Z
UID:18427-1722965400-1722970800@www.ardmorefamilyymca.org
SUMMARY:Taekwondo
DESCRIPTION:Ages 4-6 @ 5:30 PM \n\nAges 7-12 @ 6:15 PM \n\nInstructor Jason Lee VI degree Black Belt \n\nMember: $35/month Non-member: $50/month
URL:https://www.ardmorefamilyymca.org/event/taekwondo/2024-08-06/
ATTACH;FMTTYPE=image/jpeg:https://www.ardmorefamilyymca.org/wp-content/uploads/2024/03/teakwondo-7.jpg
END:VEVENT
BEGIN:VEVENT
DTSTART;VALUE=DATE:20240807
DTEND;VALUE=DATE:20240808
DTSTAMP:20260421T025605
CREATED:20240717T185800Z
LAST-MODIFIED:20240717T185800Z
UID:19267-1722988800-1723075199@www.ardmorefamilyymca.org
SUMMARY:FLAG FOOTBALL REGISTRATION
DESCRIPTION:For Boys and Girls 3 years to 5th grade (must turn 4 by October 2024). \nGames are played on Monday\, Tuesday\, and Thursday evenings starting Monday\, September 16th. \nFee:  $50 for members and $75 for nonmembers (t-shirts included).  Pay at the Y front desk\, online at daxko.com/online/2013/programsv2/home.mvc  or scan the QR code below to register.  Scholarships are available for those who qualify.  Scholarship deadline is August 16\, 2024. \n \nContact Jerry Bostic at ardmoreyprograms@gmail.com or text him at 580-504-1066 for more details. \n 
URL:https://www.ardmorefamilyymca.org/event/flag-football-registration-3/2024-08-07/
ATTACH;FMTTYPE=image/jpeg:https://www.ardmorefamilyymca.org/wp-content/uploads/2024/07/20221201-YMCA-Youth-Sports-1020_01-scaled-e1753321094237.jpg
END:VEVENT
BEGIN:VEVENT
DTSTART;VALUE=DATE:20240808
DTEND;VALUE=DATE:20240809
DTSTAMP:20260421T025605
CREATED:20240717T185800Z
LAST-MODIFIED:20240717T185800Z
UID:19268-1723075200-1723161599@www.ardmorefamilyymca.org
SUMMARY:FLAG FOOTBALL REGISTRATION
DESCRIPTION:For Boys and Girls 3 years to 5th grade (must turn 4 by October 2024). \nGames are played on Monday\, Tuesday\, and Thursday evenings starting Monday\, September 16th. \nFee:  $50 for members and $75 for nonmembers (t-shirts included).  Pay at the Y front desk\, online at daxko.com/online/2013/programsv2/home.mvc  or scan the QR code below to register.  Scholarships are available for those who qualify.  Scholarship deadline is August 16\, 2024. \n \nContact Jerry Bostic at ardmoreyprograms@gmail.com or text him at 580-504-1066 for more details. \n 
URL:https://www.ardmorefamilyymca.org/event/flag-football-registration-3/2024-08-08/
ATTACH;FMTTYPE=image/jpeg:https://www.ardmorefamilyymca.org/wp-content/uploads/2024/07/20221201-YMCA-Youth-Sports-1020_01-scaled-e1753321094237.jpg
END:VEVENT
BEGIN:VEVENT
DTSTART;VALUE=DATE:20240809
DTEND;VALUE=DATE:20240810
DTSTAMP:20260421T025605
CREATED:20240717T185800Z
LAST-MODIFIED:20240717T185800Z
UID:19269-1723161600-1723247999@www.ardmorefamilyymca.org
SUMMARY:FLAG FOOTBALL REGISTRATION
DESCRIPTION:For Boys and Girls 3 years to 5th grade (must turn 4 by October 2024). \nGames are played on Monday\, Tuesday\, and Thursday evenings starting Monday\, September 16th. \nFee:  $50 for members and $75 for nonmembers (t-shirts included).  Pay at the Y front desk\, online at daxko.com/online/2013/programsv2/home.mvc  or scan the QR code below to register.  Scholarships are available for those who qualify.  Scholarship deadline is August 16\, 2024. \n \nContact Jerry Bostic at ardmoreyprograms@gmail.com or text him at 580-504-1066 for more details. \n 
URL:https://www.ardmorefamilyymca.org/event/flag-football-registration-3/2024-08-09/
ATTACH;FMTTYPE=image/jpeg:https://www.ardmorefamilyymca.org/wp-content/uploads/2024/07/20221201-YMCA-Youth-Sports-1020_01-scaled-e1753321094237.jpg
END:VEVENT
BEGIN:VEVENT
DTSTART;VALUE=DATE:20240810
DTEND;VALUE=DATE:20240811
DTSTAMP:20260421T025605
CREATED:20240717T185800Z
LAST-MODIFIED:20240717T185800Z
UID:19270-1723248000-1723334399@www.ardmorefamilyymca.org
SUMMARY:FLAG FOOTBALL REGISTRATION
DESCRIPTION:For Boys and Girls 3 years to 5th grade (must turn 4 by October 2024). \nGames are played on Monday\, Tuesday\, and Thursday evenings starting Monday\, September 16th. \nFee:  $50 for members and $75 for nonmembers (t-shirts included).  Pay at the Y front desk\, online at daxko.com/online/2013/programsv2/home.mvc  or scan the QR code below to register.  Scholarships are available for those who qualify.  Scholarship deadline is August 16\, 2024. \n \nContact Jerry Bostic at ardmoreyprograms@gmail.com or text him at 580-504-1066 for more details. \n 
URL:https://www.ardmorefamilyymca.org/event/flag-football-registration-3/2024-08-10/
ATTACH;FMTTYPE=image/jpeg:https://www.ardmorefamilyymca.org/wp-content/uploads/2024/07/20221201-YMCA-Youth-Sports-1020_01-scaled-e1753321094237.jpg
END:VEVENT
BEGIN:VEVENT
DTSTART;VALUE=DATE:20240811
DTEND;VALUE=DATE:20240812
DTSTAMP:20260421T025605
CREATED:20240717T185800Z
LAST-MODIFIED:20240717T185800Z
UID:19271-1723334400-1723420799@www.ardmorefamilyymca.org
SUMMARY:FLAG FOOTBALL REGISTRATION
DESCRIPTION:For Boys and Girls 3 years to 5th grade (must turn 4 by October 2024). \nGames are played on Monday\, Tuesday\, and Thursday evenings starting Monday\, September 16th. \nFee:  $50 for members and $75 for nonmembers (t-shirts included).  Pay at the Y front desk\, online at daxko.com/online/2013/programsv2/home.mvc  or scan the QR code below to register.  Scholarships are available for those who qualify.  Scholarship deadline is August 16\, 2024. \n \nContact Jerry Bostic at ardmoreyprograms@gmail.com or text him at 580-504-1066 for more details. \n 
URL:https://www.ardmorefamilyymca.org/event/flag-football-registration-3/2024-08-11/
ATTACH;FMTTYPE=image/jpeg:https://www.ardmorefamilyymca.org/wp-content/uploads/2024/07/20221201-YMCA-Youth-Sports-1020_01-scaled-e1753321094237.jpg
END:VEVENT
BEGIN:VEVENT
DTSTART;VALUE=DATE:20240812
DTEND;VALUE=DATE:20240813
DTSTAMP:20260421T025605
CREATED:20240717T185800Z
LAST-MODIFIED:20240717T185800Z
UID:19272-1723420800-1723507199@www.ardmorefamilyymca.org
SUMMARY:FLAG FOOTBALL REGISTRATION
DESCRIPTION:For Boys and Girls 3 years to 5th grade (must turn 4 by October 2024). \nGames are played on Monday\, Tuesday\, and Thursday evenings starting Monday\, September 16th. \nFee:  $50 for members and $75 for nonmembers (t-shirts included).  Pay at the Y front desk\, online at daxko.com/online/2013/programsv2/home.mvc  or scan the QR code below to register.  Scholarships are available for those who qualify.  Scholarship deadline is August 16\, 2024. \n \nContact Jerry Bostic at ardmoreyprograms@gmail.com or text him at 580-504-1066 for more details. \n 
URL:https://www.ardmorefamilyymca.org/event/flag-football-registration-3/2024-08-12/
ATTACH;FMTTYPE=image/jpeg:https://www.ardmorefamilyymca.org/wp-content/uploads/2024/07/20221201-YMCA-Youth-Sports-1020_01-scaled-e1753321094237.jpg
END:VEVENT
BEGIN:VEVENT
DTSTART;VALUE=DATE:20240813
DTEND;VALUE=DATE:20240814
DTSTAMP:20260421T025605
CREATED:20240717T185800Z
LAST-MODIFIED:20240717T185800Z
UID:19273-1723507200-1723593599@www.ardmorefamilyymca.org
SUMMARY:FLAG FOOTBALL REGISTRATION
DESCRIPTION:For Boys and Girls 3 years to 5th grade (must turn 4 by October 2024). \nGames are played on Monday\, Tuesday\, and Thursday evenings starting Monday\, September 16th. \nFee:  $50 for members and $75 for nonmembers (t-shirts included).  Pay at the Y front desk\, online at daxko.com/online/2013/programsv2/home.mvc  or scan the QR code below to register.  Scholarships are available for those who qualify.  Scholarship deadline is August 16\, 2024. \n \nContact Jerry Bostic at ardmoreyprograms@gmail.com or text him at 580-504-1066 for more details. \n 
URL:https://www.ardmorefamilyymca.org/event/flag-football-registration-3/2024-08-13/
ATTACH;FMTTYPE=image/jpeg:https://www.ardmorefamilyymca.org/wp-content/uploads/2024/07/20221201-YMCA-Youth-Sports-1020_01-scaled-e1753321094237.jpg
END:VEVENT
BEGIN:VEVENT
DTSTART;TZID=UTC:20240813T173000
DTEND;TZID=UTC:20240813T190000
DTSTAMP:20260421T025605
CREATED:20240328T025200Z
LAST-MODIFIED:20240328T025200Z
UID:18428-1723570200-1723575600@www.ardmorefamilyymca.org
SUMMARY:Taekwondo
DESCRIPTION:Ages 4-6 @ 5:30 PM \n\nAges 7-12 @ 6:15 PM \n\nInstructor Jason Lee VI degree Black Belt \n\nMember: $35/month Non-member: $50/month
URL:https://www.ardmorefamilyymca.org/event/taekwondo/2024-08-13/
ATTACH;FMTTYPE=image/jpeg:https://www.ardmorefamilyymca.org/wp-content/uploads/2024/03/teakwondo-7.jpg
END:VEVENT
BEGIN:VEVENT
DTSTART;VALUE=DATE:20240814
DTEND;VALUE=DATE:20240815
DTSTAMP:20260421T025605
CREATED:20240717T185800Z
LAST-MODIFIED:20240717T185800Z
UID:19274-1723593600-1723679999@www.ardmorefamilyymca.org
SUMMARY:FLAG FOOTBALL REGISTRATION
DESCRIPTION:For Boys and Girls 3 years to 5th grade (must turn 4 by October 2024). \nGames are played on Monday\, Tuesday\, and Thursday evenings starting Monday\, September 16th. \nFee:  $50 for members and $75 for nonmembers (t-shirts included).  Pay at the Y front desk\, online at daxko.com/online/2013/programsv2/home.mvc  or scan the QR code below to register.  Scholarships are available for those who qualify.  Scholarship deadline is August 16\, 2024. \n \nContact Jerry Bostic at ardmoreyprograms@gmail.com or text him at 580-504-1066 for more details. \n 
URL:https://www.ardmorefamilyymca.org/event/flag-football-registration-3/2024-08-14/
ATTACH;FMTTYPE=image/jpeg:https://www.ardmorefamilyymca.org/wp-content/uploads/2024/07/20221201-YMCA-Youth-Sports-1020_01-scaled-e1753321094237.jpg
END:VEVENT
BEGIN:VEVENT
DTSTART;VALUE=DATE:20240815
DTEND;VALUE=DATE:20240816
DTSTAMP:20260421T025605
CREATED:20240717T185800Z
LAST-MODIFIED:20240717T185800Z
UID:19275-1723680000-1723766399@www.ardmorefamilyymca.org
SUMMARY:FLAG FOOTBALL REGISTRATION
DESCRIPTION:For Boys and Girls 3 years to 5th grade (must turn 4 by October 2024). \nGames are played on Monday\, Tuesday\, and Thursday evenings starting Monday\, September 16th. \nFee:  $50 for members and $75 for nonmembers (t-shirts included).  Pay at the Y front desk\, online at daxko.com/online/2013/programsv2/home.mvc  or scan the QR code below to register.  Scholarships are available for those who qualify.  Scholarship deadline is August 16\, 2024. \n \nContact Jerry Bostic at ardmoreyprograms@gmail.com or text him at 580-504-1066 for more details. \n 
URL:https://www.ardmorefamilyymca.org/event/flag-football-registration-3/2024-08-15/
ATTACH;FMTTYPE=image/jpeg:https://www.ardmorefamilyymca.org/wp-content/uploads/2024/07/20221201-YMCA-Youth-Sports-1020_01-scaled-e1753321094237.jpg
END:VEVENT
BEGIN:VEVENT
DTSTART;VALUE=DATE:20240816
DTEND;VALUE=DATE:20240817
DTSTAMP:20260421T025605
CREATED:20240717T185800Z
LAST-MODIFIED:20240717T185800Z
UID:19276-1723766400-1723852799@www.ardmorefamilyymca.org
SUMMARY:FLAG FOOTBALL REGISTRATION
DESCRIPTION:For Boys and Girls 3 years to 5th grade (must turn 4 by October 2024). \nGames are played on Monday\, Tuesday\, and Thursday evenings starting Monday\, September 16th. \nFee:  $50 for members and $75 for nonmembers (t-shirts included).  Pay at the Y front desk\, online at daxko.com/online/2013/programsv2/home.mvc  or scan the QR code below to register.  Scholarships are available for those who qualify.  Scholarship deadline is August 16\, 2024. \n \nContact Jerry Bostic at ardmoreyprograms@gmail.com or text him at 580-504-1066 for more details. \n 
URL:https://www.ardmorefamilyymca.org/event/flag-football-registration-3/2024-08-16/
ATTACH;FMTTYPE=image/jpeg:https://www.ardmorefamilyymca.org/wp-content/uploads/2024/07/20221201-YMCA-Youth-Sports-1020_01-scaled-e1753321094237.jpg
END:VEVENT
BEGIN:VEVENT
DTSTART;VALUE=DATE:20240817
DTEND;VALUE=DATE:20240818
DTSTAMP:20260421T025605
CREATED:20240717T185800Z
LAST-MODIFIED:20240717T185800Z
UID:19277-1723852800-1723939199@www.ardmorefamilyymca.org
SUMMARY:FLAG FOOTBALL REGISTRATION
DESCRIPTION:For Boys and Girls 3 years to 5th grade (must turn 4 by October 2024). \nGames are played on Monday\, Tuesday\, and Thursday evenings starting Monday\, September 16th. \nFee:  $50 for members and $75 for nonmembers (t-shirts included).  Pay at the Y front desk\, online at daxko.com/online/2013/programsv2/home.mvc  or scan the QR code below to register.  Scholarships are available for those who qualify.  Scholarship deadline is August 16\, 2024. \n \nContact Jerry Bostic at ardmoreyprograms@gmail.com or text him at 580-504-1066 for more details. \n 
URL:https://www.ardmorefamilyymca.org/event/flag-football-registration-3/2024-08-17/
ATTACH;FMTTYPE=image/jpeg:https://www.ardmorefamilyymca.org/wp-content/uploads/2024/07/20221201-YMCA-Youth-Sports-1020_01-scaled-e1753321094237.jpg
END:VEVENT
BEGIN:VEVENT
DTSTART;VALUE=DATE:20240818
DTEND;VALUE=DATE:20240819
DTSTAMP:20260421T025605
CREATED:20240717T185800Z
LAST-MODIFIED:20240717T185800Z
UID:19278-1723939200-1724025599@www.ardmorefamilyymca.org
SUMMARY:FLAG FOOTBALL REGISTRATION
DESCRIPTION:For Boys and Girls 3 years to 5th grade (must turn 4 by October 2024). \nGames are played on Monday\, Tuesday\, and Thursday evenings starting Monday\, September 16th. \nFee:  $50 for members and $75 for nonmembers (t-shirts included).  Pay at the Y front desk\, online at daxko.com/online/2013/programsv2/home.mvc  or scan the QR code below to register.  Scholarships are available for those who qualify.  Scholarship deadline is August 16\, 2024. \n \nContact Jerry Bostic at ardmoreyprograms@gmail.com or text him at 580-504-1066 for more details. \n 
URL:https://www.ardmorefamilyymca.org/event/flag-football-registration-3/2024-08-18/
ATTACH;FMTTYPE=image/jpeg:https://www.ardmorefamilyymca.org/wp-content/uploads/2024/07/20221201-YMCA-Youth-Sports-1020_01-scaled-e1753321094237.jpg
END:VEVENT
BEGIN:VEVENT
DTSTART;VALUE=DATE:20240819
DTEND;VALUE=DATE:20240820
DTSTAMP:20260421T025605
CREATED:20240717T185800Z
LAST-MODIFIED:20240717T185800Z
UID:19279-1724025600-1724111999@www.ardmorefamilyymca.org
SUMMARY:FLAG FOOTBALL REGISTRATION
DESCRIPTION:For Boys and Girls 3 years to 5th grade (must turn 4 by October 2024). \nGames are played on Monday\, Tuesday\, and Thursday evenings starting Monday\, September 16th. \nFee:  $50 for members and $75 for nonmembers (t-shirts included).  Pay at the Y front desk\, online at daxko.com/online/2013/programsv2/home.mvc  or scan the QR code below to register.  Scholarships are available for those who qualify.  Scholarship deadline is August 16\, 2024. \n \nContact Jerry Bostic at ardmoreyprograms@gmail.com or text him at 580-504-1066 for more details. \n 
URL:https://www.ardmorefamilyymca.org/event/flag-football-registration-3/2024-08-19/
ATTACH;FMTTYPE=image/jpeg:https://www.ardmorefamilyymca.org/wp-content/uploads/2024/07/20221201-YMCA-Youth-Sports-1020_01-scaled-e1753321094237.jpg
END:VEVENT
BEGIN:VEVENT
DTSTART;VALUE=DATE:20240820
DTEND;VALUE=DATE:20240821
DTSTAMP:20260421T025605
CREATED:20240717T185800Z
LAST-MODIFIED:20240717T185800Z
UID:19280-1724112000-1724198399@www.ardmorefamilyymca.org
SUMMARY:FLAG FOOTBALL REGISTRATION
DESCRIPTION:For Boys and Girls 3 years to 5th grade (must turn 4 by October 2024). \nGames are played on Monday\, Tuesday\, and Thursday evenings starting Monday\, September 16th. \nFee:  $50 for members and $75 for nonmembers (t-shirts included).  Pay at the Y front desk\, online at daxko.com/online/2013/programsv2/home.mvc  or scan the QR code below to register.  Scholarships are available for those who qualify.  Scholarship deadline is August 16\, 2024. \n \nContact Jerry Bostic at ardmoreyprograms@gmail.com or text him at 580-504-1066 for more details. \n 
URL:https://www.ardmorefamilyymca.org/event/flag-football-registration-3/2024-08-20/
ATTACH;FMTTYPE=image/jpeg:https://www.ardmorefamilyymca.org/wp-content/uploads/2024/07/20221201-YMCA-Youth-Sports-1020_01-scaled-e1753321094237.jpg
END:VEVENT
BEGIN:VEVENT
DTSTART;TZID=UTC:20240820T173000
DTEND;TZID=UTC:20240820T190000
DTSTAMP:20260421T025605
CREATED:20240328T025200Z
LAST-MODIFIED:20240328T025200Z
UID:18429-1724175000-1724180400@www.ardmorefamilyymca.org
SUMMARY:Taekwondo
DESCRIPTION:Ages 4-6 @ 5:30 PM \n\nAges 7-12 @ 6:15 PM \n\nInstructor Jason Lee VI degree Black Belt \n\nMember: $35/month Non-member: $50/month
URL:https://www.ardmorefamilyymca.org/event/taekwondo/2024-08-20/
ATTACH;FMTTYPE=image/jpeg:https://www.ardmorefamilyymca.org/wp-content/uploads/2024/03/teakwondo-7.jpg
END:VEVENT
END:VCALENDAR