BEGIN:VCALENDAR
VERSION:2.0
PRODID:-//The Ardmore Family YMCA - ECPv6.3.0//NONSGML v1.0//EN
CALSCALE:GREGORIAN
METHOD:PUBLISH
X-ORIGINAL-URL:https://www.ardmorefamilyymca.org
X-WR-CALDESC:Events for The Ardmore Family YMCA
REFRESH-INTERVAL;VALUE=DURATION:PT1H
X-Robots-Tag:noindex
X-PUBLISHED-TTL:PT1H
BEGIN:VTIMEZONE
TZID:UTC
BEGIN:STANDARD
TZOFFSETFROM:+0000
TZOFFSETTO:+0000
TZNAME:UTC
DTSTART:20220101T000000
END:STANDARD
END:VTIMEZONE
BEGIN:VEVENT
DTSTART;VALUE=DATE:20220926
DTEND;VALUE=DATE:20221003
DTSTAMP:20260420T025205
CREATED:20220913T024058Z
LAST-MODIFIED:20220913T024058Z
UID:15641-1664150400-1664755199@www.ardmorefamilyymca.org
SUMMARY:MYZONE ON THE MOVE - Studio 2
DESCRIPTION:Try myzone in studio 2
URL:https://www.ardmorefamilyymca.org/event/myzone-on-the-move-studio-2/
ATTACH;FMTTYPE=image/jpeg:https://www.ardmorefamilyymca.org/wp-content/uploads/2022/09/Myzone-on-the-move-title.jpg
END:VEVENT
BEGIN:VEVENT
DTSTART;VALUE=DATE:20221003
DTEND;VALUE=DATE:20221010
DTSTAMP:20260420T025205
CREATED:20220913T024151Z
LAST-MODIFIED:20220913T024151Z
UID:15643-1664755200-1665359999@www.ardmorefamilyymca.org
SUMMARY:MYZONE ON THE MOVE - Pools
DESCRIPTION:Try myzone in the pool
URL:https://www.ardmorefamilyymca.org/event/myzone-on-the-move-pools/
ATTACH;FMTTYPE=image/jpeg:https://www.ardmorefamilyymca.org/wp-content/uploads/2022/09/Myzone-on-the-move-title.jpg
END:VEVENT
BEGIN:VEVENT
DTSTART;TZID=UTC:20221017T153000
DTEND;TZID=UTC:20221017T180000
DTSTAMP:20260420T025205
CREATED:20220913T024852Z
LAST-MODIFIED:20220913T024852Z
UID:15647-1666020600-1666029600@www.ardmorefamilyymca.org
SUMMARY:Winter Swim Team 2022/2023 Begins
DESCRIPTION:Practice times TBA
URL:https://www.ardmorefamilyymca.org/event/winter-swim-team-2022-2023-begins/
ATTACH;FMTTYPE=image/jpeg:https://www.ardmorefamilyymca.org/wp-content/uploads/2022/09/swim-team-2022-scaled.jpg
END:VEVENT
BEGIN:VEVENT
DTSTART;TZID=UTC:20221023T080000
DTEND;TZID=UTC:20221107T200000
DTSTAMP:20260420T025205
CREATED:20221023T195026Z
LAST-MODIFIED:20221023T195026Z
UID:15749-1666512000-1667851200@www.ardmorefamilyymca.org
SUMMARY:Rookie Basketball Signups
DESCRIPTION:Rookie Basketball is for boys and girls preschool to kindergarten (must be 4 by December 31st to play). \nFees:  $35 for members | $55 for nonmembers \nScholarships are available (income verification will be required).  Scholarship deadline is Thursday\, November 3. \nSeason will begin after Thanksgiving.
URL:https://www.ardmorefamilyymca.org/event/rookie-basketball-signups-2/
ATTACH;FMTTYPE=image/png:https://www.ardmorefamilyymca.org/wp-content/uploads/2022/10/Tague-Basketball-1.png
END:VEVENT
BEGIN:VEVENT
DTSTART;TZID=UTC:20221027T173000
DTEND;TZID=UTC:20221027T183000
DTSTAMP:20260420T025205
CREATED:20221025T105511Z
LAST-MODIFIED:20221025T105511Z
UID:15792-1666891800-1666895400@www.ardmorefamilyymca.org
SUMMARY:Zumba Blackout
DESCRIPTION:Join the party on Thursday @ 5:30 PM as we don’t just sweat but GLOW!
URL:https://www.ardmorefamilyymca.org/event/zumba-blackout/
ATTACH;FMTTYPE=image/jpeg:https://www.ardmorefamilyymca.org/wp-content/uploads/2022/10/zumba.jpg
END:VEVENT
BEGIN:VEVENT
DTSTART;TZID=UTC:20221029T081500
DTEND;TZID=UTC:20221029T113000
DTSTAMP:20260420T025205
CREATED:20221021T010640Z
LAST-MODIFIED:20221021T010640Z
UID:15740-1667031300-1667043000@www.ardmorefamilyymca.org
SUMMARY:Fall Fitness Festival
DESCRIPTION:
URL:https://www.ardmorefamilyymca.org/event/fall-fitness-festival/
ATTACH;FMTTYPE=image/jpeg:https://www.ardmorefamilyymca.org/wp-content/uploads/2022/10/i-can-reds.jpg
END:VEVENT
BEGIN:VEVENT
DTSTART;VALUE=DATE:20221103
DTEND;VALUE=DATE:20221104
DTSTAMP:20260420T025205
CREATED:20221023T195319Z
LAST-MODIFIED:20221023T195319Z
UID:15754-1667433600-1667519999@www.ardmorefamilyymca.org
SUMMARY:Rookie basketball scholarship forms due
DESCRIPTION:Income verification is required for basketball scholarships.  Applications are available at the Y front desk.
URL:https://www.ardmorefamilyymca.org/event/rookie-basketball-scholarship-forms-due/
END:VEVENT
BEGIN:VEVENT
DTSTART;TZID=UTC:20221108T080000
DTEND;TZID=UTC:20221205T203000
DTSTAMP:20260420T025205
CREATED:20221118T041357Z
LAST-MODIFIED:20221118T041514Z
UID:15937-1667894400-1670272200@www.ardmorefamilyymca.org
SUMMARY:Thunder Basketball Registration 1st - 4th Grade
DESCRIPTION:Members $45 | Nonmembers $75 (includes Thunder Shirt) \nScholarships are due by Thursday\, December 1st \nGames will begin in January 2023
URL:https://www.ardmorefamilyymca.org/event/thunder-basketball-1st-4th-grade/
ATTACH;FMTTYPE=image/jpeg:https://www.ardmorefamilyymca.org/wp-content/uploads/2021/10/basketball2.jpg
END:VEVENT
BEGIN:VEVENT
DTSTART;VALUE=DATE:20221124
DTEND;VALUE=DATE:20221125
DTSTAMP:20260420T025205
CREATED:20221124T052053Z
LAST-MODIFIED:20221124T052550Z
UID:15961-1669248000-1669334399@www.ardmorefamilyymca.org
SUMMARY:Thanksgiving - Closed
DESCRIPTION:
URL:https://www.ardmorefamilyymca.org/event/thanksgiving-closed/
ATTACH;FMTTYPE=image/jpeg:https://www.ardmorefamilyymca.org/wp-content/uploads/2022/11/closed-for-thanksgiving.jpg
END:VEVENT
BEGIN:VEVENT
DTSTART;TZID=UTC:20221201T050000
DTEND;TZID=UTC:20221201T203000
DTSTAMP:20260420T025205
CREATED:20221118T041819Z
LAST-MODIFIED:20221118T041819Z
UID:15941-1669870800-1669926600@www.ardmorefamilyymca.org
SUMMARY:Basketball Scholarships Due
DESCRIPTION:Contact Mary Drummond\, Membership Director\, for details on proof of income.
URL:https://www.ardmorefamilyymca.org/event/basketball-scholarships-due/
ATTACH;FMTTYPE=image/jpeg:https://www.ardmorefamilyymca.org/wp-content/uploads/2020/11/Boys-TB-diverse-1-1.jpg
END:VEVENT
BEGIN:VEVENT
DTSTART;TZID=UTC:20221230T111500
DTEND;TZID=UTC:20221230T140000
DTSTAMP:20260420T025205
CREATED:20221128T201738Z
LAST-MODIFIED:20221128T201738Z
UID:15970-1672398900-1672408800@www.ardmorefamilyymca.org
SUMMARY:Blood Drive
DESCRIPTION:
URL:https://www.ardmorefamilyymca.org/event/blood-drive-3/
ATTACH;FMTTYPE=image/jpeg:https://www.ardmorefamilyymca.org/wp-content/uploads/2022/11/emoji_heart_exclamation_full.jpg
END:VEVENT
BEGIN:VEVENT
DTSTART;TZID=UTC:20221231T080000
DTEND;TZID=UTC:20221231T140000
DTSTAMP:20260420T025205
CREATED:20221230T201828Z
LAST-MODIFIED:20221230T201828Z
UID:16143-1672473600-1672495200@www.ardmorefamilyymca.org
SUMMARY:Closing at 2:00 PM
DESCRIPTION:
URL:https://www.ardmorefamilyymca.org/event/closing-at-200-pm/
ATTACH;FMTTYPE=image/jpeg:https://www.ardmorefamilyymca.org/wp-content/uploads/2022/12/happy-new-year-2023.jpg
END:VEVENT
BEGIN:VEVENT
DTSTART;TZID=UTC:20230101T130000
DTEND;TZID=UTC:20230101T170000
DTSTAMP:20260420T025205
CREATED:20221230T201914Z
LAST-MODIFIED:20221230T201914Z
UID:16146-1672578000-1672592400@www.ardmorefamilyymca.org
SUMMARY:Closed for New Year's Day
DESCRIPTION:
URL:https://www.ardmorefamilyymca.org/event/closed-for-new-years-day/
ATTACH;FMTTYPE=image/jpeg:https://www.ardmorefamilyymca.org/wp-content/uploads/2022/12/happy-new-year-2023.jpg
END:VEVENT
BEGIN:VEVENT
DTSTART;TZID=UTC:20230107T090000
DTEND;TZID=UTC:20230107T170000
DTSTAMP:20260420T025205
CREATED:20221230T202241Z
LAST-MODIFIED:20221230T202241Z
UID:16148-1673082000-1673110800@www.ardmorefamilyymca.org
SUMMARY:Basketball Games
DESCRIPTION:The old gym will be closed due to Rookies and 1st – 4th grade basketball games.
URL:https://www.ardmorefamilyymca.org/event/basketball-games/2023-01-07/
ATTACH;FMTTYPE=image/png:https://www.ardmorefamilyymca.org/wp-content/uploads/2021/11/1201348770997149.jC7lSTvN8lEIirCuLsqm_height640.png
END:VEVENT
BEGIN:VEVENT
DTSTART;TZID=UTC:20230117T173000
DTEND;TZID=UTC:20230117T181500
DTSTAMP:20260420T025205
CREATED:20230104T230443Z
LAST-MODIFIED:20230104T230443Z
UID:16172-1673976600-1673979300@www.ardmorefamilyymca.org
SUMMARY:Small Group Boot Camp
DESCRIPTION:Ardmore Family YMCA Personal Trainer\, Amy Heller\, will lead this members only small group boot camp through a whole body workout designed to increase strength\, improve endurance and burn calories.  Most importantly though\, you’ll have fun!  \nJanuary 17th—February 23rd \nTuesdays and Thursdays  \n5:30 PM—6:15 PM : Max 8 people \n 
URL:https://www.ardmorefamilyymca.org/event/small-group-boot-camp/2023-01-17/
ATTACH;FMTTYPE=image/jpeg:https://www.ardmorefamilyymca.org/wp-content/uploads/2023/01/IMG_E6209-scaled.jpg
END:VEVENT
BEGIN:VEVENT
DTSTART;VALUE=DATE:20230302
DTEND;VALUE=DATE:20230407
DTSTAMP:20260420T025205
CREATED:20230301T032554Z
LAST-MODIFIED:20230301T032554Z
UID:16424-1677715200-1680825599@www.ardmorefamilyymca.org
SUMMARY:T-ball\, baseball\, softball registration
DESCRIPTION:Registration begins Thursday\, March 2nd and ends Thursday\, April 6th \nFees:  Members:  $40 and Nonmembers:  $75 (t-shirt included) \nSeason Begins:  End of May 2023 \nMust turn 3 by May 2023 to play.
URL:https://www.ardmorefamilyymca.org/event/t-ball-baseball-softball-registration/
ATTACH;FMTTYPE=image/png:https://www.ardmorefamilyymca.org/wp-content/uploads/2021/03/1200018411573588.gLBbG5qADYnKXw5dhDPY_height640-1.png
END:VEVENT
BEGIN:VEVENT
DTSTART;TZID=UTC:20230306T154500
DTEND;TZID=UTC:20230306T161500
DTSTAMP:20260420T025205
CREATED:20230307T212132Z
LAST-MODIFIED:20230307T221303Z
UID:16484-1678117500-1678119300@www.ardmorefamilyymca.org
SUMMARY:Teen Weight Training
DESCRIPTION:Free for members 10-14 years of age. \nTrain with personal trainer\, Jake Norton\, on proper form and weight training safety all while having fun in the weight room and gym. \nLimited is space. \nRegister at Y front desk.
URL:https://www.ardmorefamilyymca.org/event/teen-weight-training-2/2023-03-06/
END:VEVENT
BEGIN:VEVENT
DTSTART;TZID=UTC:20230424T110000
DTEND;TZID=UTC:20230424T113000
DTSTAMP:20260420T025205
CREATED:20230414T193201Z
LAST-MODIFIED:20230414T193201Z
UID:16702-1682334000-1682335800@www.ardmorefamilyymca.org
SUMMARY:Mommy/Daddy and Me Swim Lessons
DESCRIPTION:Accompanied by a parent\, infants and toddlers learn to be comfortable in the water and develop swim readiness skills through fun and confidence-building experiences\, while parents learn about water safety\, drowning prevention\, and the importance of supervision. \nMommy and me classes are designed for infants and toddlers 6 months to 3 years. \n$40 for members and $60 for nonmembers \nThis session will be Mondays and Wednesdays @ 11:00 AM in the warm water pool.  Classes will begin Monday\, April 24th and end Wednesday\, May 3rd. \n 
URL:https://www.ardmorefamilyymca.org/event/mommy-daddy-and-me-swim-lessons-2/2023-04-24/
ATTACH;FMTTYPE=image/jpeg:https://www.ardmorefamilyymca.org/wp-content/uploads/2023/04/2022-10-21_Aquatics_Infant-Toddler_01296_01_RGB-scaled.jpg
END:VEVENT
BEGIN:VEVENT
DTSTART;TZID=UTC:20230424T163000
DTEND;TZID=UTC:20230424T170000
DTSTAMP:20260420T025205
CREATED:20230414T194635Z
LAST-MODIFIED:20230414T194635Z
UID:16708-1682353800-1682355600@www.ardmorefamilyymca.org
SUMMARY:Safety Around Water (SAW)
DESCRIPTION:Safety Around Water is designed for preschool aged children 3 years to 5 years.  Swimmers become comfortable and confident in the water through practicing safe water habits\, engaging in underwater exploration\, and learning how to swim to safety if they fall into a body of water. \nStudents will achieve basic swimming competency by learning two benchmark skills:  1) Swim\, Float\, Swim – sequencing front glide\, roll\, back float\, roll\, front glide\, and exit and\, 2) Jump\, push\, turn\, grab. \n$40 for members and $60 for nonmembers. \nThere session options in the warm water pool: \n\nMonday/Wednesday 4:30 PM to 5:00 PM\nTuesday/Thursday 9:00 AM to 9:30 AM\nTuesday/Thursday 5:30 PM to 6:00 PM\n\nClasses begin Monday\, April 24th and end Thursday\, May 4th.
URL:https://www.ardmorefamilyymca.org/event/safety-around-water-saw/2023-04-24/
ATTACH;FMTTYPE=image/jpeg:https://www.ardmorefamilyymca.org/wp-content/uploads/2023/04/Maddy-Swim-Lesson-scaled.jpeg
END:VEVENT
BEGIN:VEVENT
DTSTART;TZID=UTC:20230427T133000
DTEND;TZID=UTC:20230427T161500
DTSTAMP:20260420T025205
CREATED:20230215T031953Z
LAST-MODIFIED:20230404T173123Z
UID:16416-1682602200-1682612100@www.ardmorefamilyymca.org
SUMMARY:Blood Drive
DESCRIPTION:Thursday\, April 27\, 2023\n01:30 pm – 04:15 pm\nArdmore Family YMCA\nSocial Hall \n920 15th Ave NW\, Ardmore \nClick the link to register.  https://www.yourbloodinstitute.org/donor/schedules/drive_schedule/398824
URL:https://www.ardmorefamilyymca.org/event/blood-drive-4/
ATTACH;FMTTYPE=image/jpeg:https://www.ardmorefamilyymca.org/wp-content/uploads/2023/02/Community-Blood-Drive.jpg
END:VEVENT
BEGIN:VEVENT
DTSTART;TZID=UTC:20230429T090000
DTEND;TZID=UTC:20230429T120000
DTSTAMP:20260420T025205
CREATED:20230303T041108Z
LAST-MODIFIED:20230404T174852Z
UID:16449-1682758800-1682769600@www.ardmorefamilyymca.org
SUMMARY:Healthy Kids Day!
DESCRIPTION:Join us for our Annual Healthy Kids Day at the Ardmore Family YMCA!  This event is FREE and OPEN TO THE PUBLIC 9:00 AM to Noon.  There will be fun games and events all morning long!  Some of our exciting events are below: \nALL MORNING: \n\nObstacle course and bounce house with Wonder Woman and Captain America\nPhotos with the Fireman\nPool Games and Photos\nChalk the Walk\nTemporary Airbrushed Tattoos with Live In Colors Studios\nBalloon Animals\nExercise Bingo with Prizes\nPlank Station/Jump Rope Station/Push Up Contest\nLive Music\nMeet Officer Trotts and his therapy dog Tokey\nWin Raffle Prizes\nEnjoy Free Snow Cones\nReceive giveaways from local kids friendly businesses\n\nSCHEDULED EVENTS \n\n9 AM – Family Pickleball Lessons with the Ardmore Pickleball Club\n10 AM – Fun Run with the Ardmore Police Department’s DOC the remote control car\n10:30 AM – Hoops with Heroes:  Basketball with the Army\, Air Force and Marine Recruiters\n11 AM – Family Yoga\n11 AM – Kids CPR
URL:https://www.ardmorefamilyymca.org/event/healthy-kids-day-2/
ATTACH;FMTTYPE=image/jpeg:https://www.ardmorefamilyymca.org/wp-content/uploads/2023/03/HKD-2023-FLYER.jpg
END:VEVENT
BEGIN:VEVENT
DTSTART;TZID=UTC:20230512T160000
DTEND;TZID=UTC:20230512T200000
DTSTAMP:20260420T025205
CREATED:20230510T013208Z
LAST-MODIFIED:20230510T013704Z
UID:16810-1683907200-1683921600@www.ardmorefamilyymca.org
SUMMARY:Lifeguard Training
DESCRIPTION:Training Dates: \nFriday May 12th 4:00-8:00 PM\, Saturday May 13th 9:00 – 5:00 PM and Sunday May 14th 1-5 PM \nOr \nFriday May 19th 4:00-8:00 PM\, Saturday May 20th 9:00 – 5:00 PM and Sunday May 21st 1-5 PM \nMust attend all days of selected session.  Prerequisite work must be completed prior to 1st day of class. \nClass Fee: \n$250  with partial reimbursement if hired by YMCA. \nContact Michaela Craven for more details.  580-223-3990 \n 
URL:https://www.ardmorefamilyymca.org/event/lifeguard-training/2023-05-12/
ATTACH;FMTTYPE=image/jpeg:https://www.ardmorefamilyymca.org/wp-content/uploads/2023/05/IMG_8255-1-scaled.jpg
END:VEVENT
BEGIN:VEVENT
DTSTART;TZID=UTC:20230515T110000
DTEND;TZID=UTC:20230515T113000
DTSTAMP:20260420T025205
CREATED:20230510T014154Z
LAST-MODIFIED:20230510T014256Z
UID:16832-1684148400-1684150200@www.ardmorefamilyymca.org
SUMMARY:Mommy/Daddy and Me
DESCRIPTION:Accompanied by a parent\, infants and toddlers learn to be comfortable in the water and develop swim readiness skills through fun and confidence-building experiences\, while parents learn about water safety\, drowning prevention\, and the importance of supervision. \nMommy and me classes are designed for infants and toddlers 6 months to 3 years. \n$40 for members and $60 for nonmembers \nThis session will be Mondays and Wednesdays @ 11:00 AM in the warm water pool.  Classes will begin Monday\, May 15th and end Wednesday\, May 24th. \nRegistration forms are available on our website under programs and services or at the Y front desk.
URL:https://www.ardmorefamilyymca.org/event/mommy-daddy-and-me/2023-05-15/
END:VEVENT
BEGIN:VEVENT
DTSTART;TZID=UTC:20230516T173000
DTEND;TZID=UTC:20230516T180000
DTSTAMP:20260420T025205
CREATED:20230510T014727Z
LAST-MODIFIED:20230510T014727Z
UID:16843-1684258200-1684260000@www.ardmorefamilyymca.org
SUMMARY:Safety Around Water
DESCRIPTION:Safety Around Water is designed for preschool aged children 3 years to 5 years.  Swimmers become comfortable and confident in the water through practicing safe water habits\, engaging in underwater exploration\, and learning how to swim to safety if they fall into a body of water. \nStudents will achieve basic swimming competency by learning two benchmark skills:  1) Swim\, Float\, Swim – sequencing front glide\, roll\, back float\, roll\, front glide\, and exit and\, 2) Jump\, push\, turn\, grab. \n$40 for members and $60 for nonmembers. \nTuesdays and Thursdays 5:30 – 6:00 PM in the warm water pool.
URL:https://www.ardmorefamilyymca.org/event/safety-around-water/2023-05-16/
ATTACH;FMTTYPE=image/jpeg:https://www.ardmorefamilyymca.org/wp-content/uploads/2023/04/Maddy-Swim-Lesson-scaled.jpeg
END:VEVENT
BEGIN:VEVENT
DTSTART;TZID=UTC:20230516T180000
DTEND;TZID=UTC:20230516T183000
DTSTAMP:20260420T025205
CREATED:20230510T020139Z
LAST-MODIFIED:20230510T020553Z
UID:16848-1684260000-1684261800@www.ardmorefamilyymca.org
SUMMARY:Intro to Strokes
DESCRIPTION:Swimmers are introduced to the four competitive swim strokes as well as rescue skills and healthy lifestyle habits. \nTaught by Brooklynn\, certified swim coach and YMCA swim instructor\, your child will be on the right path for improved swim techniques. \n$40 for members and $60 for nonmembers. \nTuesdays and Thursdays 6:00-6:30 PM in the large pool \nClasses begin Tuesday\, May 16th
URL:https://www.ardmorefamilyymca.org/event/intro-to-strokes/2023-05-16/
ATTACH;FMTTYPE=image/jpeg:https://www.ardmorefamilyymca.org/wp-content/uploads/2022/09/swim-lessons-5-scaled.jpg
END:VEVENT
BEGIN:VEVENT
DTSTART;VALUE=DATE:20230605
DTEND;VALUE=DATE:20230606
DTSTAMP:20260420T025205
CREATED:20230523T031816Z
LAST-MODIFIED:20230523T032737Z
UID:16888-1685923200-1686009599@www.ardmorefamilyymca.org
SUMMARY:Swim Lessons:  Session 1
DESCRIPTION:Session 1:  June 5-15th\n8:30 AM Safety Around Water with Madalyne\n12:30 PM Level 1&2 with Emma\n12:30 PM Safety Around Water with Elena\n4:30 PM Level 1&2 with Elena\n6:30 PM Level 3 with Madalyne \nSafety Around Water (ages 3-5) \nStudents learn personal water safety and achieve basic swimming competency by learning two benchmark skills:  1)  Swim\, float\, swim and  2) Jump\, push\, turn\, grab. \nSwim Basics:  Level 1-3 (ages 6+) \nBasic swimming competency by learning two benchmark skills:  (1)  Swim\, float\, swim—sequencing front glide\, roll\, back float\, roll\, front glide\, and exit.  (2)  Jump\, push\, turn\, grab. \nStrokes:  Level 4-6 (ages 6+) \nSwimmers are introduced to the four competitive swimming strokes as well as rescue skills and healthy lifestyle habits. \n$50 for members \n$70 for nonmembers
URL:https://www.ardmorefamilyymca.org/event/swim-lessons-session-1/2023-06-05/
END:VEVENT
BEGIN:VEVENT
DTSTART;TZID=UTC:20230605T090000
DTEND;TZID=UTC:20230728T120000
DTSTAMP:20260420T025205
CREATED:20230519T192325Z
LAST-MODIFIED:20230519T193358Z
UID:16871-1685955600-1690545600@www.ardmorefamilyymca.org
SUMMARY:Summer Kids Club
DESCRIPTION:Supervised gym and pool play\, Summer Kids Club is designed for kids 5 to 11 years old. \nDays:  Monday – Friday \nTime:  9:00 AM to Noon \nDates:  Monday\, June 5th – Friday\, July 28th \nSwim tests will be administered to every child prior to their first day in the pool.  Children who do not pass the swim test will be required to bring coast guard approved lifejackets to be permitted in the pool. \n 
URL:https://www.ardmorefamilyymca.org/event/summer-kids-club/
ATTACH;FMTTYPE=image/jpeg:https://www.ardmorefamilyymca.org/wp-content/uploads/2023/05/katcaptures-133-1-scaled-e1684524825830.jpg
END:VEVENT
BEGIN:VEVENT
DTSTART;TZID=UTC:20230611T180000
DTEND;TZID=UTC:20230611T184500
DTSTAMP:20260420T025205
CREATED:20230611T215445Z
LAST-MODIFIED:20230611T215802Z
UID:16946-1686506400-1686509100@www.ardmorefamilyymca.org
SUMMARY:Partner Swing and Country Two Step Lessons
DESCRIPTION:Enjoy a fun evening out with your dance partner every Wednesday evening @ 6:00 PM this summer.  Each week you and partner will learn the basics of swing or country two step.  Ages 12+ \nFree to members.  $10 day pass for nonmembers (first lesson is FREE) \nWednesday nights in June and July in Studio 1 \nWear comfy shoes\, bring a water\, and dance\, dance\, DANCE!
URL:https://www.ardmorefamilyymca.org/event/partner-swing-and-country-two-step-lessons/2023-06-11/
ATTACH;FMTTYPE=image/jpeg:https://www.ardmorefamilyymca.org/wp-content/uploads/2023/06/Dance-with-us.-Starts-Wednesday-June-7th-at-600-PM.jpg
END:VEVENT
BEGIN:VEVENT
DTSTART;VALUE=DATE:20230619
DTEND;VALUE=DATE:20230620
DTSTAMP:20260420T025205
CREATED:20230523T032615Z
LAST-MODIFIED:20230613T023231Z
UID:16897-1687132800-1687219199@www.ardmorefamilyymca.org
SUMMARY:Swim Lessons:  Session 2
DESCRIPTION:Session 2:  June 19-29th\n12:30 PM Level 1&2 with Emma\n12:30 PM Safety Around Water with Elena\n4:30 PM Level 1&2 with Madalyne\n6:30 PM Safety Around Water with Maggie\n6:30 PM Level 3 with Madalyne\n6:15 PM Level 4-6 with Brooklynn \nSafety Around Water (ages 3-5) \nStudents learn personal water safety and achieve basic swimming competency by learning two benchmark skills:  1)  Swim\, float\, swim and  2) Jump\, push\, turn\, grab. \nSwim Basics:  Level 1-3 (ages 6+) \nBasic swimming competency by learning two benchmark skills:  (1)  Swim\, float\, swim—sequencing front glide\, roll\, back float\, roll\, front glide\, and exit.  (2)  Jump\, push\, turn\, grab. \nStrokes:  Level 4-6 (ages 6+) \nSwimmers are introduced to the four competitive swimming strokes as well as rescue skills and healthy lifestyle habits. \n$50 for members and $70 for nonmembers
URL:https://www.ardmorefamilyymca.org/event/swim-lessons-session-2/2023-06-19/
END:VEVENT
BEGIN:VEVENT
DTSTART;VALUE=DATE:20230704
DTEND;VALUE=DATE:20230705
DTSTAMP:20260420T025205
CREATED:20230703T201753Z
LAST-MODIFIED:20230703T201753Z
UID:17100-1688428800-1688515199@www.ardmorefamilyymca.org
SUMMARY:YMCA CLOSED
DESCRIPTION:
URL:https://www.ardmorefamilyymca.org/event/ymca-closed/
ATTACH;FMTTYPE=image/png:https://www.ardmorefamilyymca.org/wp-content/uploads/2023/07/Closed-for-4th.png
END:VEVENT
END:VCALENDAR