BEGIN:VCALENDAR
VERSION:2.0
PRODID:-//The Ardmore Family YMCA - ECPv6.3.0//NONSGML v1.0//EN
CALSCALE:GREGORIAN
METHOD:PUBLISH
X-ORIGINAL-URL:https://www.ardmorefamilyymca.org
X-WR-CALDESC:Events for The Ardmore Family YMCA
REFRESH-INTERVAL;VALUE=DURATION:PT1H
X-Robots-Tag:noindex
X-PUBLISHED-TTL:PT1H
BEGIN:VTIMEZONE
TZID:UTC
BEGIN:STANDARD
TZOFFSETFROM:+0000
TZOFFSETTO:+0000
TZNAME:UTC
DTSTART:20250101T000000
END:STANDARD
END:VTIMEZONE
BEGIN:VEVENT
DTSTART;TZID=UTC:20250407T180000
DTEND;TZID=UTC:20250423T183000
DTSTAMP:20260421T042640
CREATED:20250403T203911Z
LAST-MODIFIED:20250407T143332Z
UID:20516-1744048800-1745433000@www.ardmorefamilyymca.org
SUMMARY:Swim Basics Registration
DESCRIPTION:Safety Around Water \nAges 3-5 yrs. \nDesigned to teach children to be secure and confident around the water\, this class prepares the swimmer in basic water safety to help reduce the risk of drowning. Skills include safe water habits\, underwater exploration\, and how to swim to safety and exit in the event of falling into a body of water. \nTuesday April 22nd – Thursday\, May 1st   5:15 PM – 5:45 PM \n  \nSwim Basics:  Level 1-3 \nAges 6+ \nIn Water Acclimation\, Water Movement\, and Water Stamina\, students are taught the recommended skills: safe water habits\, underwater exploration\, and how to safely exit in the event of falling into a body of water. Activities\, games\, and drills are utilized as students progress in this skill-based approach to swimming. \nTuesday April 22nd – Thursday\, May 1st  6:00 PM—6:30PM
URL:https://www.ardmorefamilyymca.org/event/swim-basics/
ATTACH;FMTTYPE=image/jpeg:https://www.ardmorefamilyymca.org/wp-content/uploads/2025/04/Goggle-up.jpg
END:VEVENT
BEGIN:VEVENT
DTSTART;TZID=UTC:20250423T050000
DTEND;TZID=UTC:20250423T210000
DTSTAMP:20260421T042640
CREATED:20250401T170817Z
LAST-MODIFIED:20250523T194048Z
UID:20393-1745384400-1745442000@www.ardmorefamilyymca.org
SUMMARY:Day Camp Registration
DESCRIPTION:SUMMER CAMP HANDBOOK \nWelcome to the Ardmore Family YMCA Summer Day Camp. Our aim for Y summer camp is to create a safe and positive space where your child can continue to learn over the summer break.  Kids will acquire new skills\, form new friendships\, and have tons of fun. They will have the chance to showcase their unique talents in a well-supervised environment\, alongside peers of the same age group.  YMCA summer camp gives children experiences and memories that last a lifetime. \nCAMP DATES: \nMonday\, June 2nd —Friday\, July 25th \nCAMPER AGES: \nBoys and girls 4—11 years of age.  Children are divided into age appropriate activities. \nPRICES: \n \nSTAFF: \nThe staff is chosen based on their good judgment\, maturity\, experience\, and demonstrated ability to interact with children. The YMCA adheres to a 1 to 8 ratio for children aged 4-6 and a 1 to 12 ratio for children aged 7 and above. \nWHAT TO BRING: \n\nSack lunch and a snack\nSwimsuit and towel\nFloaties or a lifejacket (non-swimmers)\nBIG SMILE\n\nACTIVITIES: \n\nThemed week\nObstacle courses\nGym games\nSwimming\nLesMills “Born to Move” Exercise\nArts and crafts\nKids yoga class\nField trips\nTaekwondo\nScavenger hunts\nBowling\nAnd more!\n\n 
URL:https://www.ardmorefamilyymca.org/event/day-camp-registration/2025-04-23/
ATTACH;FMTTYPE=image/jpeg:https://www.ardmorefamilyymca.org/wp-content/uploads/2025/04/2024-camp-z00-e1743527283991.jpg
END:VEVENT
BEGIN:VEVENT
DTSTART;TZID=UTC:20250423T050000
DTEND;TZID=UTC:20250423T210000
DTSTAMP:20260421T042640
CREATED:20250403T203414Z
LAST-MODIFIED:20250403T203414Z
UID:20677-1745384400-1745442000@www.ardmorefamilyymca.org
SUMMARY:Swim Lessons Registration:  Safety Around Water
DESCRIPTION:Safety Around Water \nAges 3-5 yrs. \nDesigned to teach children to be secure and confident around the water\, this class prepares the swimmer in basic water safety to help reduce the risk of drowning. Skills include safe water habits\, underwater exploration\, and how to swim to safety and exit in the event of falling into a body of water. \nTuesday April 22nd – Thursday\, May 1st   5:15 PM – 5:45 PM \n  \nSwim Basics:  Level 1-3 \nAges 6+ \nIn Water Acclimation\, Water Movement\, and Water Stamina\, students are taught the recommended skills: safe water habits\, underwater exploration\, and how to safely exit in the event of falling into a body of water. Activities\, games\, and drills are utilized as students progress in this skill-based approach to swimming. \nTuesday April 22nd – Thursday\, May 1st  6:00 PM—6:30PM \n 
URL:https://www.ardmorefamilyymca.org/event/swim-lessons-safety-around-water-2/2025-04-23/
ATTACH;FMTTYPE=image/jpeg:https://www.ardmorefamilyymca.org/wp-content/uploads/2025/04/swim-lessons-3.jpg
END:VEVENT
END:VCALENDAR