BEGIN:VCALENDAR
VERSION:2.0
PRODID:-//The Ardmore Family YMCA - ECPv6.3.0//NONSGML v1.0//EN
CALSCALE:GREGORIAN
METHOD:PUBLISH
X-ORIGINAL-URL:https://www.ardmorefamilyymca.org
X-WR-CALDESC:Events for The Ardmore Family YMCA
REFRESH-INTERVAL;VALUE=DURATION:PT1H
X-Robots-Tag:noindex
X-PUBLISHED-TTL:PT1H
BEGIN:VTIMEZONE
TZID:UTC
BEGIN:STANDARD
TZOFFSETFROM:+0000
TZOFFSETTO:+0000
TZNAME:UTC
DTSTART:20240101T000000
END:STANDARD
END:VTIMEZONE
BEGIN:VEVENT
DTSTART;TZID=UTC:20241217T173000
DTEND;TZID=UTC:20241217T190000
DTSTAMP:20260420T111904
CREATED:20240328T025200Z
LAST-MODIFIED:20240328T025200Z
UID:18867-1734456600-1734462000@www.ardmorefamilyymca.org
SUMMARY:Taekwondo
DESCRIPTION:Ages 4-6 @ 5:30 PM \n\nAges 7-12 @ 6:15 PM \n\nInstructor Jason Lee VI degree Black Belt \n\nMember: $35/month Non-member: $50/month
URL:https://www.ardmorefamilyymca.org/event/taekwondo/2024-12-17/
ATTACH;FMTTYPE=image/jpeg:https://www.ardmorefamilyymca.org/wp-content/uploads/2024/03/teakwondo-7.jpg
END:VEVENT
END:VCALENDAR