BEGIN:VCALENDAR
VERSION:2.0
PRODID:-//The Ardmore Family YMCA - ECPv6.3.0//NONSGML v1.0//EN
CALSCALE:GREGORIAN
METHOD:PUBLISH
X-ORIGINAL-URL:https://www.ardmorefamilyymca.org
X-WR-CALDESC:Events for The Ardmore Family YMCA
REFRESH-INTERVAL;VALUE=DURATION:PT1H
X-Robots-Tag:noindex
X-PUBLISHED-TTL:PT1H
BEGIN:VTIMEZONE
TZID:UTC
BEGIN:STANDARD
TZOFFSETFROM:+0000
TZOFFSETTO:+0000
TZNAME:UTC
DTSTART:20240101T000000
END:STANDARD
END:VTIMEZONE
BEGIN:VEVENT
DTSTART;TZID=UTC:20241108T050000
DTEND;TZID=UTC:20241205T203000
DTSTAMP:20260420T174740
CREATED:20241116T044256Z
LAST-MODIFIED:20241116T044256Z
UID:19712-1731042000-1733430600@www.ardmorefamilyymca.org
SUMMARY:1st-4th Grade Thunder Basketball
DESCRIPTION:GET IN THE GAME   \nGirls & Boys | 1st—4th Grade \nRegistration:  Friday\, Nov 8th through Thursday\, Dec 5th \nSeason Begins:  January 2024 \nFees:  $55 Member | $85 Nonmember (Thunder jersey included) \nScholarships: Deadline Tuesday 12/3/24 (proof of income required for scholarships) \n 
URL:https://www.ardmorefamilyymca.org/event/1st-4th-grade-thunder-basketball/
ATTACH;FMTTYPE=image/jpeg:https://www.ardmorefamilyymca.org/wp-content/uploads/2024/11/IMG_E9030-scaled.jpg
END:VEVENT
BEGIN:VEVENT
DTSTART;TZID=UTC:20241121T081500
DTEND;TZID=UTC:20241121T090000
DTSTAMP:20260420T174740
CREATED:20240929T153752Z
LAST-MODIFIED:20241118T052039Z
UID:19525-1732176900-1732179600@www.ardmorefamilyymca.org
SUMMARY:Reformer Drop-In Classes
DESCRIPTION:Register for these drop-in classes each week to enjoy group training with a Certified Professional trainer. \nWednesday Drop-ins \n11:15 – 12:00 PM with Valarie \nThursday Drop-ins \n8:15 -9:00 AM with Valarie \n10:15-11:00 AM with Kelsey \n$10 per class for members \n$15 per class for nonmembers (day pass included in drop-in fee) \nRegister online or at the Y front desk.  https://operations.daxko.com/online/2013/programsv2/home.mvc
URL:https://www.ardmorefamilyymca.org/event/reformer-drop-in-classes/2024-11-21/
ATTACH;FMTTYPE=image/jpeg:https://www.ardmorefamilyymca.org/wp-content/uploads/2024/09/Reformer-Amy-scaled.jpg
END:VEVENT
BEGIN:VEVENT
DTSTART;TZID=UTC:20241121T101500
DTEND;TZID=UTC:20241121T110000
DTSTAMP:20260420T174740
CREATED:20240929T153752Z
LAST-MODIFIED:20241118T052039Z
UID:19526-1732184100-1732186800@www.ardmorefamilyymca.org
SUMMARY:Reformer Drop-In Classes
DESCRIPTION:Register for these drop-in classes each week to enjoy group training with a Certified Professional trainer. \nWednesday Drop-ins \n11:15 – 12:00 PM with Valarie \nThursday Drop-ins \n8:15 -9:00 AM with Valarie \n10:15-11:00 AM with Kelsey \n$10 per class for members \n$15 per class for nonmembers (day pass included in drop-in fee) \nRegister online or at the Y front desk.  https://operations.daxko.com/online/2013/programsv2/home.mvc
URL:https://www.ardmorefamilyymca.org/event/reformer-drop-in-classes/2024-11-21/8/
ATTACH;FMTTYPE=image/jpeg:https://www.ardmorefamilyymca.org/wp-content/uploads/2024/09/Reformer-Amy-scaled.jpg
END:VEVENT
END:VCALENDAR