BEGIN:VCALENDAR
VERSION:2.0
PRODID:-//The Ardmore Family YMCA - ECPv6.3.0//NONSGML v1.0//EN
CALSCALE:GREGORIAN
METHOD:PUBLISH
X-ORIGINAL-URL:https://www.ardmorefamilyymca.org
X-WR-CALDESC:Events for The Ardmore Family YMCA
REFRESH-INTERVAL;VALUE=DURATION:PT1H
X-Robots-Tag:noindex
X-PUBLISHED-TTL:PT1H
BEGIN:VTIMEZONE
TZID:UTC
BEGIN:STANDARD
TZOFFSETFROM:+0000
TZOFFSETTO:+0000
TZNAME:UTC
DTSTART:20240101T000000
END:STANDARD
END:VTIMEZONE
BEGIN:VEVENT
DTSTART;TZID=UTC:20241016T101500
DTEND;TZID=UTC:20241016T111500
DTSTAMP:20260423T054457
CREATED:20240912T043533Z
LAST-MODIFIED:20240912T043533Z
UID:19457-1729073700-1729077300@www.ardmorefamilyymca.org
SUMMARY:FIT FOR LIFE 101
DESCRIPTION:
URL:https://www.ardmorefamilyymca.org/event/fit-for-life-101/2024-10-16/
END:VEVENT
BEGIN:VEVENT
DTSTART;TZID=UTC:20241016T111500
DTEND;TZID=UTC:20241016T120000
DTSTAMP:20260423T054457
CREATED:20240929T153752Z
LAST-MODIFIED:20241118T052032Z
UID:19509-1729077300-1729080000@www.ardmorefamilyymca.org
SUMMARY:Reformer Drop-In Classes
DESCRIPTION:Register for these drop-in classes each week to enjoy group training with a Certified Professional trainer. \nWednesday Drop-ins \n11:15 – 12:00 PM with Valarie \nThursday Drop-ins \n8:15 -9:00 AM with Valarie \n10:15-11:00 AM with Kelsey \n$10 per class for members \n$15 per class for nonmembers (day pass included in drop-in fee) \nRegister online or at the Y front desk.  https://operations.daxko.com/online/2013/programsv2/home.mvc
URL:https://www.ardmorefamilyymca.org/event/reformer-drop-in-classes/2024-10-16/
ATTACH;FMTTYPE=image/jpeg:https://www.ardmorefamilyymca.org/wp-content/uploads/2024/09/Reformer-Amy-scaled.jpg
END:VEVENT
END:VCALENDAR