BEGIN:VCALENDAR
VERSION:2.0
PRODID:-//The Ardmore Family YMCA - ECPv6.3.0//NONSGML v1.0//EN
CALSCALE:GREGORIAN
METHOD:PUBLISH
X-ORIGINAL-URL:https://www.ardmorefamilyymca.org
X-WR-CALDESC:Events for The Ardmore Family YMCA
REFRESH-INTERVAL;VALUE=DURATION:PT1H
X-Robots-Tag:noindex
X-PUBLISHED-TTL:PT1H
BEGIN:VTIMEZONE
TZID:UTC
BEGIN:STANDARD
TZOFFSETFROM:+0000
TZOFFSETTO:+0000
TZNAME:UTC
DTSTART:20240101T000000
END:STANDARD
END:VTIMEZONE
BEGIN:VEVENT
DTSTART;TZID=UTC:20240926T081500
DTEND;TZID=UTC:20240926T120000
DTSTAMP:20260423T011959
CREATED:20240912T042617Z
LAST-MODIFIED:20240912T042617Z
UID:19447-1727338500-1727352000@www.ardmorefamilyymca.org
SUMMARY:Pilates Reformer Drop-in Classes
DESCRIPTION:
URL:https://www.ardmorefamilyymca.org/event/pilates-reformer-drop-in-classes/2024-09-26/
END:VEVENT
BEGIN:VEVENT
DTSTART;TZID=UTC:20240926T101500
DTEND;TZID=UTC:20240926T110000
DTSTAMP:20260423T011959
CREATED:20240912T042617Z
LAST-MODIFIED:20240912T042617Z
UID:19448-1727345700-1727348400@www.ardmorefamilyymca.org
SUMMARY:Pilates Reformer Drop-in Classes
DESCRIPTION:
URL:https://www.ardmorefamilyymca.org/event/pilates-reformer-drop-in-classes/2024-09-26/3/
END:VEVENT
BEGIN:VEVENT
DTSTART;TZID=UTC:20240926T170000
DTEND;TZID=UTC:20240926T180000
DTSTAMP:20260423T011959
CREATED:20240912T044059Z
LAST-MODIFIED:20240912T044059Z
UID:19466-1727370000-1727373600@www.ardmorefamilyymca.org
SUMMARY:Teen Weight Room and Conditioning
DESCRIPTION:FOR TEENS 10 TO 14 YEARS OLD \nTUESDAYS & THURSDAYS FROM 5:00 –6:00 PM \nFREE FOR MEMBERS | $30 FOR NONMEMBERS \n  \n 
URL:https://www.ardmorefamilyymca.org/event/teen-weight-room-and-conditioning/2024-09-26/
ATTACH;FMTTYPE=image/jpeg:https://www.ardmorefamilyymca.org/wp-content/uploads/2024/09/2024-Teen-Bootcamp-SEP.jpg
END:VEVENT
BEGIN:VEVENT
DTSTART;TZID=UTC:20240926T173000
DTEND;TZID=UTC:20240926T180000
DTSTAMP:20260423T011959
CREATED:20240912T044944Z
LAST-MODIFIED:20240912T044944Z
UID:19472-1727371800-1727373600@www.ardmorefamilyymca.org
SUMMARY:Swim Team Prep
DESCRIPTION:Perfect class for those interested in trying out for the swim team or for those who want to improve on their stroke abilities. \nages 7+ \nSept 24th – Oct 3rd \nTuesdays & Thursdays \n5:30 -6:00 PM \n$40 Members \n$65 Nonmembers
URL:https://www.ardmorefamilyymca.org/event/swim-team-prep-2/2024-09-26/
ATTACH;FMTTYPE=image/jpeg:https://www.ardmorefamilyymca.org/wp-content/uploads/2024/07/fall-swim-team-prepInstagram-Post-3.jpg
END:VEVENT
END:VCALENDAR