BEGIN:VCALENDAR
VERSION:2.0
PRODID:-//The Ardmore Family YMCA - ECPv6.3.0//NONSGML v1.0//EN
CALSCALE:GREGORIAN
METHOD:PUBLISH
X-ORIGINAL-URL:https://www.ardmorefamilyymca.org
X-WR-CALDESC:Events for The Ardmore Family YMCA
REFRESH-INTERVAL;VALUE=DURATION:PT1H
X-Robots-Tag:noindex
X-PUBLISHED-TTL:PT1H
BEGIN:VTIMEZONE
TZID:UTC
BEGIN:STANDARD
TZOFFSETFROM:+0000
TZOFFSETTO:+0000
TZNAME:UTC
DTSTART:20240101T000000
END:STANDARD
END:VTIMEZONE
BEGIN:VEVENT
DTSTART;TZID=UTC:20240925T101500
DTEND;TZID=UTC:20240925T111500
DTSTAMP:20260423T012000
CREATED:20240912T043533Z
LAST-MODIFIED:20240912T043533Z
UID:19454-1727259300-1727262900@www.ardmorefamilyymca.org
SUMMARY:FIT FOR LIFE 101
DESCRIPTION:
URL:https://www.ardmorefamilyymca.org/event/fit-for-life-101/2024-09-25/
END:VEVENT
BEGIN:VEVENT
DTSTART;TZID=UTC:20240925T111500
DTEND;TZID=UTC:20240925T170000
DTSTAMP:20260423T012000
CREATED:20240912T042617Z
LAST-MODIFIED:20240912T042617Z
UID:19446-1727262900-1727283600@www.ardmorefamilyymca.org
SUMMARY:Pilates Reformer Drop-in Classes
DESCRIPTION:
URL:https://www.ardmorefamilyymca.org/event/pilates-reformer-drop-in-classes/2024-09-25/
END:VEVENT
END:VCALENDAR