BEGIN:VCALENDAR
VERSION:2.0
PRODID:-//The Ardmore Family YMCA - ECPv6.3.0//NONSGML v1.0//EN
CALSCALE:GREGORIAN
METHOD:PUBLISH
X-ORIGINAL-URL:https://www.ardmorefamilyymca.org
X-WR-CALDESC:Events for The Ardmore Family YMCA
REFRESH-INTERVAL;VALUE=DURATION:PT1H
X-Robots-Tag:noindex
X-PUBLISHED-TTL:PT1H
BEGIN:VTIMEZONE
TZID:UTC
BEGIN:STANDARD
TZOFFSETFROM:+0000
TZOFFSETTO:+0000
TZNAME:UTC
DTSTART:20240101T000000
END:STANDARD
END:VTIMEZONE
BEGIN:VEVENT
DTSTART;TZID=UTC:20240907T080000
DTEND;TZID=UTC:20240907T130000
DTSTAMP:20260423T011848
CREATED:20240613T022247Z
LAST-MODIFIED:20240729T023303Z
UID:19086-1725696000-1725714000@www.ardmorefamilyymca.org
SUMMARY:On Course for a Cause Golf Tournament
DESCRIPTION:Second annual Golf Tournament – four person scramble to benefit programs at the Ardmore Family YMCA at Lakeview Golf Club.  Saturday\, September 7th.  Check-in at 7:00 PM with a 8:00 AM Shotgun Start. \nPrizes\, raffles and more.  Breakfast included in registration fee. \n$300 per team \n$100 hole sponsorship \nAdditional Raffle Tickets: $1 each or 3 for $5 \nMulligans (second chance shot): $5 each with a maximum of 3 per player \nString (extension for a putt on the green): $5 per foot with a maximum of 3 feet per team. \nCash prizes for closest to the hole and longest drive\, male and female. \nRegistration and hole sponsorship forms available here \nFor more information or to submit your team\, contact Baylie Ingram at 580-222-3704 or email accounting5287@yahoo.com \n \n \n 
URL:https://www.ardmorefamilyymca.org/event/on-course-for-a-cause-golf-tournament-2/
ATTACH;FMTTYPE=image/jpeg:https://www.ardmorefamilyymca.org/wp-content/uploads/2024/06/IMG_1286-1-scaled.jpg
END:VEVENT
END:VCALENDAR