BEGIN:VCALENDAR
VERSION:2.0
PRODID:-//The Ardmore Family YMCA - ECPv6.3.0//NONSGML v1.0//EN
CALSCALE:GREGORIAN
METHOD:PUBLISH
X-ORIGINAL-URL:https://www.ardmorefamilyymca.org
X-WR-CALDESC:Events for The Ardmore Family YMCA
REFRESH-INTERVAL;VALUE=DURATION:PT1H
X-Robots-Tag:noindex
X-PUBLISHED-TTL:PT1H
BEGIN:VTIMEZONE
TZID:UTC
BEGIN:STANDARD
TZOFFSETFROM:+0000
TZOFFSETTO:+0000
TZNAME:UTC
DTSTART:20240101T000000
END:STANDARD
END:VTIMEZONE
BEGIN:VEVENT
DTSTART;TZID=UTC:20240630T080000
DTEND;TZID=UTC:20240630T170000
DTSTAMP:20260420T221426
CREATED:20240516T175029Z
LAST-MODIFIED:20240516T175029Z
UID:18811-1719734400-1719766800@www.ardmorefamilyymca.org
SUMMARY:Class 5 - Lifeguard Certification
DESCRIPTION:Must be 16 to participate \nCLASS FEE  $150.    $75 reimbursement if hired by Ardmore Family YMCA and employment is maintained for a minimum of 3 months. \nMust attend entire training to certify. \nFor more details contact Brooklynn McKenzie\, Ardmore Y Aquatics Director at 580-223-3990. \nTraining doe not guarantee employment at the Y. \nCERTIFICATION CLASS 4 Dates \nFriday\, June28th 4:00 PM—8:00 PM \nSaturday\, June 29th 8:00 AM—5:00 PM \nSunday\, June 30th 8:00 AM—5:00 PM \nMonday\, July 1st 4:00 PM—8:00 PM
URL:https://www.ardmorefamilyymca.org/event/class-5-lifeguard-certification/2024-06-30/
ATTACH;FMTTYPE=image/jpeg:https://www.ardmorefamilyymca.org/wp-content/uploads/2024/05/IMG_0055-scaled.jpg
END:VEVENT
BEGIN:VEVENT
DTSTART;TZID=UTC:20240630T160000
DTEND;TZID=UTC:20240630T200000
DTSTAMP:20260420T221426
CREATED:20240516T175029Z
LAST-MODIFIED:20240516T175029Z
UID:18812-1719763200-1719777600@www.ardmorefamilyymca.org
SUMMARY:Class 5 - Lifeguard Certification
DESCRIPTION:Must be 16 to participate \nCLASS FEE  $150.    $75 reimbursement if hired by Ardmore Family YMCA and employment is maintained for a minimum of 3 months. \nMust attend entire training to certify. \nFor more details contact Brooklynn McKenzie\, Ardmore Y Aquatics Director at 580-223-3990. \nTraining doe not guarantee employment at the Y. \nCERTIFICATION CLASS 4 Dates \nFriday\, June28th 4:00 PM—8:00 PM \nSaturday\, June 29th 8:00 AM—5:00 PM \nSunday\, June 30th 8:00 AM—5:00 PM \nMonday\, July 1st 4:00 PM—8:00 PM
URL:https://www.ardmorefamilyymca.org/event/class-5-lifeguard-certification/2024-06-30/3/
ATTACH;FMTTYPE=image/jpeg:https://www.ardmorefamilyymca.org/wp-content/uploads/2024/05/IMG_0055-scaled.jpg
END:VEVENT
END:VCALENDAR