BEGIN:VCALENDAR
VERSION:2.0
PRODID:-//The Ardmore Family YMCA - ECPv6.3.0//NONSGML v1.0//EN
CALSCALE:GREGORIAN
METHOD:PUBLISH
X-ORIGINAL-URL:https://www.ardmorefamilyymca.org
X-WR-CALDESC:Events for The Ardmore Family YMCA
REFRESH-INTERVAL;VALUE=DURATION:PT1H
X-Robots-Tag:noindex
X-PUBLISHED-TTL:PT1H
BEGIN:VTIMEZONE
TZID:UTC
BEGIN:STANDARD
TZOFFSETFROM:+0000
TZOFFSETTO:+0000
TZNAME:UTC
DTSTART:20240101T000000
END:STANDARD
END:VTIMEZONE
BEGIN:VEVENT
DTSTART;TZID=UTC:20240424T161500
DTEND;TZID=UTC:20240424T170000
DTSTAMP:20260421T082834
CREATED:20240328T142951Z
LAST-MODIFIED:20251031T182826Z
UID:18473-1713975300-1713978000@www.ardmorefamilyymca.org
SUMMARY:Teen Bootcamp and Conditioning
DESCRIPTION:Logan and Lethabo make physical fitness fun.  This class if perfect for every fitness level from beginner to advance. \nFOR TEENS 10 to 14 YEARS OLD. \nMondays and Wednesdays 4:15 – 5:00 PM \nFree for Members | $30 for Nonmembers \nTeen bootcamp runs March 18 – April 24th
URL:https://www.ardmorefamilyymca.org/event/teen-bootcamp-and-conditioning-2/2024-04-24/
ATTACH;FMTTYPE=image/jpeg:https://www.ardmorefamilyymca.org/wp-content/uploads/2024/03/RYRX29461.jpg
END:VEVENT
END:VCALENDAR