BEGIN:VCALENDAR
VERSION:2.0
PRODID:-//The Ardmore Family YMCA - ECPv6.3.0//NONSGML v1.0//EN
CALSCALE:GREGORIAN
METHOD:PUBLISH
X-ORIGINAL-URL:https://www.ardmorefamilyymca.org
X-WR-CALDESC:Events for The Ardmore Family YMCA
REFRESH-INTERVAL;VALUE=DURATION:PT1H
X-Robots-Tag:noindex
X-PUBLISHED-TTL:PT1H
BEGIN:VTIMEZONE
TZID:UTC
BEGIN:STANDARD
TZOFFSETFROM:+0000
TZOFFSETTO:+0000
TZNAME:UTC
DTSTART:20240101T000000
END:STANDARD
END:VTIMEZONE
BEGIN:VEVENT
DTSTART;TZID=UTC:20240420T100000
DTEND;TZID=UTC:20240420T130000
DTSTAMP:20260423T112024
CREATED:20240210T184810Z
LAST-MODIFIED:20240210T185527Z
UID:18101-1713607200-1713618000@www.ardmorefamilyymca.org
SUMMARY:Health Kids Day!
DESCRIPTION:A FREE nationwide family community event celebrating kids staying active this summer and all year. \nJoin us at the Ardmore Family YMCA for a fun morning of games and activities.  A few include: \nKid Fun Run \nLesMills “Born to Move” \nFamily Pickleball \nPool fishing \nKids CPR \nAirbrushed tattoos \nSnow cones \nand more! \nKids\, parents\, and grandparents are all welcome to join us for this fun family event. \n 
URL:https://www.ardmorefamilyymca.org/event/health-kids-day/
ATTACH;FMTTYPE=image/jpeg:https://www.ardmorefamilyymca.org/wp-content/uploads/2024/02/Instagram-HKD-E.jpg
END:VEVENT
END:VCALENDAR