BEGIN:VCALENDAR
VERSION:2.0
PRODID:-//The Ardmore Family YMCA - ECPv6.3.0//NONSGML v1.0//EN
CALSCALE:GREGORIAN
METHOD:PUBLISH
X-ORIGINAL-URL:https://www.ardmorefamilyymca.org
X-WR-CALDESC:Events for The Ardmore Family YMCA
REFRESH-INTERVAL;VALUE=DURATION:PT1H
X-Robots-Tag:noindex
X-PUBLISHED-TTL:PT1H
BEGIN:VTIMEZONE
TZID:UTC
BEGIN:STANDARD
TZOFFSETFROM:+0000
TZOFFSETTO:+0000
TZNAME:UTC
DTSTART:20240101T000000
END:STANDARD
END:VTIMEZONE
BEGIN:VEVENT
DTSTART;TZID=UTC:20240417T170000
DTEND;TZID=UTC:20240417T190000
DTSTAMP:20260421T082803
CREATED:20240328T024520Z
LAST-MODIFIED:20240328T024708Z
UID:18404-1713373200-1713380400@www.ardmorefamilyymca.org
SUMMARY:FREE CPR and AED training
DESCRIPTION:Register at the Y front desk.  Space is limited.
URL:https://www.ardmorefamilyymca.org/event/free-cpr-and-aed-training-2/
ATTACH;FMTTYPE=image/png:https://www.ardmorefamilyymca.org/wp-content/uploads/2021/08/cpr-training-minus-first-aid.png
END:VEVENT
END:VCALENDAR