BEGIN:VCALENDAR
VERSION:2.0
PRODID:-//The Ardmore Family YMCA - ECPv6.3.0//NONSGML v1.0//EN
CALSCALE:GREGORIAN
METHOD:PUBLISH
X-ORIGINAL-URL:https://www.ardmorefamilyymca.org
X-WR-CALDESC:Events for The Ardmore Family YMCA
REFRESH-INTERVAL;VALUE=DURATION:PT1H
X-Robots-Tag:noindex
X-PUBLISHED-TTL:PT1H
BEGIN:VTIMEZONE
TZID:UTC
BEGIN:STANDARD
TZOFFSETFROM:+0000
TZOFFSETTO:+0000
TZNAME:UTC
DTSTART:20240101T000000
END:STANDARD
END:VTIMEZONE
BEGIN:VEVENT
DTSTART;TZID=UTC:20240416T173000
DTEND;TZID=UTC:20240416T180000
DTSTAMP:20260421T130447
CREATED:20240328T015449Z
LAST-MODIFIED:20240328T024036Z
UID:18388-1713288600-1713290400@www.ardmorefamilyymca.org
SUMMARY:Swim Team Prep
DESCRIPTION:Swim Team is a great way to stay active and help your child build self-confidence and team camaraderie. Join our Swim Team Prep Class and help your child develop and refine their swim strokes for the summer swim season. \nTwo sessions and opportunities to join swim team prep: \nApril 16th – April 25th 5:30 – 6:00 PM \nApril 30th – May 9th 5:30-6:00 PM \nTuesday and Thursdays only \n$40 for members | $65 for nonmembers
URL:https://www.ardmorefamilyymca.org/event/swim-team-prep/2024-04-16/
ATTACH;FMTTYPE=image/jpeg:https://www.ardmorefamilyymca.org/wp-content/uploads/2022/09/swim-lessons-5-scaled.jpg
END:VEVENT
END:VCALENDAR