BEGIN:VCALENDAR
VERSION:2.0
PRODID:-//The Ardmore Family YMCA - ECPv6.3.0//NONSGML v1.0//EN
CALSCALE:GREGORIAN
METHOD:PUBLISH
X-ORIGINAL-URL:https://www.ardmorefamilyymca.org
X-WR-CALDESC:Events for The Ardmore Family YMCA
REFRESH-INTERVAL;VALUE=DURATION:PT1H
X-Robots-Tag:noindex
X-PUBLISHED-TTL:PT1H
BEGIN:VTIMEZONE
TZID:UTC
BEGIN:STANDARD
TZOFFSETFROM:+0000
TZOFFSETTO:+0000
TZNAME:UTC
DTSTART:20240101T000000
END:STANDARD
END:VTIMEZONE
BEGIN:VEVENT
DTSTART;TZID=UTC:20240301T000000
DTEND;TZID=UTC:20240408T210000
DTSTAMP:20260421T082803
CREATED:20240229T041349Z
LAST-MODIFIED:20240229T042130Z
UID:18254-1709251200-1712610000@www.ardmorefamilyymca.org
SUMMARY:Summer League Blastball\, T-ball\, Baseball\, Softball Registration
DESCRIPTION:$45 for members \n$80 for nonmembers \nGames begin end of March \nScholarship applications available at the Y front desk.
URL:https://www.ardmorefamilyymca.org/event/blastball-t-ball-baseball-softball-registration/
ATTACH;FMTTYPE=image/jpeg:https://www.ardmorefamilyymca.org/wp-content/uploads/2024/02/Softball-Find-Y-scaled.jpg
END:VEVENT
END:VCALENDAR