BEGIN:VCALENDAR
VERSION:2.0
PRODID:-//The Ardmore Family YMCA - ECPv6.3.0//NONSGML v1.0//EN
CALSCALE:GREGORIAN
METHOD:PUBLISH
X-ORIGINAL-URL:https://www.ardmorefamilyymca.org
X-WR-CALDESC:Events for The Ardmore Family YMCA
REFRESH-INTERVAL;VALUE=DURATION:PT1H
X-Robots-Tag:noindex
X-PUBLISHED-TTL:PT1H
BEGIN:VTIMEZONE
TZID:UTC
BEGIN:STANDARD
TZOFFSETFROM:+0000
TZOFFSETTO:+0000
TZNAME:UTC
DTSTART:20240101T000000
END:STANDARD
END:VTIMEZONE
BEGIN:VEVENT
DTSTART;TZID=UTC:20240301T000000
DTEND;TZID=UTC:20240408T210000
DTSTAMP:20260421T082835
CREATED:20240229T041349Z
LAST-MODIFIED:20240229T042130Z
UID:18254-1709251200-1712610000@www.ardmorefamilyymca.org
SUMMARY:Summer League Blastball\, T-ball\, Baseball\, Softball Registration
DESCRIPTION:$45 for members \n$80 for nonmembers \nGames begin end of March \nScholarship applications available at the Y front desk.
URL:https://www.ardmorefamilyymca.org/event/blastball-t-ball-baseball-softball-registration/
ATTACH;FMTTYPE=image/jpeg:https://www.ardmorefamilyymca.org/wp-content/uploads/2024/02/Softball-Find-Y-scaled.jpg
END:VEVENT
BEGIN:VEVENT
DTSTART;TZID=UTC:20240402T173000
DTEND;TZID=UTC:20240402T180000
DTSTAMP:20260421T082835
CREATED:20240328T030059Z
LAST-MODIFIED:20240328T141258Z
UID:18446-1712079000-1712080800@www.ardmorefamilyymca.org
SUMMARY:Safety Around Water (ages 3-5)
DESCRIPTION:For ages 3 year to 5 years\, these lessons are designed to teach children to be secure and confident around the water\, preparing the swimmer in basic water safety to help reduce the risk of drowning.  Skills include safe water habits\, underwater exploration\, and how to swim to safety and exit in the event of falling into a body of water. \nTuesdays and Thursdays 5:30 PM – 6:00 PM \nRegister online by going to the purple banner at the top of our website\, scanning the QR code below\, or registering at the Y front desk. \nMembers:  $40 | Nonmembers:  $60
URL:https://www.ardmorefamilyymca.org/event/safety-around-water-ages-3-5/2024-04-02/
END:VEVENT
BEGIN:VEVENT
DTSTART;TZID=UTC:20240402T173000
DTEND;TZID=UTC:20240402T190000
DTSTAMP:20260421T082835
CREATED:20240328T025200Z
LAST-MODIFIED:20240328T025200Z
UID:18408-1712079000-1712084400@www.ardmorefamilyymca.org
SUMMARY:Taekwondo
DESCRIPTION:Ages 4-6 @ 5:30 PM \n\nAges 7-12 @ 6:15 PM \n\nInstructor Jason Lee VI degree Black Belt \n\nMember: $35/month Non-member: $50/month
URL:https://www.ardmorefamilyymca.org/event/taekwondo/2024-04-02/
ATTACH;FMTTYPE=image/jpeg:https://www.ardmorefamilyymca.org/wp-content/uploads/2024/03/teakwondo-7.jpg
END:VEVENT
END:VCALENDAR