BEGIN:VCALENDAR
VERSION:2.0
PRODID:-//The Ardmore Family YMCA - ECPv6.3.0//NONSGML v1.0//EN
CALSCALE:GREGORIAN
METHOD:PUBLISH
X-ORIGINAL-URL:https://www.ardmorefamilyymca.org
X-WR-CALDESC:Events for The Ardmore Family YMCA
REFRESH-INTERVAL;VALUE=DURATION:PT1H
X-Robots-Tag:noindex
X-PUBLISHED-TTL:PT1H
BEGIN:VTIMEZONE
TZID:UTC
BEGIN:STANDARD
TZOFFSETFROM:+0000
TZOFFSETTO:+0000
TZNAME:UTC
DTSTART:20220101T000000
END:STANDARD
END:VTIMEZONE
BEGIN:VEVENT
DTSTART;VALUE=DATE:20220912
DTEND;VALUE=DATE:20220919
DTSTAMP:20260419T211652
CREATED:20220913T023256Z
LAST-MODIFIED:20220913T023440Z
UID:15619-1662940800-1663545599@www.ardmorefamilyymca.org
SUMMARY:MYZONE ON THE MOVE - Weight Room
DESCRIPTION:Try myzone in the weight room
URL:https://www.ardmorefamilyymca.org/event/myzone-on-the-move-weight-room/2022-09-12/
ATTACH;FMTTYPE=image/jpeg:https://www.ardmorefamilyymca.org/wp-content/uploads/2022/09/Myzone-on-the-move-title.jpg
END:VEVENT
END:VCALENDAR