BEGIN:VCALENDAR
VERSION:2.0
PRODID:-//The Ardmore Family YMCA - ECPv6.3.0//NONSGML v1.0//EN
CALSCALE:GREGORIAN
METHOD:PUBLISH
X-ORIGINAL-URL:https://www.ardmorefamilyymca.org
X-WR-CALDESC:Events for The Ardmore Family YMCA
REFRESH-INTERVAL;VALUE=DURATION:PT1H
X-Robots-Tag:noindex
X-PUBLISHED-TTL:PT1H
BEGIN:VTIMEZONE
TZID:UTC
BEGIN:STANDARD
TZOFFSETFROM:+0000
TZOFFSETTO:+0000
TZNAME:UTC
DTSTART:20220101T000000
END:STANDARD
END:VTIMEZONE
BEGIN:VEVENT
DTSTART;TZID=UTC:20220723T080000
DTEND;TZID=UTC:20220723T120000
DTSTAMP:20260420T065410
CREATED:20220715T035506Z
LAST-MODIFIED:20220715T035506Z
UID:15273-1658563200-1658577600@www.ardmorefamilyymca.org
SUMMARY:Pool Closed For Swim Meet
DESCRIPTION:The large pool will be closed from 8:00 AM – 12:00 PM on Saturday\, July 23rd for a YMCA Swim Meet
URL:https://www.ardmorefamilyymca.org/event/pool-closed-for-swim-meet/
ATTACH;FMTTYPE=image/jpeg:https://www.ardmorefamilyymca.org/wp-content/uploads/2022/04/swim-team-2022-scaled.jpg
END:VEVENT
END:VCALENDAR