BEGIN:VCALENDAR
VERSION:2.0
PRODID:-//The Ardmore Family YMCA - ECPv6.3.0//NONSGML v1.0//EN
CALSCALE:GREGORIAN
METHOD:PUBLISH
X-ORIGINAL-URL:https://www.ardmorefamilyymca.org
X-WR-CALDESC:Events for The Ardmore Family YMCA
REFRESH-INTERVAL;VALUE=DURATION:PT1H
X-Robots-Tag:noindex
X-PUBLISHED-TTL:PT1H
BEGIN:VTIMEZONE
TZID:UTC
BEGIN:STANDARD
TZOFFSETFROM:+0000
TZOFFSETTO:+0000
TZNAME:UTC
DTSTART:20220101T000000
END:STANDARD
END:VTIMEZONE
BEGIN:VEVENT
DTSTART;TZID=UTC:20220620T124500
DTEND;TZID=UTC:20220620T200000
DTSTAMP:20260420T111903
CREATED:20220617T041451Z
LAST-MODIFIED:20220617T041451Z
UID:15058-1655729100-1655755200@www.ardmorefamilyymca.org
SUMMARY:Swim Lessons
DESCRIPTION:$35 for members | $55 for nonmembers \nMonday – Thursday for 2 weeks (June 20th-June 30th) \nSWIM BASICS \n Small Pool \n12:45-1:15 PM Safety Around Water \n12:45-1:15 PM Level 2 \n1:30-2:00 PM Level 2 \n1:30-2:00 PM Level 3 \n2:15-2:45 Pm Level 3 \n  \nSWIM STROKES AND TECHNIQUE \nLarge Pool \n6:20—6:60 PM Level 4-6 \n7:00—7:30 PM Level 4-6 \n 
URL:https://www.ardmorefamilyymca.org/event/swim-lessons/2022-06-20/
END:VEVENT
END:VCALENDAR