BEGIN:VCALENDAR
VERSION:2.0
PRODID:-//The Ardmore Family YMCA - ECPv6.3.0//NONSGML v1.0//EN
CALSCALE:GREGORIAN
METHOD:PUBLISH
X-ORIGINAL-URL:https://www.ardmorefamilyymca.org
X-WR-CALDESC:Events for The Ardmore Family YMCA
REFRESH-INTERVAL;VALUE=DURATION:PT1H
X-Robots-Tag:noindex
X-PUBLISHED-TTL:PT1H
BEGIN:VTIMEZONE
TZID:UTC
BEGIN:STANDARD
TZOFFSETFROM:+0000
TZOFFSETTO:+0000
TZNAME:UTC
DTSTART:20220101T000000
END:STANDARD
END:VTIMEZONE
BEGIN:VEVENT
DTSTART;TZID=UTC:20220606T123000
DTEND;TZID=UTC:20220606T193000
DTSTAMP:20260420T111904
CREATED:20220601T010426Z
LAST-MODIFIED:20220603T185835Z
UID:14665-1654518600-1654543800@www.ardmorefamilyymca.org
SUMMARY:Group June Swim Lessons
DESCRIPTION:Group Swim Lesson \nJune 6-June 16th \nMonday – Thursday | 8 Lessons total \n$35 for Members | $55 for Nonmembers \nAges 18 month – 12 years \nTimes located on attached link Registration – JUNE group 2022 swim lessons
URL:https://www.ardmorefamilyymca.org/event/group-june-swim-lessons/2022-06-06/
ATTACH;FMTTYPE=image/jpeg:https://www.ardmorefamilyymca.org/wp-content/uploads/2021/05/2017-09-27_SWIM_2139-scaled.jpg
END:VEVENT
END:VCALENDAR