BEGIN:VCALENDAR
VERSION:2.0
PRODID:-//The Ardmore Family YMCA - ECPv6.3.0//NONSGML v1.0//EN
CALSCALE:GREGORIAN
METHOD:PUBLISH
X-ORIGINAL-URL:https://www.ardmorefamilyymca.org
X-WR-CALDESC:Events for The Ardmore Family YMCA
REFRESH-INTERVAL;VALUE=DURATION:PT1H
X-Robots-Tag:noindex
X-PUBLISHED-TTL:PT1H
BEGIN:VTIMEZONE
TZID:UTC
BEGIN:STANDARD
TZOFFSETFROM:+0000
TZOFFSETTO:+0000
TZNAME:UTC
DTSTART:20220101T000000
END:STANDARD
END:VTIMEZONE
BEGIN:VEVENT
DTSTART;TZID=UTC:20220901T154500
DTEND;TZID=UTC:20220901T161500
DTSTAMP:20260420T222115
CREATED:20220913T021925Z
LAST-MODIFIED:20220913T021925Z
UID:15608-1662047100-1662048900@www.ardmorefamilyymca.org
SUMMARY:Teen Weight Training
DESCRIPTION:Free Program for Y members 10-14 years of age. \nMonday and Thursday 3:45 – 4:15 PM \nRegistration required
URL:https://www.ardmorefamilyymca.org/event/teen-weight-training/2022-09-01/
END:VEVENT
END:VCALENDAR