BEGIN:VCALENDAR
VERSION:2.0
PRODID:-//The Ardmore Family YMCA - ECPv6.3.0//NONSGML v1.0//EN
CALSCALE:GREGORIAN
METHOD:PUBLISH
X-ORIGINAL-URL:https://www.ardmorefamilyymca.org
X-WR-CALDESC:Events for The Ardmore Family YMCA
REFRESH-INTERVAL;VALUE=DURATION:PT1H
X-Robots-Tag:noindex
X-PUBLISHED-TTL:PT1H
BEGIN:VTIMEZONE
TZID:UTC
BEGIN:STANDARD
TZOFFSETFROM:+0000
TZOFFSETTO:+0000
TZNAME:UTC
DTSTART:20200101T000000
END:STANDARD
END:VTIMEZONE
BEGIN:VEVENT
DTSTART;TZID=UTC:20201110T060000
DTEND;TZID=UTC:20201110T062000
DTSTAMP:20260423T112026
CREATED:20201102T230332Z
LAST-MODIFIED:20201102T230332Z
UID:10688-1604988000-1604989200@www.ardmorefamilyymca.org
SUMMARY:SPRINT 6
DESCRIPTION:Early morning\, small group training with Amy Heller\, YMCA personal trainer.  Get in\, work hard\, get out\, get it done!!!
URL:https://www.ardmorefamilyymca.org/event/sprint-6/2020-11-10/
END:VEVENT
END:VCALENDAR