BEGIN:VCALENDAR
VERSION:2.0
PRODID:-//The Ardmore Family YMCA - ECPv6.3.0//NONSGML v1.0//EN
CALSCALE:GREGORIAN
METHOD:PUBLISH
X-ORIGINAL-URL:https://www.ardmorefamilyymca.org
X-WR-CALDESC:Events for The Ardmore Family YMCA
REFRESH-INTERVAL;VALUE=DURATION:PT1H
X-Robots-Tag:noindex
X-PUBLISHED-TTL:PT1H
BEGIN:VTIMEZONE
TZID:UTC
BEGIN:STANDARD
TZOFFSETFROM:+0000
TZOFFSETTO:+0000
TZNAME:UTC
DTSTART:20210101T000000
END:STANDARD
END:VTIMEZONE
BEGIN:VEVENT
DTSTART;TZID=UTC:20210503T083000
DTEND;TZID=UTC:20210503T090000
DTSTAMP:20260420T131127
CREATED:20210503T033118Z
LAST-MODIFIED:20210503T033118Z
UID:11829-1620030600-1620032400@www.ardmorefamilyymca.org
SUMMARY:Safety Around the Water
DESCRIPTION:swim lessons for 3-5 year old children. \n2 weeks\, 8 lessons total \n  \n 
URL:https://www.ardmorefamilyymca.org/event/safety-around-the-water/2021-05-03/
ATTACH;FMTTYPE=image/jpeg:https://www.ardmorefamilyymca.org/wp-content/uploads/2021/05/2017-09-27_SWIM_2139-scaled.jpg
END:VEVENT
END:VCALENDAR