BEGIN:VCALENDAR
VERSION:2.0
PRODID:-//The Ardmore Family YMCA - ECPv6.3.0//NONSGML v1.0//EN
CALSCALE:GREGORIAN
METHOD:PUBLISH
X-ORIGINAL-URL:https://www.ardmorefamilyymca.org
X-WR-CALDESC:Events for The Ardmore Family YMCA
REFRESH-INTERVAL;VALUE=DURATION:PT1H
X-Robots-Tag:noindex
X-PUBLISHED-TTL:PT1H
BEGIN:VTIMEZONE
TZID:UTC
BEGIN:STANDARD
TZOFFSETFROM:+0000
TZOFFSETTO:+0000
TZNAME:UTC
DTSTART:20250101T000000
END:STANDARD
END:VTIMEZONE
BEGIN:VEVENT
DTSTART;TZID=UTC:20250731T103000
DTEND;TZID=UTC:20250731T114500
DTSTAMP:20260419T212517
CREATED:20250717T042652Z
LAST-MODIFIED:20250801T165452Z
UID:21709-1753957800-1753962300@www.ardmorefamilyymca.org
SUMMARY:Morning Swim Lessons (Session 3)
DESCRIPTION:MORNING SWIM LESSONS (registration will open July 17th) \nSafety Around Water:  ages 3-5 years  Tuesday/Thursday   July 29th – August 7th  10:30 – 11:00 AM \nDesigned to teach children to be secure and confident around the water\, this class prepares the swimmer in basic water safety to help reduce the risk of drowning. Skills include safe water habits\, underwater exploration\, and how to swim to safety and exit in the event of falling into a body of water. \nSwim Basics:  ages 6+ years  Tuesday/Thursday  July 29th – August 7th  11:15 AM – 11:45 AM \nIn Water Acclimation\, Water Movement\, and Water Stamina\, students are taught the recommended skills: safe water habits\, underwater exploration\, and how to safely exit in the event of falling into a body of water. Activities\, games\, and drills are utilized as students progress in this skill-based approach to swimming. \nRegister at the Y front desk or HERE
URL:https://www.ardmorefamilyymca.org/event/morning-swim-lessons-session-3/2025-07-31/
ATTACH;FMTTYPE=image/jpeg:https://www.ardmorefamilyymca.org/wp-content/uploads/2025/07/Summer-Swim-lessons-3-2025-Facebook-Post.jpg
END:VEVENT
BEGIN:VEVENT
DTSTART;TZID=UTC:20250729T103000
DTEND;TZID=UTC:20250729T114500
DTSTAMP:20260419T212517
CREATED:20250717T042652Z
LAST-MODIFIED:20250801T165451Z
UID:21707-1753785000-1753789500@www.ardmorefamilyymca.org
SUMMARY:Morning Swim Lessons (Session 3)
DESCRIPTION:MORNING SWIM LESSONS (registration will open July 17th) \nSafety Around Water:  ages 3-5 years  Tuesday/Thursday   July 29th – August 7th  10:30 – 11:00 AM \nDesigned to teach children to be secure and confident around the water\, this class prepares the swimmer in basic water safety to help reduce the risk of drowning. Skills include safe water habits\, underwater exploration\, and how to swim to safety and exit in the event of falling into a body of water. \nSwim Basics:  ages 6+ years  Tuesday/Thursday  July 29th – August 7th  11:15 AM – 11:45 AM \nIn Water Acclimation\, Water Movement\, and Water Stamina\, students are taught the recommended skills: safe water habits\, underwater exploration\, and how to safely exit in the event of falling into a body of water. Activities\, games\, and drills are utilized as students progress in this skill-based approach to swimming. \nRegister at the Y front desk or HERE
URL:https://www.ardmorefamilyymca.org/event/morning-swim-lessons-session-3/2025-07-29/
ATTACH;FMTTYPE=image/jpeg:https://www.ardmorefamilyymca.org/wp-content/uploads/2025/07/Summer-Swim-lessons-3-2025-Facebook-Post.jpg
END:VEVENT
END:VCALENDAR