BEGIN:VCALENDAR
VERSION:2.0
PRODID:-//The Ardmore Family YMCA - ECPv6.3.0//NONSGML v1.0//EN
CALSCALE:GREGORIAN
METHOD:PUBLISH
X-ORIGINAL-URL:https://www.ardmorefamilyymca.org
X-WR-CALDESC:Events for The Ardmore Family YMCA
REFRESH-INTERVAL;VALUE=DURATION:PT1H
X-Robots-Tag:noindex
X-PUBLISHED-TTL:PT1H
BEGIN:VTIMEZONE
TZID:UTC
BEGIN:STANDARD
TZOFFSETFROM:+0000
TZOFFSETTO:+0000
TZNAME:UTC
DTSTART:20230101T000000
END:STANDARD
END:VTIMEZONE
BEGIN:VEVENT
DTSTART;TZID=UTC:20230424T110000
DTEND;TZID=UTC:20230424T113000
DTSTAMP:20260420T124907
CREATED:20230414T193201Z
LAST-MODIFIED:20230414T193201Z
UID:16702-1682334000-1682335800@www.ardmorefamilyymca.org
SUMMARY:Mommy/Daddy and Me Swim Lessons
DESCRIPTION:Accompanied by a parent\, infants and toddlers learn to be comfortable in the water and develop swim readiness skills through fun and confidence-building experiences\, while parents learn about water safety\, drowning prevention\, and the importance of supervision. \nMommy and me classes are designed for infants and toddlers 6 months to 3 years. \n$40 for members and $60 for nonmembers \nThis session will be Mondays and Wednesdays @ 11:00 AM in the warm water pool.  Classes will begin Monday\, April 24th and end Wednesday\, May 3rd. \n 
URL:https://www.ardmorefamilyymca.org/event/mommy-daddy-and-me-swim-lessons-2/2023-04-24/
ATTACH;FMTTYPE=image/jpeg:https://www.ardmorefamilyymca.org/wp-content/uploads/2023/04/2022-10-21_Aquatics_Infant-Toddler_01296_01_RGB-scaled.jpg
END:VEVENT
END:VCALENDAR