BEGIN:VCALENDAR
VERSION:2.0
PRODID:-//The Ardmore Family YMCA - ECPv6.3.0//NONSGML v1.0//EN
CALSCALE:GREGORIAN
METHOD:PUBLISH
X-ORIGINAL-URL:https://www.ardmorefamilyymca.org
X-WR-CALDESC:Events for The Ardmore Family YMCA
REFRESH-INTERVAL;VALUE=DURATION:PT1H
X-Robots-Tag:noindex
X-PUBLISHED-TTL:PT1H
BEGIN:VTIMEZONE
TZID:UTC
BEGIN:STANDARD
TZOFFSETFROM:+0000
TZOFFSETTO:+0000
TZNAME:UTC
DTSTART:20200101T000000
END:STANDARD
END:VTIMEZONE
BEGIN:VEVENT
DTSTART;TZID=UTC:20201008T161500
DTEND;TZID=UTC:20201008T170000
DTSTAMP:20260420T183838
CREATED:20200930T220637Z
LAST-MODIFIED:20200930T220845Z
UID:10612-1602173700-1602176400@www.ardmorefamilyymca.org
SUMMARY:Kids Cardio
DESCRIPTION:Kids  Cardio \nWe’ll get your child’s heart rate up\, help them reduce anxiety and stress\, all while having fun with this energetic cardio class.  They’ll build endurance\, balance\, and coordination with a variety of cardio activities\, such as body attack\, kid’s combat and a  little martial arts\, all set to high energetic music.   For kids 6 to 12 years old. \n 
URL:https://www.ardmorefamilyymca.org/event/kids-cardio/2020-10-08/
END:VEVENT
END:VCALENDAR