BEGIN:VCALENDAR
VERSION:2.0
PRODID:-//The Ardmore Family YMCA - ECPv6.3.0//NONSGML v1.0//EN
CALSCALE:GREGORIAN
METHOD:PUBLISH
X-ORIGINAL-URL:https://www.ardmorefamilyymca.org
X-WR-CALDESC:Events for The Ardmore Family YMCA
REFRESH-INTERVAL;VALUE=DURATION:PT1H
X-Robots-Tag:noindex
X-PUBLISHED-TTL:PT1H
BEGIN:VTIMEZONE
TZID:UTC
BEGIN:STANDARD
TZOFFSETFROM:+0000
TZOFFSETTO:+0000
TZNAME:UTC
DTSTART:20260101T000000
END:STANDARD
END:VTIMEZONE
BEGIN:VEVENT
DTSTART;TZID=UTC:20260421T173000
DTEND;TZID=UTC:20260421T210000
DTSTAMP:20260419T171543
CREATED:20260416T215925Z
LAST-MODIFIED:20260416T220112Z
UID:23571-1776792600-1776805200@www.ardmorefamilyymca.org
SUMMARY:Front Gym "New Gym" Busy with JH Basketball games
DESCRIPTION:From April 14th – Sunday May 5th the front gym “New Gym” will have basketball games. \nTuesday\, Thursday and Friday evenings 5:30 PM – Close \nSundays 1:00 PM – Close \n 
URL:https://www.ardmorefamilyymca.org/event/front-gym-new-gym-busy-with-jh-basketball-games/2026-04-21/
ATTACH;FMTTYPE=image/webp:https://www.ardmorefamilyymca.org/wp-content/uploads/2025/06/basketball-real.webp
END:VEVENT
BEGIN:VEVENT
DTSTART;TZID=UTC:20260423T173000
DTEND;TZID=UTC:20260423T210000
DTSTAMP:20260419T171543
CREATED:20260416T215925Z
LAST-MODIFIED:20260416T220113Z
UID:23572-1776965400-1776978000@www.ardmorefamilyymca.org
SUMMARY:Front Gym "New Gym" Busy with JH Basketball games
DESCRIPTION:From April 14th – Sunday May 5th the front gym “New Gym” will have basketball games. \nTuesday\, Thursday and Friday evenings 5:30 PM – Close \nSundays 1:00 PM – Close \n 
URL:https://www.ardmorefamilyymca.org/event/front-gym-new-gym-busy-with-jh-basketball-games/2026-04-23/
ATTACH;FMTTYPE=image/webp:https://www.ardmorefamilyymca.org/wp-content/uploads/2025/06/basketball-real.webp
END:VEVENT
BEGIN:VEVENT
DTSTART;TZID=UTC:20260424T173000
DTEND;TZID=UTC:20260424T210000
DTSTAMP:20260419T171543
CREATED:20260416T215925Z
LAST-MODIFIED:20260416T220113Z
UID:23573-1777051800-1777064400@www.ardmorefamilyymca.org
SUMMARY:Front Gym "New Gym" Busy with JH Basketball games
DESCRIPTION:From April 14th – Sunday May 5th the front gym “New Gym” will have basketball games. \nTuesday\, Thursday and Friday evenings 5:30 PM – Close \nSundays 1:00 PM – Close \n 
URL:https://www.ardmorefamilyymca.org/event/front-gym-new-gym-busy-with-jh-basketball-games/2026-04-24/
ATTACH;FMTTYPE=image/webp:https://www.ardmorefamilyymca.org/wp-content/uploads/2025/06/basketball-real.webp
END:VEVENT
BEGIN:VEVENT
DTSTART;TZID=UTC:20260426T130000
DTEND;TZID=UTC:20260426T170000
DTSTAMP:20260419T171543
CREATED:20260416T215925Z
LAST-MODIFIED:20260416T215925Z
UID:23583-1777208400-1777222800@www.ardmorefamilyymca.org
SUMMARY:Front Gym "New Gym" Busy with JH Basketball games
DESCRIPTION:From April 14th – Sunday May 5th the front gym “New Gym” will have basketball games. \nTuesday\, Thursday and Friday evenings 5:30 PM – Close \nSundays 1:00 PM – Close \n 
URL:https://www.ardmorefamilyymca.org/event/front-gym-new-gym-busy-with-jh-basketball-games/2026-04-26/
ATTACH;FMTTYPE=image/webp:https://www.ardmorefamilyymca.org/wp-content/uploads/2025/06/basketball-real.webp
END:VEVENT
BEGIN:VEVENT
DTSTART;TZID=UTC:20260428T173000
DTEND;TZID=UTC:20260428T210000
DTSTAMP:20260419T171543
CREATED:20260416T215925Z
LAST-MODIFIED:20260416T220114Z
UID:23574-1777397400-1777410000@www.ardmorefamilyymca.org
SUMMARY:Front Gym "New Gym" Busy with JH Basketball games
DESCRIPTION:From April 14th – Sunday May 5th the front gym “New Gym” will have basketball games. \nTuesday\, Thursday and Friday evenings 5:30 PM – Close \nSundays 1:00 PM – Close \n 
URL:https://www.ardmorefamilyymca.org/event/front-gym-new-gym-busy-with-jh-basketball-games/2026-04-28/
ATTACH;FMTTYPE=image/webp:https://www.ardmorefamilyymca.org/wp-content/uploads/2025/06/basketball-real.webp
END:VEVENT
BEGIN:VEVENT
DTSTART;TZID=UTC:20260430T173000
DTEND;TZID=UTC:20260430T210000
DTSTAMP:20260419T171543
CREATED:20260416T215925Z
LAST-MODIFIED:20260416T220115Z
UID:23575-1777570200-1777582800@www.ardmorefamilyymca.org
SUMMARY:Front Gym "New Gym" Busy with JH Basketball games
DESCRIPTION:From April 14th – Sunday May 5th the front gym “New Gym” will have basketball games. \nTuesday\, Thursday and Friday evenings 5:30 PM – Close \nSundays 1:00 PM – Close \n 
URL:https://www.ardmorefamilyymca.org/event/front-gym-new-gym-busy-with-jh-basketball-games/2026-04-30/
ATTACH;FMTTYPE=image/webp:https://www.ardmorefamilyymca.org/wp-content/uploads/2025/06/basketball-real.webp
END:VEVENT
BEGIN:VEVENT
DTSTART;TZID=UTC:20260501T173000
DTEND;TZID=UTC:20260501T210000
DTSTAMP:20260419T171543
CREATED:20260416T215925Z
LAST-MODIFIED:20260416T220119Z
UID:23576-1777656600-1777669200@www.ardmorefamilyymca.org
SUMMARY:Front Gym "New Gym" Busy with JH Basketball games
DESCRIPTION:From April 14th – Sunday May 5th the front gym “New Gym” will have basketball games. \nTuesday\, Thursday and Friday evenings 5:30 PM – Close \nSundays 1:00 PM – Close \n 
URL:https://www.ardmorefamilyymca.org/event/front-gym-new-gym-busy-with-jh-basketball-games/2026-05-01/
ATTACH;FMTTYPE=image/webp:https://www.ardmorefamilyymca.org/wp-content/uploads/2025/06/basketball-real.webp
END:VEVENT
BEGIN:VEVENT
DTSTART;TZID=UTC:20260503T130000
DTEND;TZID=UTC:20260503T170000
DTSTAMP:20260419T171543
CREATED:20260416T215925Z
LAST-MODIFIED:20260416T215925Z
UID:23584-1777813200-1777827600@www.ardmorefamilyymca.org
SUMMARY:Front Gym "New Gym" Busy with JH Basketball games
DESCRIPTION:From April 14th – Sunday May 5th the front gym “New Gym” will have basketball games. \nTuesday\, Thursday and Friday evenings 5:30 PM – Close \nSundays 1:00 PM – Close \n 
URL:https://www.ardmorefamilyymca.org/event/front-gym-new-gym-busy-with-jh-basketball-games/2026-05-03/
ATTACH;FMTTYPE=image/webp:https://www.ardmorefamilyymca.org/wp-content/uploads/2025/06/basketball-real.webp
END:VEVENT
BEGIN:VEVENT
DTSTART;TZID=UTC:20260505T173000
DTEND;TZID=UTC:20260505T210000
DTSTAMP:20260419T171543
CREATED:20260416T215925Z
LAST-MODIFIED:20260416T220119Z
UID:23577-1778002200-1778014800@www.ardmorefamilyymca.org
SUMMARY:Front Gym "New Gym" Busy with JH Basketball games
DESCRIPTION:From April 14th – Sunday May 5th the front gym “New Gym” will have basketball games. \nTuesday\, Thursday and Friday evenings 5:30 PM – Close \nSundays 1:00 PM – Close \n 
URL:https://www.ardmorefamilyymca.org/event/front-gym-new-gym-busy-with-jh-basketball-games/2026-05-05/
ATTACH;FMTTYPE=image/webp:https://www.ardmorefamilyymca.org/wp-content/uploads/2025/06/basketball-real.webp
END:VEVENT
BEGIN:VEVENT
DTSTART;TZID=UTC:20260507T173000
DTEND;TZID=UTC:20260507T210000
DTSTAMP:20260419T171543
CREATED:20260416T215925Z
LAST-MODIFIED:20260416T220120Z
UID:23578-1778175000-1778187600@www.ardmorefamilyymca.org
SUMMARY:Front Gym "New Gym" Busy with JH Basketball games
DESCRIPTION:From April 14th – Sunday May 5th the front gym “New Gym” will have basketball games. \nTuesday\, Thursday and Friday evenings 5:30 PM – Close \nSundays 1:00 PM – Close \n 
URL:https://www.ardmorefamilyymca.org/event/front-gym-new-gym-busy-with-jh-basketball-games/2026-05-07/
ATTACH;FMTTYPE=image/webp:https://www.ardmorefamilyymca.org/wp-content/uploads/2025/06/basketball-real.webp
END:VEVENT
BEGIN:VEVENT
DTSTART;TZID=UTC:20260508T173000
DTEND;TZID=UTC:20260508T210000
DTSTAMP:20260419T171543
CREATED:20260416T215925Z
LAST-MODIFIED:20260416T220120Z
UID:23579-1778261400-1778274000@www.ardmorefamilyymca.org
SUMMARY:Front Gym "New Gym" Busy with JH Basketball games
DESCRIPTION:From April 14th – Sunday May 5th the front gym “New Gym” will have basketball games. \nTuesday\, Thursday and Friday evenings 5:30 PM – Close \nSundays 1:00 PM – Close \n 
URL:https://www.ardmorefamilyymca.org/event/front-gym-new-gym-busy-with-jh-basketball-games/2026-05-08/
ATTACH;FMTTYPE=image/webp:https://www.ardmorefamilyymca.org/wp-content/uploads/2025/06/basketball-real.webp
END:VEVENT
BEGIN:VEVENT
DTSTART;TZID=UTC:20260510T130000
DTEND;TZID=UTC:20260510T170000
DTSTAMP:20260419T171543
CREATED:20260416T215925Z
LAST-MODIFIED:20260416T215925Z
UID:23585-1778418000-1778432400@www.ardmorefamilyymca.org
SUMMARY:Front Gym "New Gym" Busy with JH Basketball games
DESCRIPTION:From April 14th – Sunday May 5th the front gym “New Gym” will have basketball games. \nTuesday\, Thursday and Friday evenings 5:30 PM – Close \nSundays 1:00 PM – Close \n 
URL:https://www.ardmorefamilyymca.org/event/front-gym-new-gym-busy-with-jh-basketball-games/2026-05-10/
ATTACH;FMTTYPE=image/webp:https://www.ardmorefamilyymca.org/wp-content/uploads/2025/06/basketball-real.webp
END:VEVENT
END:VCALENDAR