BEGIN:VCALENDAR
VERSION:2.0
PRODID:-//The Ardmore Family YMCA - ECPv6.3.0//NONSGML v1.0//EN
CALSCALE:GREGORIAN
METHOD:PUBLISH
X-ORIGINAL-URL:https://www.ardmorefamilyymca.org
X-WR-CALDESC:Events for The Ardmore Family YMCA
REFRESH-INTERVAL;VALUE=DURATION:PT1H
X-Robots-Tag:noindex
X-PUBLISHED-TTL:PT1H
BEGIN:VTIMEZONE
TZID:UTC
BEGIN:STANDARD
TZOFFSETFROM:+0000
TZOFFSETTO:+0000
TZNAME:UTC
DTSTART:20210101T000000
END:STANDARD
END:VTIMEZONE
BEGIN:VEVENT
DTSTART;TZID=UTC:20210901T100000
DTEND;TZID=UTC:20210901T120000
DTSTAMP:20260420T011524
CREATED:20210806T204250Z
LAST-MODIFIED:20210917T223138Z
UID:12438-1630490400-1630497600@www.ardmorefamilyymca.org
SUMMARY:CPR and AED training
DESCRIPTION:The Ardmore Family YMCA’s CPR and AED course is designed for individuals who desire\, or are required\, to be certified in CPR training and the use of an AED.  Participants will learn through class discussions\, videos\, and hands on training.  This is an American Safety & Health Institute approved class and is not intended for healthcare providers or professional rescuers.  Certification is valid for one year. \nFor more information\, contact Chelsea Radley at 580-223-3990 ext. 106 or email ardmoreyaquatics@gmail.com
URL:https://www.ardmorefamilyymca.org/event/cpr-and-aed-training-3/2021-09-01/
ATTACH;FMTTYPE=image/png:https://www.ardmorefamilyymca.org/wp-content/uploads/2021/08/cpr-training-minus-first-aid.png
END:VEVENT
END:VCALENDAR