BEGIN:VCALENDAR
VERSION:2.0
PRODID:-//The Ardmore Family YMCA - ECPv6.3.0//NONSGML v1.0//EN
CALSCALE:GREGORIAN
METHOD:PUBLISH
X-ORIGINAL-URL:https://www.ardmorefamilyymca.org
X-WR-CALDESC:Events for The Ardmore Family YMCA
REFRESH-INTERVAL;VALUE=DURATION:PT1H
X-Robots-Tag:noindex
X-PUBLISHED-TTL:PT1H
BEGIN:VTIMEZONE
TZID:UTC
BEGIN:STANDARD
TZOFFSETFROM:+0000
TZOFFSETTO:+0000
TZNAME:UTC
DTSTART:20250101T000000
END:STANDARD
END:VTIMEZONE
BEGIN:VEVENT
DTSTART;TZID=UTC:20251217T173000
DTEND;TZID=UTC:20251217T181500
DTSTAMP:20260419T130514
CREATED:20251104T215958Z
LAST-MODIFIED:20251207T173001Z
UID:22376-1765992600-1765995300@www.ardmorefamilyymca.org
SUMMARY:CEREMONY in the WELL Wednesday 5:30 PM
DESCRIPTION:Les Mills Ceremony is a 45-minute circuit training style class that combines strength\, cardio and agility exercises.  It improves strength and cardiovascular fitness\, increases agility and coordination\, challenges multiple muscle groups\, and provides a fun and motivating workout experience. \n\n\n\n\n\n\nThere are 8 stations\, each featuring a different exercise that targets a specific muscle group or movement pattern.  Exercises may include bodyweight exercises\, resistance band exercises\, plyometric exercises\, and more.\n\n\n\n\n\nCeremony in the WELL is designed to be challenging but adaptable to different fitness levels.\n\nCeremony in the WELL is $5 per class for members and $5 per class for nonmembers plus a day pass.\n\nRegistration is required.  Space is limited.
URL:https://www.ardmorefamilyymca.org/event/ceremony-in-the-well-wednesday-530-pm/2025-12-17/
ATTACH;FMTTYPE=image/jpeg:https://www.ardmorefamilyymca.org/wp-content/uploads/2025/09/LES-MILLS-CEREMONY-IMAGE-HR-18-scaled.jpg
END:VEVENT
BEGIN:VEVENT
DTSTART;TZID=UTC:20251210T173000
DTEND;TZID=UTC:20251210T181500
DTSTAMP:20260419T130514
CREATED:20251104T215958Z
LAST-MODIFIED:20251207T173001Z
UID:22375-1765387800-1765390500@www.ardmorefamilyymca.org
SUMMARY:CEREMONY in the WELL Wednesday 5:30 PM
DESCRIPTION:Les Mills Ceremony is a 45-minute circuit training style class that combines strength\, cardio and agility exercises.  It improves strength and cardiovascular fitness\, increases agility and coordination\, challenges multiple muscle groups\, and provides a fun and motivating workout experience. \n\n\n\n\n\n\nThere are 8 stations\, each featuring a different exercise that targets a specific muscle group or movement pattern.  Exercises may include bodyweight exercises\, resistance band exercises\, plyometric exercises\, and more.\n\n\n\n\n\nCeremony in the WELL is designed to be challenging but adaptable to different fitness levels.\n\nCeremony in the WELL is $5 per class for members and $5 per class for nonmembers plus a day pass.\n\nRegistration is required.  Space is limited.
URL:https://www.ardmorefamilyymca.org/event/ceremony-in-the-well-wednesday-530-pm/2025-12-10/
ATTACH;FMTTYPE=image/jpeg:https://www.ardmorefamilyymca.org/wp-content/uploads/2025/09/LES-MILLS-CEREMONY-IMAGE-HR-18-scaled.jpg
END:VEVENT
BEGIN:VEVENT
DTSTART;TZID=UTC:20251203T173000
DTEND;TZID=UTC:20251203T181500
DTSTAMP:20260419T130514
CREATED:20251104T215958Z
LAST-MODIFIED:20251207T173000Z
UID:22374-1764783000-1764785700@www.ardmorefamilyymca.org
SUMMARY:CEREMONY in the WELL Wednesday 5:30 PM
DESCRIPTION:Les Mills Ceremony is a 45-minute circuit training style class that combines strength\, cardio and agility exercises.  It improves strength and cardiovascular fitness\, increases agility and coordination\, challenges multiple muscle groups\, and provides a fun and motivating workout experience. \n\n\n\n\n\n\nThere are 8 stations\, each featuring a different exercise that targets a specific muscle group or movement pattern.  Exercises may include bodyweight exercises\, resistance band exercises\, plyometric exercises\, and more.\n\n\n\n\n\nCeremony in the WELL is designed to be challenging but adaptable to different fitness levels.\n\nCeremony in the WELL is $5 per class for members and $5 per class for nonmembers plus a day pass.\n\nRegistration is required.  Space is limited.
URL:https://www.ardmorefamilyymca.org/event/ceremony-in-the-well-wednesday-530-pm/2025-12-03/
ATTACH;FMTTYPE=image/jpeg:https://www.ardmorefamilyymca.org/wp-content/uploads/2025/09/LES-MILLS-CEREMONY-IMAGE-HR-18-scaled.jpg
END:VEVENT
BEGIN:VEVENT
DTSTART;TZID=UTC:20251126T173000
DTEND;TZID=UTC:20251126T181500
DTSTAMP:20260419T130514
CREATED:20251104T215958Z
LAST-MODIFIED:20251207T172959Z
UID:22373-1764178200-1764180900@www.ardmorefamilyymca.org
SUMMARY:CEREMONY in the WELL Wednesday 5:30 PM
DESCRIPTION:Les Mills Ceremony is a 45-minute circuit training style class that combines strength\, cardio and agility exercises.  It improves strength and cardiovascular fitness\, increases agility and coordination\, challenges multiple muscle groups\, and provides a fun and motivating workout experience. \n\n\n\n\n\n\nThere are 8 stations\, each featuring a different exercise that targets a specific muscle group or movement pattern.  Exercises may include bodyweight exercises\, resistance band exercises\, plyometric exercises\, and more.\n\n\n\n\n\nCeremony in the WELL is designed to be challenging but adaptable to different fitness levels.\n\nCeremony in the WELL is $5 per class for members and $5 per class for nonmembers plus a day pass.\n\nRegistration is required.  Space is limited.
URL:https://www.ardmorefamilyymca.org/event/ceremony-in-the-well-wednesday-530-pm/2025-11-26/
ATTACH;FMTTYPE=image/jpeg:https://www.ardmorefamilyymca.org/wp-content/uploads/2025/09/LES-MILLS-CEREMONY-IMAGE-HR-18-scaled.jpg
END:VEVENT
BEGIN:VEVENT
DTSTART;TZID=UTC:20251119T173000
DTEND;TZID=UTC:20251119T181500
DTSTAMP:20260419T130514
CREATED:20251104T215958Z
LAST-MODIFIED:20251207T172959Z
UID:22372-1763573400-1763576100@www.ardmorefamilyymca.org
SUMMARY:CEREMONY in the WELL Wednesday 5:30 PM
DESCRIPTION:Les Mills Ceremony is a 45-minute circuit training style class that combines strength\, cardio and agility exercises.  It improves strength and cardiovascular fitness\, increases agility and coordination\, challenges multiple muscle groups\, and provides a fun and motivating workout experience. \n\n\n\n\n\n\nThere are 8 stations\, each featuring a different exercise that targets a specific muscle group or movement pattern.  Exercises may include bodyweight exercises\, resistance band exercises\, plyometric exercises\, and more.\n\n\n\n\n\nCeremony in the WELL is designed to be challenging but adaptable to different fitness levels.\n\nCeremony in the WELL is $5 per class for members and $5 per class for nonmembers plus a day pass.\n\nRegistration is required.  Space is limited.
URL:https://www.ardmorefamilyymca.org/event/ceremony-in-the-well-wednesday-530-pm/2025-11-19/
ATTACH;FMTTYPE=image/jpeg:https://www.ardmorefamilyymca.org/wp-content/uploads/2025/09/LES-MILLS-CEREMONY-IMAGE-HR-18-scaled.jpg
END:VEVENT
BEGIN:VEVENT
DTSTART;TZID=UTC:20251112T173000
DTEND;TZID=UTC:20251112T181500
DTSTAMP:20260419T130514
CREATED:20251104T215958Z
LAST-MODIFIED:20251207T172958Z
UID:22371-1762968600-1762971300@www.ardmorefamilyymca.org
SUMMARY:CEREMONY in the WELL Wednesday 5:30 PM
DESCRIPTION:Les Mills Ceremony is a 45-minute circuit training style class that combines strength\, cardio and agility exercises.  It improves strength and cardiovascular fitness\, increases agility and coordination\, challenges multiple muscle groups\, and provides a fun and motivating workout experience. \n\n\n\n\n\n\nThere are 8 stations\, each featuring a different exercise that targets a specific muscle group or movement pattern.  Exercises may include bodyweight exercises\, resistance band exercises\, plyometric exercises\, and more.\n\n\n\n\n\nCeremony in the WELL is designed to be challenging but adaptable to different fitness levels.\n\nCeremony in the WELL is $5 per class for members and $5 per class for nonmembers plus a day pass.\n\nRegistration is required.  Space is limited.
URL:https://www.ardmorefamilyymca.org/event/ceremony-in-the-well-wednesday-530-pm/2025-11-12/
ATTACH;FMTTYPE=image/jpeg:https://www.ardmorefamilyymca.org/wp-content/uploads/2025/09/LES-MILLS-CEREMONY-IMAGE-HR-18-scaled.jpg
END:VEVENT
BEGIN:VEVENT
DTSTART;TZID=UTC:20251105T173000
DTEND;TZID=UTC:20251105T181500
DTSTAMP:20260419T130514
CREATED:20251104T215958Z
LAST-MODIFIED:20251207T172957Z
UID:22370-1762363800-1762366500@www.ardmorefamilyymca.org
SUMMARY:CEREMONY in the WELL Wednesday 5:30 PM
DESCRIPTION:Les Mills Ceremony is a 45-minute circuit training style class that combines strength\, cardio and agility exercises.  It improves strength and cardiovascular fitness\, increases agility and coordination\, challenges multiple muscle groups\, and provides a fun and motivating workout experience. \n\n\n\n\n\n\nThere are 8 stations\, each featuring a different exercise that targets a specific muscle group or movement pattern.  Exercises may include bodyweight exercises\, resistance band exercises\, plyometric exercises\, and more.\n\n\n\n\n\nCeremony in the WELL is designed to be challenging but adaptable to different fitness levels.\n\nCeremony in the WELL is $5 per class for members and $5 per class for nonmembers plus a day pass.\n\nRegistration is required.  Space is limited.
URL:https://www.ardmorefamilyymca.org/event/ceremony-in-the-well-wednesday-530-pm/2025-11-05/
ATTACH;FMTTYPE=image/jpeg:https://www.ardmorefamilyymca.org/wp-content/uploads/2025/09/LES-MILLS-CEREMONY-IMAGE-HR-18-scaled.jpg
END:VEVENT
END:VCALENDAR