BEGIN:VCALENDAR
VERSION:2.0
PRODID:-//The Ardmore Family YMCA - ECPv6.3.0//NONSGML v1.0//EN
CALSCALE:GREGORIAN
METHOD:PUBLISH
X-ORIGINAL-URL:https://www.ardmorefamilyymca.org
X-WR-CALDESC:Events for The Ardmore Family YMCA
REFRESH-INTERVAL;VALUE=DURATION:PT1H
X-Robots-Tag:noindex
X-PUBLISHED-TTL:PT1H
BEGIN:VTIMEZONE
TZID:UTC
BEGIN:STANDARD
TZOFFSETFROM:+0000
TZOFFSETTO:+0000
TZNAME:UTC
DTSTART:20210101T000000
END:STANDARD
END:VTIMEZONE
BEGIN:VEVENT
DTSTART;TZID=UTC:20210208T180000
DTEND;TZID=UTC:20210208T210000
DTSTAMP:20260421T034724
CREATED:20210128T221838Z
LAST-MODIFIED:20210128T221838Z
UID:11335-1612807200-1612818000@www.ardmorefamilyymca.org
SUMMARY:Basketball Games 1st - 4th Grade
DESCRIPTION:Please check with your coach for your teams game schedule.
URL:https://www.ardmorefamilyymca.org/event/basketball-games-1st-4th-grade-2/2021-02-08/
ATTACH;FMTTYPE=image/jpeg:https://www.ardmorefamilyymca.org/wp-content/uploads/2021/01/FB_1200x630-2-1.jpg
END:VEVENT
END:VCALENDAR